BEGIN:VCALENDAR
VERSION:2.0
PRODID:-// - ECPv6.15.13.1//NONSGML v1.0//EN
CALSCALE:GREGORIAN
METHOD:PUBLISH
X-ORIGINAL-URL:https://www.lifecyclesteam.org
X-WR-CALDESC:Events for 
REFRESH-INTERVAL;VALUE=DURATION:PT1H
X-Robots-Tag:noindex
X-PUBLISHED-TTL:PT1H
BEGIN:VTIMEZONE
TZID:America/New_York
BEGIN:DAYLIGHT
TZOFFSETFROM:-0500
TZOFFSETTO:-0400
TZNAME:EDT
DTSTART:20250309T070000
END:DAYLIGHT
BEGIN:STANDARD
TZOFFSETFROM:-0400
TZOFFSETTO:-0500
TZNAME:EST
DTSTART:20251102T060000
END:STANDARD
BEGIN:DAYLIGHT
TZOFFSETFROM:-0500
TZOFFSETTO:-0400
TZNAME:EDT
DTSTART:20260308T070000
END:DAYLIGHT
BEGIN:STANDARD
TZOFFSETFROM:-0400
TZOFFSETTO:-0500
TZNAME:EST
DTSTART:20261101T060000
END:STANDARD
BEGIN:DAYLIGHT
TZOFFSETFROM:-0500
TZOFFSETTO:-0400
TZNAME:EDT
DTSTART:20270314T070000
END:DAYLIGHT
BEGIN:STANDARD
TZOFFSETFROM:-0400
TZOFFSETTO:-0500
TZNAME:EST
DTSTART:20271107T060000
END:STANDARD
END:VTIMEZONE
BEGIN:VEVENT
DTSTART;TZID=America/New_York:20260628T070000
DTEND;TZID=America/New_York:20260628T130000
DTSTAMP:20260419T084507
CREATED:20260308T205001Z
LAST-MODIFIED:20260308T205001Z
UID:8847-1782630000-1782651600@www.lifecyclesteam.org
SUMMARY:Biking for Brittany - Brittany's Hope event ride
DESCRIPTION:Saturday rides are for riders in our upper 3 ride levels who have shown stamina to complete the day’s mileage and exhibit knowledge of road safety.   If you are unsure if your child is eligible please check with Lee DeRemer at 717-586-2511. \nDetails for this particular Saturday – You must sign up with Lee for this ride. \nLunch is provided.
URL:https://www.lifecyclesteam.org/events/biking-for-brittany-brittanys-hope-event-ride/
LOCATION:Brittany’s Hope\, 1160 North Market Street\, Elizabethtown\, PA\, 17022\, United States
END:VEVENT
END:VCALENDAR