BEGIN:VCALENDAR
VERSION:2.0
PRODID:-// - ECPv6.15.13.1//NONSGML v1.0//EN
CALSCALE:GREGORIAN
METHOD:PUBLISH
X-ORIGINAL-URL:https://www.lifecyclesteam.org
X-WR-CALDESC:Events for 
REFRESH-INTERVAL;VALUE=DURATION:PT1H
X-Robots-Tag:noindex
X-PUBLISHED-TTL:PT1H
BEGIN:VTIMEZONE
TZID:America/New_York
BEGIN:DAYLIGHT
TZOFFSETFROM:-0500
TZOFFSETTO:-0400
TZNAME:EDT
DTSTART:20250309T070000
END:DAYLIGHT
BEGIN:STANDARD
TZOFFSETFROM:-0400
TZOFFSETTO:-0500
TZNAME:EST
DTSTART:20251102T060000
END:STANDARD
BEGIN:DAYLIGHT
TZOFFSETFROM:-0500
TZOFFSETTO:-0400
TZNAME:EDT
DTSTART:20260308T070000
END:DAYLIGHT
BEGIN:STANDARD
TZOFFSETFROM:-0400
TZOFFSETTO:-0500
TZNAME:EST
DTSTART:20261101T060000
END:STANDARD
BEGIN:DAYLIGHT
TZOFFSETFROM:-0500
TZOFFSETTO:-0400
TZNAME:EDT
DTSTART:20270314T070000
END:DAYLIGHT
BEGIN:STANDARD
TZOFFSETFROM:-0400
TZOFFSETTO:-0500
TZNAME:EST
DTSTART:20271107T060000
END:STANDARD
END:VTIMEZONE
BEGIN:VEVENT
DTSTART;VALUE=DATE:20260807
DTEND;VALUE=DATE:20260815
DTSTAMP:20260419T111602
CREATED:20260224T153405Z
LAST-MODIFIED:20260224T153405Z
UID:8768-1786060800-1786751999@www.lifecyclesteam.org
SUMMARY:Adirondack Mountains trip #2 - BOYS
DESCRIPTION:For more information about any of our summer challenge rides please call Lee DeRemer at 717-586-2711
URL:https://www.lifecyclesteam.org/events/adirondack-mountains-trip-2-boys/
END:VEVENT
BEGIN:VEVENT
DTSTART;TZID=America/New_York:20260808T073000
DTEND;TZID=America/New_York:20260808T123000
DTSTAMP:20260419T111602
CREATED:20260308T205210Z
LAST-MODIFIED:20260308T205210Z
UID:8851-1786174200-1786192200@www.lifecyclesteam.org
SUMMARY:New Holland area ride
DESCRIPTION:Saturday rides are for riders in our upper 3 ride levels who have shown stamina to complete the day’s mileage and exhibit knowledge of road safety.   If you are unsure if your child is eligible please check with Lee DeRemer at 717-586-2511. \nDetails for this particular Saturday – bring a sandwich
URL:https://www.lifecyclesteam.org/events/new-holland-area-ride/
LOCATION:Freedom Memorial Park\, Millersville\, PA\, 17551\, United States
END:VEVENT
END:VCALENDAR