BEGIN:VCALENDAR
VERSION:2.0
PRODID:-// - ECPv6.15.13.1//NONSGML v1.0//EN
CALSCALE:GREGORIAN
METHOD:PUBLISH
X-ORIGINAL-URL:https://www.lifecyclesteam.org
X-WR-CALDESC:Events for 
REFRESH-INTERVAL;VALUE=DURATION:PT1H
X-Robots-Tag:noindex
X-PUBLISHED-TTL:PT1H
BEGIN:VTIMEZONE
TZID:America/New_York
BEGIN:DAYLIGHT
TZOFFSETFROM:-0500
TZOFFSETTO:-0400
TZNAME:EDT
DTSTART:20210314T070000
END:DAYLIGHT
BEGIN:STANDARD
TZOFFSETFROM:-0400
TZOFFSETTO:-0500
TZNAME:EST
DTSTART:20211107T060000
END:STANDARD
BEGIN:DAYLIGHT
TZOFFSETFROM:-0500
TZOFFSETTO:-0400
TZNAME:EDT
DTSTART:20220313T070000
END:DAYLIGHT
BEGIN:STANDARD
TZOFFSETFROM:-0400
TZOFFSETTO:-0500
TZNAME:EST
DTSTART:20221106T060000
END:STANDARD
BEGIN:DAYLIGHT
TZOFFSETFROM:-0500
TZOFFSETTO:-0400
TZNAME:EDT
DTSTART:20230312T070000
END:DAYLIGHT
BEGIN:STANDARD
TZOFFSETFROM:-0400
TZOFFSETTO:-0500
TZNAME:EST
DTSTART:20231105T060000
END:STANDARD
END:VTIMEZONE
BEGIN:VEVENT
DTSTART;TZID=America/New_York:20220630T180000
DTEND;TZID=America/New_York:20220630T200000
DTSTAMP:20260419T190906
CREATED:20220206T001316Z
LAST-MODIFIED:20220206T001316Z
UID:4666-1656612000-1656619200@www.lifecyclesteam.org
SUMMARY:Boys team ride night - Landisville
DESCRIPTION:Landisville ride nights meet at Amos Herr Park \nCall Marcie DeRemer for more information \n717-586-2711
URL:https://www.lifecyclesteam.org/events/boys-team-ride-night-landisville-10/
LOCATION:Amos Herr Park\, 1700 Nissley Road\, Landisville\, 17538
END:VEVENT
BEGIN:VEVENT
DTSTART;TZID=America/New_York:20220629T180000
DTEND;TZID=America/New_York:20220629T200000
DTSTAMP:20260419T190906
CREATED:20220205T235112Z
LAST-MODIFIED:20220212T003156Z
UID:4630-1656525600-1656532800@www.lifecyclesteam.org
SUMMARY:Boys team ride night - Lititz
DESCRIPTION:New location and night this year! \nCall Marcie DeRemer for more information \n717-586-2711
URL:https://www.lifecyclesteam.org/events/boys-team-ride-night-lititz-8/
LOCATION:Warwick Township Municipal Park\, 315 Clay Road\, Lititz\, Pennsylvania\, 17543
END:VEVENT
BEGIN:VEVENT
DTSTART;TZID=America/New_York:20220628T180000
DTEND;TZID=America/New_York:20220628T200000
DTSTAMP:20260419T190906
CREATED:20220205T224753Z
LAST-MODIFIED:20220517T122634Z
UID:4591-1656439200-1656446400@www.lifecyclesteam.org
SUMMARY:Boys team ride night - Marietta
DESCRIPTION:Marietta location is the pavilion at Riverfront Park \nCall Marcie DeRemer for more information \n717-586-2711
URL:https://www.lifecyclesteam.org/events/boys-team-ride-night-marietta-11/
LOCATION:East Donegal Twp. Riverfront Park\, 551 Vinegar Ferry Road\, Marietta\, PA\, 17547\, United States
END:VEVENT
BEGIN:VEVENT
DTSTART;TZID=America/New_York:20220627T180000
DTEND;TZID=America/New_York:20220627T200000
DTSTAMP:20260419T190906
CREATED:20220205T215356Z
LAST-MODIFIED:20220212T003048Z
UID:4552-1656352800-1656360000@www.lifecyclesteam.org
SUMMARY:Girls team ride night - Lititz
DESCRIPTION:Our girls team meets in Lititz – new location this season! \nCall Marcie DeRemer for more information \n717-586-2711
URL:https://www.lifecyclesteam.org/events/girls-team-ride-night-lititz-9/
LOCATION:Warwick Township Municipal Park\, 315 Clay Road\, Lititz\, Pennsylvania\, 17543
END:VEVENT
BEGIN:VEVENT
DTSTART;TZID=America/New_York:20220625T073000
DTEND;TZID=America/New_York:20220625T123000
DTSTAMP:20260419T190906
CREATED:20220206T005330Z
LAST-MODIFIED:20220517T122114Z
UID:4700-1656142200-1656160200@www.lifecyclesteam.org
SUMMARY:Ice Cream Lovers ride #1
DESCRIPTION:Saturday rides are invitational.  Teens are invited based on their road readiness\, stamina\, ride skill levels and curriculum work. \nThis ride is a favorite of teens and leaders alike! The Ice Cream Lovers ride has 25\, 35\, and 45 mile options. There are stops at Bird In Hand Bakery (on Gibbon Road)\, Lapp Valley Dairy and Oregon Dairy with pastries and ice cream.  No lunch is needed! \nQuestions?  Call Marcie DeRemer at 717-586-2711.
URL:https://www.lifecyclesteam.org/events/ice-cream-lovers-ride-1/
LOCATION:Landis Valley Museum\, 2451 Kissel Hill Road\, Lancaster\, 17601\, United States
END:VEVENT
BEGIN:VEVENT
DTSTART;TZID=America/New_York:20220623T180000
DTEND;TZID=America/New_York:20220623T200000
DTSTAMP:20260419T190906
CREATED:20220206T001221Z
LAST-MODIFIED:20220206T001221Z
UID:4664-1656007200-1656014400@www.lifecyclesteam.org
SUMMARY:Boys team ride night - Landisville
DESCRIPTION:Landisville ride nights meet at Amos Herr Park \nCall Marcie DeRemer for more information \n717-586-2711
URL:https://www.lifecyclesteam.org/events/boys-team-ride-night-landisville-9/
LOCATION:Amos Herr Park\, 1700 Nissley Road\, Landisville\, 17538
END:VEVENT
BEGIN:VEVENT
DTSTART;TZID=America/New_York:20220622T180000
DTEND;TZID=America/New_York:20220622T200000
DTSTAMP:20260419T190906
CREATED:20220205T235018Z
LAST-MODIFIED:20220212T002954Z
UID:4627-1655920800-1655928000@www.lifecyclesteam.org
SUMMARY:Boys team ride night - Lititz
DESCRIPTION:New location and night this year! \nCall Marcie DeRemer for more information \n717-586-2711
URL:https://www.lifecyclesteam.org/events/boys-team-ride-night-litita/
LOCATION:Warwick Township Municipal Park\, 315 Clay Road\, Lititz\, Pennsylvania\, 17543
END:VEVENT
BEGIN:VEVENT
DTSTART;TZID=America/New_York:20220621T180000
DTEND;TZID=America/New_York:20220621T200000
DTSTAMP:20260419T190906
CREATED:20220205T224710Z
LAST-MODIFIED:20220205T224710Z
UID:4589-1655834400-1655841600@www.lifecyclesteam.org
SUMMARY:Boys team ride night - Marietta
DESCRIPTION:Marietta location is the pavilion at Riverfront Park \nCall Marcie DeRemer for more information \n717-586-2711
URL:https://www.lifecyclesteam.org/events/boys-team-ride-night-marietta-10/
LOCATION:East Donegal Twp. Riverfront Park\, 551 Vinegar Ferry Road\, Marietta\, PA\, 17547\, United States
END:VEVENT
BEGIN:VEVENT
DTSTART;TZID=America/New_York:20220620T180000
DTEND;TZID=America/New_York:20220620T200000
DTSTAMP:20260419T190906
CREATED:20220205T215307Z
LAST-MODIFIED:20220212T002920Z
UID:4550-1655748000-1655755200@www.lifecyclesteam.org
SUMMARY:Girls team ride night - Lititz
DESCRIPTION:Our girls team meets in Lititz – new location this season! \nCall Marcie DeRemer for more information \n717-586-2711
URL:https://www.lifecyclesteam.org/events/girls-team-ride-night-lititz-8/
LOCATION:Warwick Township Municipal Park\, 315 Clay Road\, Lititz\, Pennsylvania\, 17543
END:VEVENT
BEGIN:VEVENT
DTSTART;TZID=America/New_York:20220616T180000
DTEND;TZID=America/New_York:20220616T200000
DTSTAMP:20260419T190906
CREATED:20220206T001128Z
LAST-MODIFIED:20220616T173022Z
UID:4662-1655402400-1655409600@www.lifecyclesteam.org
SUMMARY:CANCELLED DUE TO STORMS -- Boys team ride night - Landisville
DESCRIPTION:Landisville ride nights meet at Amos Herr Park \nCall Marcie DeRemer for more information \n717-586-2711
URL:https://www.lifecyclesteam.org/events/boys-team-ride-night-landisville-8/
LOCATION:Amos Herr Park\, 1700 Nissley Road\, Landisville\, 17538
END:VEVENT
BEGIN:VEVENT
DTSTART;TZID=America/New_York:20220615T180000
DTEND;TZID=America/New_York:20220615T200000
DTSTAMP:20260419T190906
CREATED:20220205T234928Z
LAST-MODIFIED:20220212T002838Z
UID:4625-1655316000-1655323200@www.lifecyclesteam.org
SUMMARY:Boys team ride night - Lititz
DESCRIPTION:New location and night this year! \nCall Marcie DeRemer for more information \n717-586-2711
URL:https://www.lifecyclesteam.org/events/boys-team-ride-night-lititz-7/
LOCATION:Warwick Township Municipal Park\, 315 Clay Road\, Lititz\, Pennsylvania\, 17543
END:VEVENT
BEGIN:VEVENT
DTSTART;TZID=America/New_York:20220614T180000
DTEND;TZID=America/New_York:20220614T200000
DTSTAMP:20260419T190906
CREATED:20220205T224601Z
LAST-MODIFIED:20220205T224601Z
UID:4587-1655229600-1655236800@www.lifecyclesteam.org
SUMMARY:Boys team ride night - Marietta
DESCRIPTION:Marietta location is the pavilion at Riverfront Park \nCall Marcie DeRemer for more information \n717-586-2711
URL:https://www.lifecyclesteam.org/events/boys-team-ride-night-marietta-9/
LOCATION:East Donegal Twp. Riverfront Park\, 551 Vinegar Ferry Road\, Marietta\, PA\, 17547\, United States
END:VEVENT
BEGIN:VEVENT
DTSTART;TZID=America/New_York:20220613T180000
DTEND;TZID=America/New_York:20220613T200000
DTSTAMP:20260419T190906
CREATED:20220205T215225Z
LAST-MODIFIED:20220212T002756Z
UID:4548-1655143200-1655150400@www.lifecyclesteam.org
SUMMARY:Girls team ride night - Lititz
DESCRIPTION:Our girls team meets in Lititz – new location this season! \nCall Marcie DeRemer for more information \n717-586-2711
URL:https://www.lifecyclesteam.org/events/girls-team-ride-night-lititz-7/
LOCATION:Warwick Township Municipal Park\, 315 Clay Road\, Lititz\, Pennsylvania\, 17543
END:VEVENT
BEGIN:VEVENT
DTSTART;TZID=America/New_York:20220609T180000
DTEND;TZID=America/New_York:20220609T200000
DTSTAMP:20260419T190906
CREATED:20220206T001033Z
LAST-MODIFIED:20220206T001033Z
UID:4660-1654797600-1654804800@www.lifecyclesteam.org
SUMMARY:Boys team ride night - Landisville
DESCRIPTION:Landisville ride nights meet at Amos Herr Park \nCall Marcie DeRemer for more information \n717-586-2711
URL:https://www.lifecyclesteam.org/events/boys-team-ride-night-landisville-7/
LOCATION:Amos Herr Park\, 1700 Nissley Road\, Landisville\, 17538
END:VEVENT
BEGIN:VEVENT
DTSTART;TZID=America/New_York:20220608T180000
DTEND;TZID=America/New_York:20220608T200000
DTSTAMP:20260419T190906
CREATED:20220205T234755Z
LAST-MODIFIED:20220212T002721Z
UID:4623-1654711200-1654718400@www.lifecyclesteam.org
SUMMARY:Boys team ride night - Lititz
DESCRIPTION:New location and night this year! \nCall Marcie DeRemer for more information \n717-586-2711
URL:https://www.lifecyclesteam.org/events/boys-team-ride-night-lititz-6/
LOCATION:Warwick Township Municipal Park\, 315 Clay Road\, Lititz\, Pennsylvania\, 17543
END:VEVENT
BEGIN:VEVENT
DTSTART;TZID=America/New_York:20220607T180000
DTEND;TZID=America/New_York:20220607T200000
DTSTAMP:20260419T190906
CREATED:20220205T224441Z
LAST-MODIFIED:20220607T204211Z
UID:4585-1654624800-1654632000@www.lifecyclesteam.org
SUMMARY:LAST MINUTE CANCEL -- ugh.   Boys team ride night - Marietta
DESCRIPTION:Marietta location is the pavilion at Riverfront Park \nCall Marcie DeRemer for more information \n717-586-2711
URL:https://www.lifecyclesteam.org/events/boys-team-ride-night-marietta-8/
LOCATION:East Donegal Twp. Riverfront Park\, 551 Vinegar Ferry Road\, Marietta\, PA\, 17547\, United States
END:VEVENT
BEGIN:VEVENT
DTSTART;TZID=America/New_York:20220606T180000
DTEND;TZID=America/New_York:20220606T200000
DTSTAMP:20260419T190906
CREATED:20220205T215041Z
LAST-MODIFIED:20220212T002623Z
UID:4546-1654538400-1654545600@www.lifecyclesteam.org
SUMMARY:Girls team ride night - Lititz
DESCRIPTION:Our girls team meets in Lititz – new location this season! \nCall Marcie DeRemer for more information \n717-586-2711
URL:https://www.lifecyclesteam.org/events/girls-team-ride-night-lititz-6/
LOCATION:Warwick Township Municipal Park\, 315 Clay Road\, Lititz\, Pennsylvania\, 17543
END:VEVENT
BEGIN:VEVENT
DTSTART;TZID=America/New_York:20220604T073000
DTEND;TZID=America/New_York:20220604T113000
DTSTAMP:20260419T190906
CREATED:20220206T004535Z
LAST-MODIFIED:20220517T122012Z
UID:4696-1654327800-1654342200@www.lifecyclesteam.org
SUMMARY:Lancaster Sunrise Rotary Club Ride
DESCRIPTION:Saturday rides are invitational.  Teens are invited based on their road readiness\, stamina\, ride skill levels and curriculum work. \nThe Lancaster Sunrise Rotary Club ride is an event ride with 21 and 44 mile options. Lunch is provided. \nQuestions?  Call Marcie DeRemer at 717-586-2711.
URL:https://www.lifecyclesteam.org/events/rotary-club-ride/
LOCATION:Manheim Township Community Park\, 209 Petersburg Road\, Manheim Township\, PA\, 17601\, United States
END:VEVENT
BEGIN:VEVENT
DTSTART;VALUE=DATE:20220604
DTEND;VALUE=DATE:20220605
DTSTAMP:20260419T190906
CREATED:20220206T004904Z
LAST-MODIFIED:20220206T004904Z
UID:4698-1654300800-1654387199@www.lifecyclesteam.org
SUMMARY:Grand Fondo Lehigh
DESCRIPTION:Saturday rides are invitational.  Teens are invited based on their road readiness\, stamina\, ride skill levels and curriculum work. \nThe Grand Fondo ride is for the Falcon and Raptor teams. Bill Coyne is the point of contact for this event ride. \nQuestions?  Call Bill at 717-880-0432. \n 
URL:https://www.lifecyclesteam.org/events/grand-fondo-lehigh/
LOCATION:PA
END:VEVENT
BEGIN:VEVENT
DTSTART;TZID=America/New_York:20220602T180000
DTEND;TZID=America/New_York:20220602T200000
DTSTAMP:20260419T190906
CREATED:20220206T000932Z
LAST-MODIFIED:20220602T163619Z
UID:4658-1654192800-1654200000@www.lifecyclesteam.org
SUMMARY:CANCELLED DUE TO WEATHER -- Boys team ride night - Landisville
DESCRIPTION:Landisville ride nights meet at Amos Herr Park \nCall Marcie DeRemer for more information \n717-586-2711
URL:https://www.lifecyclesteam.org/events/boys-team-ride-night-landisville-6/
LOCATION:Amos Herr Park\, 1700 Nissley Road\, Landisville\, 17538
END:VEVENT
BEGIN:VEVENT
DTSTART;TZID=America/New_York:20220601T180000
DTEND;TZID=America/New_York:20220601T200000
DTSTAMP:20260419T190906
CREATED:20220205T234648Z
LAST-MODIFIED:20220212T002543Z
UID:4621-1654106400-1654113600@www.lifecyclesteam.org
SUMMARY:Boys team ride night - Lititz
DESCRIPTION:New location and night this year! \nCall Marcie DeRemer for more information \n717-586-2711
URL:https://www.lifecyclesteam.org/events/boys-team-ride-night-lititz-5/
LOCATION:Warwick Township Municipal Park\, 315 Clay Road\, Lititz\, Pennsylvania\, 17543
END:VEVENT
BEGIN:VEVENT
DTSTART;TZID=America/New_York:20220531T180000
DTEND;TZID=America/New_York:20220531T200000
DTSTAMP:20260419T190906
CREATED:20220205T224310Z
LAST-MODIFIED:20220205T224310Z
UID:4583-1654020000-1654027200@www.lifecyclesteam.org
SUMMARY:Boys team ride night - Marietta
DESCRIPTION:Marietta location is the pavilion at Riverfront Park \nCall Marcie DeRemer for more information \n717-586-2711
URL:https://www.lifecyclesteam.org/events/boys-team-ride-night-marietta-7/
LOCATION:East Donegal Twp. Riverfront Park\, 551 Vinegar Ferry Road\, Marietta\, PA\, 17547\, United States
END:VEVENT
BEGIN:VEVENT
DTSTART;VALUE=DATE:20220530
DTEND;VALUE=DATE:20220531
DTSTAMP:20260419T190906
CREATED:20220206T002616Z
LAST-MODIFIED:20220206T002616Z
UID:4681-1653868800-1653955199@www.lifecyclesteam.org
SUMMARY:Memorial Day - no ride tonight
DESCRIPTION:
URL:https://www.lifecyclesteam.org/events/memorial-day-no-ride-tonight/
LOCATION:PA
END:VEVENT
BEGIN:VEVENT
DTSTART;TZID=America/New_York:20220526T180000
DTEND;TZID=America/New_York:20220526T200000
DTSTAMP:20260419T190906
CREATED:20220206T000817Z
LAST-MODIFIED:20220206T000817Z
UID:4656-1653588000-1653595200@www.lifecyclesteam.org
SUMMARY:Boys team ride night - Landisville
DESCRIPTION:Landisville ride nights meet at Amos Herr Park \nCall Marcie DeRemer for more information \n717-586-2711
URL:https://www.lifecyclesteam.org/events/boys-team-ride-night-landisville-5/
LOCATION:Amos Herr Park\, 1700 Nissley Road\, Landisville\, 17538
END:VEVENT
BEGIN:VEVENT
DTSTART;TZID=America/New_York:20220525T180000
DTEND;TZID=America/New_York:20220525T200000
DTSTAMP:20260419T190906
CREATED:20220205T234537Z
LAST-MODIFIED:20220212T002454Z
UID:4619-1653501600-1653508800@www.lifecyclesteam.org
SUMMARY:Boys team ride night - Lititz
DESCRIPTION:New location and night this year! \nCall Marcie DeRemer for more information \n717-586-2711
URL:https://www.lifecyclesteam.org/events/boys-team-ride-night-lititz-4/
LOCATION:Warwick Township Municipal Park\, 315 Clay Road\, Lititz\, Pennsylvania\, 17543
END:VEVENT
BEGIN:VEVENT
DTSTART;TZID=America/New_York:20220524T180000
DTEND;TZID=America/New_York:20220524T200000
DTSTAMP:20260419T190906
CREATED:20220205T224219Z
LAST-MODIFIED:20220205T224219Z
UID:4581-1653415200-1653422400@www.lifecyclesteam.org
SUMMARY:Boys team ride night - Marietta
DESCRIPTION:Marietta location is the pavilion at Riverfront Park \nCall Marcie DeRemer for more information \n717-586-2711
URL:https://www.lifecyclesteam.org/events/boys-team-ride-night-marietta-6/
LOCATION:East Donegal Twp. Riverfront Park\, 551 Vinegar Ferry Road\, Marietta\, PA\, 17547\, United States
END:VEVENT
BEGIN:VEVENT
DTSTART;TZID=America/New_York:20220523T180000
DTEND;TZID=America/New_York:20220523T200000
DTSTAMP:20260419T190906
CREATED:20220205T214843Z
LAST-MODIFIED:20220517T112133Z
UID:4542-1653328800-1653336000@www.lifecyclesteam.org
SUMMARY:Girls team ride night - Lititz
DESCRIPTION:
URL:https://www.lifecyclesteam.org/events/girls-team-ride-night-lititz-4/
LOCATION:Warwick Township Municipal Park\, 315 Clay Road\, Lititz\, Pennsylvania\, 17543
END:VEVENT
BEGIN:VEVENT
DTSTART;TZID=America/New_York:20220521T073000
DTEND;TZID=America/New_York:20220521T120000
DTSTAMP:20260419T190906
CREATED:20220206T003948Z
LAST-MODIFIED:20220517T121737Z
UID:4692-1653118200-1653134400@www.lifecyclesteam.org
SUMMARY:Brownstown Ride
DESCRIPTION:Saturday rides are invitational.  Teens are invited based on their road readiness\, stamina\, ride skill levels and curriculum work. \nThe Brownstown ride has 25\, 35\, and 45 mile options. Riders should bring a sandwich – the rest of the lunch is provided. \nQuestions?  Call Marcie DeRemer at 717-586-2711.
URL:https://www.lifecyclesteam.org/events/brownstown-ride-2/
LOCATION:Emmanuel United Methodist Church\, 11 N Church St SW\, Brownstown\, Pennsylvania\, 17508
END:VEVENT
BEGIN:VEVENT
DTSTART;TZID=America/New_York:20220519T180000
DTEND;TZID=America/New_York:20220519T200000
DTSTAMP:20260419T190906
CREATED:20220206T000712Z
LAST-MODIFIED:20220206T000712Z
UID:4654-1652983200-1652990400@www.lifecyclesteam.org
SUMMARY:Boys team ride night - Landisville
DESCRIPTION:Landisville ride nights meet at Amos Herr Park \nCall Marcie DeRemer for more information \n717-586-2711
URL:https://www.lifecyclesteam.org/events/boys-team-ride-night-landisville-4/
LOCATION:Amos Herr Park\, 1700 Nissley Road\, Landisville\, 17538
END:VEVENT
BEGIN:VEVENT
DTSTART;TZID=America/New_York:20220518T180000
DTEND;TZID=America/New_York:20220518T200000
DTSTAMP:20260419T190906
CREATED:20220205T234427Z
LAST-MODIFIED:20220212T002221Z
UID:4617-1652896800-1652904000@www.lifecyclesteam.org
SUMMARY:Boys team ride night - Lititz
DESCRIPTION:New location and night this year! \nCall Marcie DeRemer for more information \n717-586-2711
URL:https://www.lifecyclesteam.org/events/boys-team-ride-night-lititz-3/
LOCATION:Warwick Township Municipal Park\, 315 Clay Road\, Lititz\, Pennsylvania\, 17543
END:VEVENT
END:VCALENDAR