BEGIN:VCALENDAR
VERSION:2.0
PRODID:-// - ECPv6.15.13.1//NONSGML v1.0//EN
CALSCALE:GREGORIAN
METHOD:PUBLISH
X-ORIGINAL-URL:https://www.lifecyclesteam.org
X-WR-CALDESC:Events for 
REFRESH-INTERVAL;VALUE=DURATION:PT1H
X-Robots-Tag:noindex
X-PUBLISHED-TTL:PT1H
BEGIN:VTIMEZONE
TZID:America/New_York
BEGIN:DAYLIGHT
TZOFFSETFROM:-0500
TZOFFSETTO:-0400
TZNAME:EDT
DTSTART:20210314T070000
END:DAYLIGHT
BEGIN:STANDARD
TZOFFSETFROM:-0400
TZOFFSETTO:-0500
TZNAME:EST
DTSTART:20211107T060000
END:STANDARD
BEGIN:DAYLIGHT
TZOFFSETFROM:-0500
TZOFFSETTO:-0400
TZNAME:EDT
DTSTART:20220313T070000
END:DAYLIGHT
BEGIN:STANDARD
TZOFFSETFROM:-0400
TZOFFSETTO:-0500
TZNAME:EST
DTSTART:20221106T060000
END:STANDARD
BEGIN:DAYLIGHT
TZOFFSETFROM:-0500
TZOFFSETTO:-0400
TZNAME:EDT
DTSTART:20230312T070000
END:DAYLIGHT
BEGIN:STANDARD
TZOFFSETFROM:-0400
TZOFFSETTO:-0500
TZNAME:EST
DTSTART:20231105T060000
END:STANDARD
END:VTIMEZONE
BEGIN:VEVENT
DTSTART;TZID=America/New_York:20220829T180000
DTEND;TZID=America/New_York:20220829T200000
DTSTAMP:20260419T083957
CREATED:20220205T220152Z
LAST-MODIFIED:20220205T220152Z
UID:4568-1661796000-1661803200@www.lifecyclesteam.org
SUMMARY:Girls team final night - pool party!
DESCRIPTION:More details to follow
URL:https://www.lifecyclesteam.org/events/girls-team-final-night-pool-party/
END:VEVENT
BEGIN:VEVENT
DTSTART;TZID=America/New_York:20220825T180000
DTEND;TZID=America/New_York:20220825T200000
DTSTAMP:20260419T083957
CREATED:20220206T001837Z
LAST-MODIFIED:20220825T182220Z
UID:4678-1661450400-1661457600@www.lifecyclesteam.org
SUMMARY:Boys team final night - pool party
DESCRIPTION:Pat & Brenda Moran’s home \n586 Pinkerton Road \nMount Joy 17552
URL:https://www.lifecyclesteam.org/events/boys-team-final-night-pool-party/
LOCATION:Moran Place\, 596 Pinkerton Road\, Mount Joy\, Pennsylvania\, 17552
END:VEVENT
BEGIN:VEVENT
DTSTART;TZID=America/New_York:20220824T180000
DTEND;TZID=America/New_York:20220824T200000
DTSTAMP:20260419T083957
CREATED:20220205T235837Z
LAST-MODIFIED:20220212T005205Z
UID:4644-1661364000-1661371200@www.lifecyclesteam.org
SUMMARY:Boys team ride night - Lititz
DESCRIPTION:New location and night this year! \nCall Marcie DeRemer for more information \n717-586-2711
URL:https://www.lifecyclesteam.org/events/boys-team-ride-night-lititz-15/
LOCATION:Warwick Township Municipal Park\, 315 Clay Road\, Lititz\, Pennsylvania\, 17543
END:VEVENT
BEGIN:VEVENT
DTSTART;TZID=America/New_York:20220823T180000
DTEND;TZID=America/New_York:20220823T200000
DTSTAMP:20260419T083957
CREATED:20220205T225906Z
LAST-MODIFIED:20220205T225906Z
UID:4605-1661277600-1661284800@www.lifecyclesteam.org
SUMMARY:Boys team ride night - Marietta
DESCRIPTION:Marietta location is the pavilion at Riverfront Park \nCall Marcie DeRemer for more information \n717-586-2711
URL:https://www.lifecyclesteam.org/events/boys-team-ride-night-marietta-18/
LOCATION:East Donegal Twp. Riverfront Park\, 551 Vinegar Ferry Road\, Marietta\, PA\, 17547\, United States
END:VEVENT
BEGIN:VEVENT
DTSTART;TZID=America/New_York:20220822T180000
DTEND;TZID=America/New_York:20220822T200000
DTSTAMP:20260419T083957
CREATED:20220205T220017Z
LAST-MODIFIED:20220822T191230Z
UID:4566-1661191200-1661198400@www.lifecyclesteam.org
SUMMARY:CANCELLED DUE TO WEATHER  Girls team ride night – location change for 8/22 to AMOS HERR PARK
DESCRIPTION:Our girls team meets in Lititz – new location this season! \nCall Marcie DeRemer for more information \n717-586-2711
URL:https://www.lifecyclesteam.org/events/girls-team-ride-night-lititz-14/
LOCATION:Amos Herr Park\, 1700 Nissley Road\, Landisville\, 17538
END:VEVENT
BEGIN:VEVENT
DTSTART;TZID=America/New_York:20220821T070000
DTEND;TZID=America/New_York:20220821T150000
DTSTAMP:20260419T083957
CREATED:20220206T010817Z
LAST-MODIFIED:20220517T125250Z
UID:4711-1661065200-1661094000@www.lifecyclesteam.org
SUMMARY:Lancaster Covered Bridge Classic - event ride
DESCRIPTION:Event rides are invitational.  Teens are invited based on their road readiness\, stamina\, ride skill levels and curriculum work. \nThe Lancaster Covered Bridge Classis ride is sponsored by the Lancaster Bicycle Club.  Distances offered are 35\, 62\, and 100 miles.  A meal is provided for this ride. \nExpected finish time for 35 miles – 11 am\, for 62 miles – 1 pm\, for 100 miles – 3 pm. \nQuestions?  Call Marcie DeRemer at 717-586-2711.
URL:https://www.lifecyclesteam.org/events/lancaster-covered-bridge-classic-event-ride/
LOCATION:Listrack\, 100 W. Millport Road\, Lititz\, Pennsylvania\, 17543
END:VEVENT
BEGIN:VEVENT
DTSTART;VALUE=DATE:20220818
DTEND;VALUE=DATE:20220819
DTSTAMP:20260419T083957
CREATED:20220329T182721Z
LAST-MODIFIED:20220329T182721Z
UID:4748-1660780800-1660867199@www.lifecyclesteam.org
SUMMARY:NO RIDE at Landisville tonight
DESCRIPTION:
URL:https://www.lifecyclesteam.org/events/no-ride-at-landisville-tonight-2/
END:VEVENT
BEGIN:VEVENT
DTSTART;TZID=America/New_York:20220817T180000
DTEND;TZID=America/New_York:20220817T200000
DTSTAMP:20260419T083957
CREATED:20220205T235701Z
LAST-MODIFIED:20220817T195445Z
UID:4642-1660759200-1660766400@www.lifecyclesteam.org
SUMMARY:CANCELLED DUE TO WEATHER -- Boys team ride night - Lititz
DESCRIPTION:New location and night this year! \nCall Marcie DeRemer for more information \n717-586-2711
URL:https://www.lifecyclesteam.org/events/boys-team-ride-night-lititz-14/
LOCATION:Warwick Township Municipal Park\, 315 Clay Road\, Lititz\, Pennsylvania\, 17543
END:VEVENT
BEGIN:VEVENT
DTSTART;TZID=America/New_York:20220816T180000
DTEND;TZID=America/New_York:20220816T200000
DTSTAMP:20260419T083957
CREATED:20220205T225811Z
LAST-MODIFIED:20220205T225811Z
UID:4603-1660672800-1660680000@www.lifecyclesteam.org
SUMMARY:Boys team ride night - Marietta
DESCRIPTION:Marietta location is the pavilion at Riverfront Park \nCall Marcie DeRemer for more information \n717-586-2711
URL:https://www.lifecyclesteam.org/events/boys-team-ride-night-marietta-17/
LOCATION:East Donegal Twp. Riverfront Park\, 551 Vinegar Ferry Road\, Marietta\, PA\, 17547\, United States
END:VEVENT
BEGIN:VEVENT
DTSTART;TZID=America/New_York:20220815T180000
DTEND;TZID=America/New_York:20220815T200000
DTSTAMP:20260419T083957
CREATED:20220205T215922Z
LAST-MODIFIED:20220813T175208Z
UID:4564-1660586400-1660593600@www.lifecyclesteam.org
SUMMARY:Girls team ride night - location change for 8/15 to AMOS HERR PARK
DESCRIPTION:  \nCall Marcie DeRemer for more information \n717-586-2711
URL:https://www.lifecyclesteam.org/events/girls-team-ride-night/
LOCATION:Amos Herr Park\, 1700 Nissley Road\, Landisville\, 17538
END:VEVENT
BEGIN:VEVENT
DTSTART;TZID=America/New_York:20220813T073000
DTEND;TZID=America/New_York:20220813T123000
DTSTAMP:20260419T083957
CREATED:20220206T010415Z
LAST-MODIFIED:20220517T125054Z
UID:4709-1660375800-1660393800@www.lifecyclesteam.org
SUMMARY:Marietta SATURDAY ride
DESCRIPTION:Saturday rides are invitational.  Teens are invited based on their road readiness\, stamina\, ride skill levels and curriculum work. \nThe Marietta ride has 25\, 35\, and 45 mile options. Riders should bring a sandwich – the rest of the lunch is provided. \nQuestions?  Call Marcie DeRemer at 717-586-2711.
URL:https://www.lifecyclesteam.org/events/marietta-ride/
LOCATION:East Donegal Twp. Riverfront Park\, 551 Vinegar Ferry Road\, Marietta\, PA\, 17547\, United States
END:VEVENT
BEGIN:VEVENT
DTSTART;TZID=America/New_York:20220811T180000
DTEND;TZID=America/New_York:20220811T200000
DTSTAMP:20260419T083957
CREATED:20220206T001645Z
LAST-MODIFIED:20220206T001645Z
UID:4674-1660240800-1660248000@www.lifecyclesteam.org
SUMMARY:Boys team ride night - Landisville
DESCRIPTION:Landisville ride nights meet at Amos Herr Park \nCall Marcie DeRemer for more information \n717-586-2711
URL:https://www.lifecyclesteam.org/events/boys-team-ride-night-landisville-14/
LOCATION:Amos Herr Park\, 1700 Nissley Road\, Landisville\, 17538
END:VEVENT
BEGIN:VEVENT
DTSTART;TZID=America/New_York:20220810T180000
DTEND;TZID=America/New_York:20220810T200000
DTSTAMP:20260419T083957
CREATED:20220205T235614Z
LAST-MODIFIED:20220327T163347Z
UID:4640-1660154400-1660161600@www.lifecyclesteam.org
SUMMARY:NO RIDE this night at Lititz
DESCRIPTION:Call Marcie DeRemer for more information \n717-586-2711
URL:https://www.lifecyclesteam.org/events/boys-team-ride-night-lititz-13/
LOCATION:Warwick Township Municipal Park\, 315 Clay Road\, Lititz\, Pennsylvania\, 17543
END:VEVENT
BEGIN:VEVENT
DTSTART;TZID=America/New_York:20220809T180000
DTEND;TZID=America/New_York:20220809T200000
DTSTAMP:20260419T083957
CREATED:20220205T225207Z
LAST-MODIFIED:20220205T225207Z
UID:4601-1660068000-1660075200@www.lifecyclesteam.org
SUMMARY:Boys team ride night - Marietta
DESCRIPTION:Marietta location is the pavilion at Riverfront Park \nCall Marcie DeRemer for more information \n717-586-2711
URL:https://www.lifecyclesteam.org/events/boys-team-ride-night-marietta-16/
LOCATION:East Donegal Twp. Riverfront Park\, 551 Vinegar Ferry Road\, Marietta\, PA\, 17547\, United States
END:VEVENT
BEGIN:VEVENT
DTSTART;TZID=America/New_York:20220808T180000
DTEND;TZID=America/New_York:20220808T200000
DTSTAMP:20260419T083957
CREATED:20220205T215829Z
LAST-MODIFIED:20220212T004845Z
UID:4562-1659981600-1659988800@www.lifecyclesteam.org
SUMMARY:Girls team ride night - Lititz
DESCRIPTION:Our girls team meets in Lititz – new location this season! \nCall Marcie DeRemer for more information \n717-586-2711
URL:https://www.lifecyclesteam.org/events/girls-team-ride-night-lititz-13/
LOCATION:Warwick Township Municipal Park\, 315 Clay Road\, Lititz\, Pennsylvania\, 17543
END:VEVENT
BEGIN:VEVENT
DTSTART;TZID=America/New_York:20220801T180000
DTEND;TZID=America/New_York:20220801T200000
DTSTAMP:20260419T083957
CREATED:20220205T215714Z
LAST-MODIFIED:20220212T004706Z
UID:4560-1659376800-1659384000@www.lifecyclesteam.org
SUMMARY:NO RIDE TONIGHT - Girls team
DESCRIPTION:Our girls team meets in Lititz – new location this season! \nCall Marcie DeRemer for more information \n717-586-2711
URL:https://www.lifecyclesteam.org/events/girls-team-ride-night-lititz-12/
END:VEVENT
BEGIN:VEVENT
DTSTART;VALUE=DATE:20220801
DTEND;VALUE=DATE:20220807
DTSTAMP:20260419T083957
CREATED:20220327T184421Z
LAST-MODIFIED:20220327T184421Z
UID:4742-1659312000-1659830399@www.lifecyclesteam.org
SUMMARY:SCR #3 - GAP/C&O Trail ride
DESCRIPTION:Summer Challenge Rides are a wonderful way to ride longer miles over consecutive days with a great group or teens and leaders. \nContact Lee DeRemer for information about a SCR.  717-586-2511
URL:https://www.lifecyclesteam.org/events/scr-3-gap-co-trail-ride/
END:VEVENT
BEGIN:VEVENT
DTSTART;VALUE=DATE:20220730
DTEND;VALUE=DATE:20220815
DTSTAMP:20260419T083957
CREATED:20220327T184512Z
LAST-MODIFIED:20220327T184656Z
UID:4744-1659139200-1660521599@www.lifecyclesteam.org
SUMMARY:Extreme Challenge Ride
DESCRIPTION:This ride begins in Niagara Falls and ends in Lubec\, ME
URL:https://www.lifecyclesteam.org/events/extreme-challenger-ride-from-niagara-falls-to-lubec-maine/
END:VEVENT
BEGIN:VEVENT
DTSTART;VALUE=DATE:20220730
DTEND;VALUE=DATE:20220806
DTSTAMP:20260419T083957
CREATED:20220327T184332Z
LAST-MODIFIED:20220327T184332Z
UID:4740-1659139200-1659743999@www.lifecyclesteam.org
SUMMARY:SCR #2 - to Niagara Falls
DESCRIPTION:Summer Challenge Rides are a wonderful way to ride longer miles over consecutive days with a great group or teens and leaders. \nContact Lee DeRemer for information about a SCR.  717-586-2511
URL:https://www.lifecyclesteam.org/events/scr-2-to-niagara-falls/
END:VEVENT
BEGIN:VEVENT
DTSTART;VALUE=DATE:20220728
DTEND;VALUE=DATE:20220804
DTSTAMP:20260419T083957
CREATED:20220206T002825Z
LAST-MODIFIED:20220327T184249Z
UID:4687-1658966400-1659571199@www.lifecyclesteam.org
SUMMARY:SCR #1 - to Niagara Falls
DESCRIPTION:Summer Challenge Rides are a wonderful way to ride longer miles over consecutive days with a great group or teens and leaders. \nContact Lee DeRemer for information about a SCR.  717-586-2511
URL:https://www.lifecyclesteam.org/events/challenge-rides-this-week/
END:VEVENT
BEGIN:VEVENT
DTSTART;VALUE=DATE:20220728
DTEND;VALUE=DATE:20220729
DTSTAMP:20260419T083957
CREATED:20220206T002740Z
LAST-MODIFIED:20220327T184106Z
UID:4685-1658966400-1659052799@www.lifecyclesteam.org
SUMMARY:No ride at Landisville tonight
DESCRIPTION:
URL:https://www.lifecyclesteam.org/events/no-ride-at-landisville-tonight/
END:VEVENT
BEGIN:VEVENT
DTSTART;TZID=America/New_York:20220727T180000
DTEND;TZID=America/New_York:20220727T200000
DTSTAMP:20260419T083957
CREATED:20220205T235523Z
LAST-MODIFIED:20220212T004558Z
UID:4638-1658944800-1658952000@www.lifecyclesteam.org
SUMMARY:Boys team ride night - Lititz
DESCRIPTION:New location and night this year! \nCall Marcie DeRemer for more information \n717-586-2711
URL:https://www.lifecyclesteam.org/events/boys-team-ride-night-lititz-12/
LOCATION:Warwick Township Municipal Park\, 315 Clay Road\, Lititz\, Pennsylvania\, 17543
END:VEVENT
BEGIN:VEVENT
DTSTART;TZID=America/New_York:20220726T180000
DTEND;TZID=America/New_York:20220726T200000
DTSTAMP:20260419T083957
CREATED:20220205T225121Z
LAST-MODIFIED:20220205T225121Z
UID:4599-1658858400-1658865600@www.lifecyclesteam.org
SUMMARY:Boys team ride night - Marietta
DESCRIPTION:Marietta location is the pavilion at Riverfront Park \nCall Marcie DeRemer for more information \n717-586-2711
URL:https://www.lifecyclesteam.org/events/boys-team-ride-night-marietta-15/
LOCATION:East Donegal Twp. Riverfront Park\, 551 Vinegar Ferry Road\, Marietta\, PA\, 17547\, United States
END:VEVENT
BEGIN:VEVENT
DTSTART;TZID=America/New_York:20220725T180000
DTEND;TZID=America/New_York:20220725T200000
DTSTAMP:20260419T083957
CREATED:20220205T215623Z
LAST-MODIFIED:20220212T004508Z
UID:4558-1658772000-1658779200@www.lifecyclesteam.org
SUMMARY:NO RIDE TONIGHT - Girls team ride
DESCRIPTION:Our girls team meets in Lititz – new location this season! \nCall Marcie DeRemer for more information \n717-586-2711
URL:https://www.lifecyclesteam.org/events/girls-team-ride-lititz-2/
END:VEVENT
BEGIN:VEVENT
DTSTART;VALUE=DATE:20220723
DTEND;VALUE=DATE:20220730
DTSTAMP:20260419T083957
CREATED:20220212T005754Z
LAST-MODIFIED:20220327T183756Z
UID:4727-1658534400-1659139199@www.lifecyclesteam.org
SUMMARY:Girls Team Challenge Ride
DESCRIPTION:The girls’ team is riding to Niagara Falls!  For more details talk to Rose LaVenice.
URL:https://www.lifecyclesteam.org/events/girls-team-challenge-ride/
END:VEVENT
BEGIN:VEVENT
DTSTART;TZID=America/New_York:20220721T180000
DTEND;TZID=America/New_York:20220721T200000
DTSTAMP:20260419T083957
CREATED:20220206T001537Z
LAST-MODIFIED:20220206T001537Z
UID:4672-1658426400-1658433600@www.lifecyclesteam.org
SUMMARY:Boys team ride night - Landisville
DESCRIPTION:Landisville ride nights meet at Amos Herr Park \nCall Marcie DeRemer for more information \n717-586-2711
URL:https://www.lifecyclesteam.org/events/boys-team-ride-night-landisville-13/
LOCATION:Amos Herr Park\, 1700 Nissley Road\, Landisville\, 17538
END:VEVENT
BEGIN:VEVENT
DTSTART;TZID=America/New_York:20220720T180000
DTEND;TZID=America/New_York:20220720T200000
DTSTAMP:20260419T083957
CREATED:20220205T235430Z
LAST-MODIFIED:20220212T004416Z
UID:4636-1658340000-1658347200@www.lifecyclesteam.org
SUMMARY:Boys team ride night - Lititz
DESCRIPTION:New location and night this year! \nCall Marcie DeRemer for more information \n717-586-2711
URL:https://www.lifecyclesteam.org/events/boys-team-ride-night-lititz-11/
LOCATION:Warwick Township Municipal Park\, 315 Clay Road\, Lititz\, Pennsylvania\, 17543
END:VEVENT
BEGIN:VEVENT
DTSTART;TZID=America/New_York:20220719T180000
DTEND;TZID=America/New_York:20220719T200000
DTSTAMP:20260419T083957
CREATED:20220205T225025Z
LAST-MODIFIED:20220205T225025Z
UID:4597-1658253600-1658260800@www.lifecyclesteam.org
SUMMARY:Boys team ride night - Marietta
DESCRIPTION:Marietta location is the pavilion at Riverfront Park \nCall Marcie DeRemer for more information \n717-586-2711
URL:https://www.lifecyclesteam.org/events/boys-team-ride-night-marietta-14/
LOCATION:East Donegal Twp. Riverfront Park\, 551 Vinegar Ferry Road\, Marietta\, PA\, 17547\, United States
END:VEVENT
BEGIN:VEVENT
DTSTART;TZID=America/New_York:20220718T180000
DTEND;TZID=America/New_York:20220718T200000
DTSTAMP:20260419T083957
CREATED:20220205T215524Z
LAST-MODIFIED:20220212T004334Z
UID:4556-1658167200-1658174400@www.lifecyclesteam.org
SUMMARY:Girls team ride night - Lititz
DESCRIPTION:Our girls team meets in Lititz – new location this season! \nCall Marcie DeRemer for more information \n717-586-2711
URL:https://www.lifecyclesteam.org/events/girls-team-ride-night-lititz-11/
LOCATION:Warwick Township Municipal Park\, 315 Clay Road\, Lititz\, Pennsylvania\, 17543
END:VEVENT
BEGIN:VEVENT
DTSTART;TZID=America/New_York:20220716T073000
DTEND;TZID=America/New_York:20220716T133000
DTSTAMP:20260419T083957
CREATED:20220206T010246Z
LAST-MODIFIED:20220517T122336Z
UID:4707-1657956600-1657978200@www.lifecyclesteam.org
SUMMARY:Barnyard Ride
DESCRIPTION:Saturday rides are invitational.  Teens are invited based on their road readiness\, stamina\, ride skill levels and curriculum work. \nThe Barnyard ride has 25\, 35\, and 45 mile options in Lancaster and York counties. Riders should bring a sandwich – the rest of the lunch is provided. \nThis ride begins and ends at the Lee and Marcie’s home.  Bring swimming suits and towels and enjoy a dip in the pool afterward! \nQuestions?  Call Marcie DeRemer at 717-586-2711.
URL:https://www.lifecyclesteam.org/events/barnyard-ride-2/
LOCATION:DeRemer Home\, 6224 Hauser School Road\, York\, PA\, 17406\, United States
END:VEVENT
END:VCALENDAR