BEGIN:VCALENDAR
VERSION:2.0
PRODID:-// - ECPv6.15.13.1//NONSGML v1.0//EN
CALSCALE:GREGORIAN
METHOD:PUBLISH
X-ORIGINAL-URL:https://www.lifecyclesteam.org
X-WR-CALDESC:Events for 
REFRESH-INTERVAL;VALUE=DURATION:PT1H
X-Robots-Tag:noindex
X-PUBLISHED-TTL:PT1H
BEGIN:VTIMEZONE
TZID:America/New_York
BEGIN:DAYLIGHT
TZOFFSETFROM:-0500
TZOFFSETTO:-0400
TZNAME:EDT
DTSTART:20200308T070000
END:DAYLIGHT
BEGIN:STANDARD
TZOFFSETFROM:-0400
TZOFFSETTO:-0500
TZNAME:EST
DTSTART:20201101T060000
END:STANDARD
BEGIN:DAYLIGHT
TZOFFSETFROM:-0500
TZOFFSETTO:-0400
TZNAME:EDT
DTSTART:20210314T070000
END:DAYLIGHT
BEGIN:STANDARD
TZOFFSETFROM:-0400
TZOFFSETTO:-0500
TZNAME:EST
DTSTART:20211107T060000
END:STANDARD
BEGIN:DAYLIGHT
TZOFFSETFROM:-0500
TZOFFSETTO:-0400
TZNAME:EDT
DTSTART:20220313T070000
END:DAYLIGHT
BEGIN:STANDARD
TZOFFSETFROM:-0400
TZOFFSETTO:-0500
TZNAME:EST
DTSTART:20221106T060000
END:STANDARD
BEGIN:DAYLIGHT
TZOFFSETFROM:-0500
TZOFFSETTO:-0400
TZNAME:EDT
DTSTART:20230312T070000
END:DAYLIGHT
BEGIN:STANDARD
TZOFFSETFROM:-0400
TZOFFSETTO:-0500
TZNAME:EST
DTSTART:20231105T060000
END:STANDARD
END:VTIMEZONE
BEGIN:VEVENT
DTSTART;TZID=America/New_York:20220504T180000
DTEND;TZID=America/New_York:20220504T200000
DTSTAMP:20260420T011620
CREATED:20220205T234153Z
LAST-MODIFIED:20220212T001933Z
UID:4613-1651687200-1651694400@www.lifecyclesteam.org
SUMMARY:Boys team ride night - Lititz
DESCRIPTION:New location and night this year! \nCall Marcie DeRemer for more information \n717-586-2711
URL:https://www.lifecyclesteam.org/events/boys-team-ride-night-lititz/
LOCATION:Warwick Township Municipal Park\, 315 Clay Road\, Lititz\, Pennsylvania\, 17543
END:VEVENT
BEGIN:VEVENT
DTSTART;TZID=America/New_York:20220503T180000
DTEND;TZID=America/New_York:20220503T200000
DTSTAMP:20260420T011620
CREATED:20220205T223938Z
LAST-MODIFIED:20220205T223938Z
UID:4575-1651600800-1651608000@www.lifecyclesteam.org
SUMMARY:Boys team ride night - Marietta
DESCRIPTION:Marietta location is the pavilion at Riverfront Park \nCall Marcie DeRemer for more information \n717-586-2711
URL:https://www.lifecyclesteam.org/events/boys-team-ride-night-marietta-3/
LOCATION:East Donegal Twp. Riverfront Park\, 551 Vinegar Ferry Road\, Marietta\, PA\, 17547\, United States
END:VEVENT
BEGIN:VEVENT
DTSTART;TZID=America/New_York:20220502T180000
DTEND;TZID=America/New_York:20220502T200000
DTSTAMP:20260420T011620
CREATED:20220205T214409Z
LAST-MODIFIED:20220212T001859Z
UID:4538-1651514400-1651521600@www.lifecyclesteam.org
SUMMARY:Girls team ride night - Lititz
DESCRIPTION:Our girls team meets in Lititz – new location this season! \nCall Marcie DeRemer for more information \n717-586-2711
URL:https://www.lifecyclesteam.org/events/girls-team-ride-night-lititz-2/
LOCATION:Warwick Township Municipal Park\, 315 Clay Road\, Lititz\, Pennsylvania\, 17543
END:VEVENT
BEGIN:VEVENT
DTSTART;TZID=America/New_York:20220430T100000
DTEND;TZID=America/New_York:20220430T140000
DTSTAMP:20260420T011620
CREATED:20220206T003701Z
LAST-MODIFIED:20220429T115016Z
UID:4690-1651312800-1651327200@www.lifecyclesteam.org
SUMMARY:UPDATED TIME -- York Rail Trail Ride
DESCRIPTION:UPDATE – For those riding Saturday 4/30/2022 at the York Heritage Rail Trail. Use the sign up genius to let us know that you are riding if you are not already signed up. Please let Marcie (717-586-2711) know if you are carpooling.\nWe are pushing back the timing by 1 hour to let the temps warm up a bit. New schedule:\nCarpool meet up at CFC 8:30 am – or –\nMeet up at Indian Rock Elem. School 9:30 am\nRide launch 10 am.\nPlease wear layers of warm clothing\, warm socks\, gloves\, and ear covering. You may bring a backpack to shed layers. Bring a sandwich – the rest of lunch is provided. Let’s ride!2 meet up options for this ride.  You can meet at the ride location at 8:30 OR if you wish to carpool please meet at Community Fellowship Church (200 Bethel Drive Lancaster) at 7:30. If you choose to carpool you must tell Marcie so we have enough seating available.  Thanks! \nThe York Rail Trail ride has 19 and 38 mile options. Any questions?  Call Marcie DeRemer at 717-586-2711.
URL:https://www.lifecyclesteam.org/events/york-rail-trail-ride/
LOCATION:Indian Rock Elementary School\, 1500 Indian Rock Dam Road\, York\, Pennsylvania\, 17403
END:VEVENT
BEGIN:VEVENT
DTSTART;TZID=America/New_York:20220428T180000
DTEND;TZID=America/New_York:20220428T200000
DTSTAMP:20260420T011620
CREATED:20220206T000229Z
LAST-MODIFIED:20220206T000229Z
UID:4648-1651168800-1651176000@www.lifecyclesteam.org
SUMMARY:NO RIDE TONIGHT AT LANDISVILLE
DESCRIPTION:
URL:https://www.lifecyclesteam.org/events/no-ride-tonight-at-landisville/
LOCATION:PA
END:VEVENT
BEGIN:VEVENT
DTSTART;TZID=America/New_York:20220427T180000
DTEND;TZID=America/New_York:20220427T200000
DTSTAMP:20260420T011620
CREATED:20220205T230830Z
LAST-MODIFIED:20220427T163542Z
UID:4610-1651082400-1651089600@www.lifecyclesteam.org
SUMMARY:CANCELLED DUE TO WEATHER - Boys team ride night - Lititz (new location and night)
DESCRIPTION:New location and night this year! \nCall Marcie DeRemer for more information \n717-586-2711
URL:https://www.lifecyclesteam.org/events/boys-team-ride-night-lititz-new-location-and-night/
LOCATION:Warwick Township Municipal Park\, 315 Clay Road\, Lititz\, Pennsylvania\, 17543
END:VEVENT
BEGIN:VEVENT
DTSTART;TZID=America/New_York:20220426T180000
DTEND;TZID=America/New_York:20220426T200000
DTSTAMP:20260420T011620
CREATED:20220205T223702Z
LAST-MODIFIED:20220426T190710Z
UID:4572-1650996000-1651003200@www.lifecyclesteam.org
SUMMARY:CANCELLED DUE TO RAIN   Boys team ride night - Marietta
DESCRIPTION:Marietta location is the pavilion at Riverfront Park \nCall Marcie DeRemer for more information \n717-586-2711
URL:https://www.lifecyclesteam.org/events/boys-team-ride-night-marietta-2/
LOCATION:East Donegal Twp. Riverfront Park\, 551 Vinegar Ferry Road\, Marietta\, PA\, 17547\, United States
END:VEVENT
BEGIN:VEVENT
DTSTART;TZID=America/New_York:20220425T180000
DTEND;TZID=America/New_York:20220425T200000
DTSTAMP:20260420T011620
CREATED:20220205T214250Z
LAST-MODIFIED:20220212T001714Z
UID:4536-1650909600-1650916800@www.lifecyclesteam.org
SUMMARY:Girls team ride night - Lititz
DESCRIPTION:Our girls team meets in Lititz – new location this season! \nCall Marcie DeRemer for more information \n717-586-2711
URL:https://www.lifecyclesteam.org/events/girls-team-ride-night-lititz/
LOCATION:Warwick Township Municipal Park\, 315 Clay Road\, Lititz\, Pennsylvania\, 17543
END:VEVENT
BEGIN:VEVENT
DTSTART;TZID=America/New_York:20220423T090000
DTEND;TZID=America/New_York:20220423T110000
DTSTAMP:20260420T011620
CREATED:20220109T014906Z
LAST-MODIFIED:20220419T120724Z
UID:4522-1650704400-1650711600@www.lifecyclesteam.org
SUMMARY:Bicycle Maintenance Clinic - change of time to 9-11 am
DESCRIPTION:Do you know how to change a bicycle tire?  Fix a flat?  Adjust your brakes or seat post?  If you said “yes” to any of these please join us and help teach our teens some bicycle skills.  If you said “no” then come on out and learn some new skills\, too! \n**Schedule change – the clinic is only in the morning from 9-11 am due to lack of sign ups at other times.
URL:https://www.lifecyclesteam.org/events/bicycle-maintenance-clinic-2/
LOCATION:DeRemer Home\, 6224 Hauser School Road\, York\, PA\, 17406\, United States
END:VEVENT
BEGIN:VEVENT
DTSTART;TZID=America/New_York:20220421T180000
DTEND;TZID=America/New_York:20220421T200000
DTSTAMP:20260420T011620
CREATED:20220206T000131Z
LAST-MODIFIED:20220206T000521Z
UID:4646-1650564000-1650571200@www.lifecyclesteam.org
SUMMARY:Boys team ride night - Landisville
DESCRIPTION:Landisville ride nights meet at Amos Herr Park \nCall Marcie DeRemer for more information \n717-586-2711
URL:https://www.lifecyclesteam.org/events/boys-team-ride-night-landisville/
LOCATION:Amos Herr Park\, 1700 Nissley Road\, Landisville\, 17538
END:VEVENT
BEGIN:VEVENT
DTSTART;TZID=America/New_York:20220420T180000
DTEND;TZID=America/New_York:20220420T200000
DTSTAMP:20260420T011620
CREATED:20220205T230102Z
LAST-MODIFIED:20220212T001617Z
UID:4607-1650477600-1650484800@www.lifecyclesteam.org
SUMMARY:Boys team ride night - Lititz (new location and night)
DESCRIPTION:New location and night this year! \nCall Marcie DeRemer for more information \n717-586-2711
URL:https://www.lifecyclesteam.org/events/boys-team-ride-night-lititz-new-location/
LOCATION:Warwick Township Municipal Park\, 315 Clay Road\, Lititz\, Pennsylvania\, 17543
END:VEVENT
BEGIN:VEVENT
DTSTART;TZID=America/New_York:20220419T180000
DTEND;TZID=America/New_York:20220419T200000
DTSTAMP:20260420T011620
CREATED:20220205T220838Z
LAST-MODIFIED:20220419T105030Z
UID:4570-1650391200-1650398400@www.lifecyclesteam.org
SUMMARY:CANCELLED due to weather - Boys team ride night - Marietta
DESCRIPTION:Marietta location is the pavilion at Riverfront Park \nCall Marcie DeRemer for more information \n717-586-2711
URL:https://www.lifecyclesteam.org/events/boys-team-ride-night-marietta/
LOCATION:East Donegal Twp. Riverfront Park\, 551 Vinegar Ferry Road\, Marietta\, PA\, 17547\, United States
END:VEVENT
BEGIN:VEVENT
DTSTART;TZID=America/New_York:20220418T180000
DTEND;TZID=America/New_York:20220418T200000
DTSTAMP:20260420T011620
CREATED:20220205T214015Z
LAST-MODIFIED:20220327T153136Z
UID:4533-1650304800-1650312000@www.lifecyclesteam.org
SUMMARY:New start date for girls rides - 4/25
DESCRIPTION:Call Marcie DeRemer for more information \n717-586-2711
URL:https://www.lifecyclesteam.org/events/girls-team-ride-night-new-location-this-year/
LOCATION:Warwick Township Municipal Park\, 315 Clay Road\, Lititz\, Pennsylvania\, 17543
END:VEVENT
BEGIN:VEVENT
DTSTART;VALUE=DATE:20220409
DTEND;VALUE=DATE:20220410
DTSTAMP:20260420T011620
CREATED:20220212T223505Z
LAST-MODIFIED:20220214T015831Z
UID:4729-1649462400-1649548799@www.lifecyclesteam.org
SUMMARY:See new date for maintenance clinic - moved to 4/23
DESCRIPTION:
URL:https://www.lifecyclesteam.org/events/new-date-for-maintenance-clinic-moved-to-4-23/
LOCATION:PA
END:VEVENT
BEGIN:VEVENT
DTSTART;TZID=America/New_York:20220329T180000
DTEND;TZID=America/New_York:20220329T200000
DTSTAMP:20260420T011620
CREATED:20220109T014217Z
LAST-MODIFIED:20220109T014217Z
UID:4520-1648576800-1648584000@www.lifecyclesteam.org
SUMMARY:Leader Meeting #2
DESCRIPTION:Please join us as we prepare for the 2022 ride season.  Dinner is provided.
URL:https://www.lifecyclesteam.org/events/leader-meeting-2-2/
LOCATION:Community Fellowship Church\, 200 Bethel Dr.\, Lancaster\, PA\, 17601\, United States
END:VEVENT
BEGIN:VEVENT
DTSTART;TZID=America/New_York:20220217T180000
DTEND;TZID=America/New_York:20220217T200000
DTSTAMP:20260420T011620
CREATED:20220109T013958Z
LAST-MODIFIED:20220109T013958Z
UID:4518-1645120800-1645128000@www.lifecyclesteam.org
SUMMARY:Leader Meeting #1
DESCRIPTION:Please join us as we prepare for the 2022 ride season.  Dinner is provided.
URL:https://www.lifecyclesteam.org/events/leader-meeting-1/
LOCATION:Community Fellowship Church\, 200 Bethel Dr.\, Lancaster\, PA\, 17601\, United States
END:VEVENT
BEGIN:VEVENT
DTSTART;TZID=America/New_York:20211212T100000
DTEND;TZID=America/New_York:20211212T150000
DTSTAMP:20260420T011620
CREATED:20210118T185819Z
LAST-MODIFIED:20211014T142602Z
UID:3654-1639303200-1639321200@www.lifecyclesteam.org
SUMMARY:Gifts That Give Hope - Alternative Gift Fair
DESCRIPTION:Join us in PERSON back at the Farm & Home Center on SUNDAY December 12\, 2021 for the 14th annual alternative gift fair where you can purchase meaning-filled gifts for everyone on your shopping list!! Alternative gifts\, social enterprise\, fair trade\, business for good\, environmentally & ethically sourced gifts available. Join us from 10am-3pm and bring a friend for lunch!! \n  \n 
URL:https://www.lifecyclesteam.org/events/gifts-that-give-hope-alternative-gift-fair-2/
LOCATION:Lancaster Farm and Home Center\, 1383 Arcadia Road\, Lancaster\, PA\, 17601\, United States
END:VEVENT
BEGIN:VEVENT
DTSTART;TZID=America/New_York:20211205T130000
DTEND;TZID=America/New_York:20211205T160000
DTSTAMP:20260420T011620
CREATED:20210118T185906Z
LAST-MODIFIED:20211203T180606Z
UID:3656-1638709200-1638720000@www.lifecyclesteam.org
SUMMARY:Cancelled - Leader Christmas Party
DESCRIPTION:Join us for a pot-luck meal and fellowship for leaders and spouse/friend.  Throughout the year we don’t get much time to visit and get to know our fellow leaders – this afternoon is a great opportunity to do that!  RSVP to Marcie for planning purposes.  717-586-2711
URL:https://www.lifecyclesteam.org/events/leader-christmas-party/
LOCATION:DeRemer Home\, 6224 Hauser School Road\, York\, PA\, 17406\, United States
END:VEVENT
BEGIN:VEVENT
DTSTART;TZID=America/New_York:20211114T130000
DTEND;TZID=America/New_York:20211114T160000
DTSTAMP:20260420T011620
CREATED:20210118T185651Z
LAST-MODIFIED:20211014T141443Z
UID:3650-1636894800-1636905600@www.lifecyclesteam.org
SUMMARY:Thanksgiving Celebration - end of season
DESCRIPTION:Please join us for a recap of the ride season honoring our teens’ accomplishments this year.  Teens who completed their curriculum will be awarded their LIFECYCLES jersey. This event is for families of teens and leaders.  The first half is the program and the second half is for fellowship and refreshments.  Please RSVP to Marcie by November 7th for planning purposes.  717-586-2711
URL:https://www.lifecyclesteam.org/events/thanksgiving-celebration-end-of-season/
LOCATION:Community Fellowship Church\, 200 Bethel Dr.\, Lancaster\, PA\, 17601\, United States
END:VEVENT
BEGIN:VEVENT
DTSTART;TZID=America/New_York:20211023T073000
DTEND;TZID=America/New_York:20211023T150000
DTSTAMP:20260420T011620
CREATED:20210118T185436Z
LAST-MODIFIED:20211021T235141Z
UID:3646-1634974200-1635001200@www.lifecyclesteam.org
SUMMARY:Gettysburg Battlefield Ride
DESCRIPTION:Ride details: \nMeet at Community Fellowship Church at 7:30 for carpooling to Gettysburg -OR- meet at the Gettysburg Battlefield Visitor Center (1195 Baltimore Pike) at 9:00.  Lunch is provided.  We expect to return to CFC at 3:00.  There are 3 rides loops.  Here are the Ride With GPS links for those rides: \n  \n\n\nOSPREYS.  25 miles.\nhttps://ridewithgps.com/routes/37721875\n\nHAWKS.  33 miles.\nhttps://ridewithgps.com/routes/37724210 \n\nFALCONS.  44 miles.\nhttps://ridewithgps.com/routes/37721827\n\n\n  \nSaturday and event rides are invitational. They are based on each rider’s progress through the curriculum and their cycling ability\, the ride distance\, and the terrain of the ride. \n  \n  \n  \n  \n  \n  \n 
URL:https://www.lifecyclesteam.org/events/gettysburg-battlefield-ride/
LOCATION:Community Fellowship Church\, 200 Bethel Dr.\, Lancaster\, PA\, 17601\, United States
END:VEVENT
BEGIN:VEVENT
DTSTART;TZID=America/New_York:20211012T180000
DTEND;TZID=America/New_York:20211012T200000
DTSTAMP:20260420T011620
CREATED:20210204T003702Z
LAST-MODIFIED:20211006T205032Z
UID:3688-1634061600-1634068800@www.lifecyclesteam.org
SUMMARY:Leader Meeting
DESCRIPTION:
URL:https://www.lifecyclesteam.org/events/leader-meeting-9/
LOCATION:Calvary Bible Church\, 629 Union School Road\, Mount Joy\, PA\, 17552\, United States
END:VEVENT
BEGIN:VEVENT
DTSTART;TZID=America/New_York:20211009T073000
DTEND;TZID=America/New_York:20211009T133000
DTSTAMP:20260420T011620
CREATED:20210118T185348Z
LAST-MODIFIED:20210118T185348Z
UID:3643-1633764600-1633786200@www.lifecyclesteam.org
SUMMARY:Ephrata Ride
DESCRIPTION:Saturday and event rides are invitational. They are based on each rider’s progress through the curriculum and their cycling ability\, the ride distance\, and the terrain of the ride.
URL:https://www.lifecyclesteam.org/events/ephrata-ride/
LOCATION:Ephrata Township Park\, 436 E. Fulton Street\, Ephrata\, Pennsylvania\, 17522
END:VEVENT
BEGIN:VEVENT
DTSTART;TZID=America/New_York:20210911T080000
DTEND;TZID=America/New_York:20210911T130000
DTSTAMP:20260420T011620
CREATED:20210118T185042Z
LAST-MODIFIED:20210714T113255Z
UID:3641-1631347200-1631365200@www.lifecyclesteam.org
SUMMARY:Middletown Ride
DESCRIPTION:Saturday and event rides are invitational. They are based on each rider’s progress through the curriculum and their cycling ability\, the ride distance\, and the terrain of the ride.
URL:https://www.lifecyclesteam.org/events/middletown-ride/
LOCATION:East Donegal Twp. Riverfront Park\, 551 Vinegar Ferry Road\, Marietta\, PA\, 17547\, United States
END:VEVENT
BEGIN:VEVENT
DTSTART;TZID=America/New_York:20210831T180000
DTEND;TZID=America/New_York:20210831T200000
DTSTAMP:20260420T011620
CREATED:20210118T162117Z
LAST-MODIFIED:20210204T003422Z
UID:3576-1630432800-1630440000@www.lifecyclesteam.org
SUMMARY:Pool Party - Boys Teams
DESCRIPTION:
URL:https://www.lifecyclesteam.org/events/boys-team-ride-riverfront-park-north-of-marietta-35/
LOCATION:PA
END:VEVENT
BEGIN:VEVENT
DTSTART;TZID=America/New_York:20210830T180000
DTEND;TZID=America/New_York:20210830T200000
DTSTAMP:20260420T011620
CREATED:20210118T024019Z
LAST-MODIFIED:20210204T003520Z
UID:3534-1630346400-1630353600@www.lifecyclesteam.org
SUMMARY:Pool Party - Girls Team Ride
DESCRIPTION:
URL:https://www.lifecyclesteam.org/events/girls-team-ride-furniture-4u-lititz-34/
LOCATION:PA
END:VEVENT
BEGIN:VEVENT
DTSTART;TZID=America/New_York:20210826T180000
DTEND;TZID=America/New_York:20210826T200000
DTSTAMP:20260420T011620
CREATED:20210118T170644Z
LAST-MODIFIED:20210118T170644Z
UID:3619-1630000800-1630008000@www.lifecyclesteam.org
SUMMARY:Boys’ Team Ride – New Holland Community Memorial Park
DESCRIPTION:
URL:https://www.lifecyclesteam.org/events/boys-team-ride-new-holland-community-memorial-park-8/
LOCATION:New Holland Community Memorial Park\, 400 Jackson Street\, New Holland\, PA\, 17557\, United States
END:VEVENT
BEGIN:VEVENT
DTSTART;TZID=America/New_York:20210826T180000
DTEND;TZID=America/New_York:20210826T200000
DTSTAMP:20260420T011620
CREATED:20210118T170318Z
LAST-MODIFIED:20210118T170502Z
UID:3615-1630000800-1630008000@www.lifecyclesteam.org
SUMMARY:Boys’ Team Ride – Amos Herr Park\, Landisville
DESCRIPTION:
URL:https://www.lifecyclesteam.org/events/boys-team-ride-amos-herr-park-landisville-30/
LOCATION:Amos Herr Park\, 1700 Nissley Road\, Landisville\, 17538
END:VEVENT
BEGIN:VEVENT
DTSTART;TZID=America/New_York:20210824T180000
DTEND;TZID=America/New_York:20210824T200000
DTSTAMP:20260420T011620
CREATED:20210118T162035Z
LAST-MODIFIED:20210118T162035Z
UID:3574-1629828000-1629835200@www.lifecyclesteam.org
SUMMARY:Boys’ Team Ride – Riverfront Park\, north of Marietta
DESCRIPTION:
URL:https://www.lifecyclesteam.org/events/boys-team-ride-riverfront-park-north-of-marietta-34/
LOCATION:East Donegal Twp. Riverfront Park\, 551 Vinegar Ferry Road\, Marietta\, PA\, 17547\, United States
END:VEVENT
BEGIN:VEVENT
DTSTART;TZID=America/New_York:20210823T180000
DTEND;TZID=America/New_York:20210823T200000
DTSTAMP:20260420T011620
CREATED:20210118T023943Z
LAST-MODIFIED:20210118T023943Z
UID:3532-1629741600-1629748800@www.lifecyclesteam.org
SUMMARY:Girls’ Team Ride – Furniture 4U\, Lititz
DESCRIPTION:
URL:https://www.lifecyclesteam.org/events/girls-team-ride-furniture-4u-lititz-33/
LOCATION:Furniture4U\, 243 S. Broad Street\, Lititz\, PA\, 17543\, United States
END:VEVENT
BEGIN:VEVENT
DTSTART;TZID=America/New_York:20210821T080000
DTEND;TZID=America/New_York:20210821T120000
DTSTAMP:20260420T011620
CREATED:20210118T184750Z
LAST-MODIFIED:20210606T144128Z
UID:3637-1629532800-1629547200@www.lifecyclesteam.org
SUMMARY:Ice Cream Ride #2
DESCRIPTION:Saturday and event rides are invitational. They are based on each rider’s progress through the curriculum and their cycling ability\, the ride distance\, and the terrain of the ride.
URL:https://www.lifecyclesteam.org/events/ice-cream-ride-2/
LOCATION:Landis Valley Museum\, 2451 Kissel Hill Road\, Lancaster\, 17601\, United States
END:VEVENT
END:VCALENDAR