BEGIN:VCALENDAR
VERSION:2.0
PRODID:-// - ECPv6.15.13.1//NONSGML v1.0//EN
CALSCALE:GREGORIAN
METHOD:PUBLISH
X-ORIGINAL-URL:https://www.lifecyclesteam.org
X-WR-CALDESC:Events for 
REFRESH-INTERVAL;VALUE=DURATION:PT1H
X-Robots-Tag:noindex
X-PUBLISHED-TTL:PT1H
BEGIN:VTIMEZONE
TZID:America/New_York
BEGIN:DAYLIGHT
TZOFFSETFROM:-0500
TZOFFSETTO:-0400
TZNAME:EDT
DTSTART:20200308T070000
END:DAYLIGHT
BEGIN:STANDARD
TZOFFSETFROM:-0400
TZOFFSETTO:-0500
TZNAME:EST
DTSTART:20201101T060000
END:STANDARD
BEGIN:DAYLIGHT
TZOFFSETFROM:-0500
TZOFFSETTO:-0400
TZNAME:EDT
DTSTART:20210314T070000
END:DAYLIGHT
BEGIN:STANDARD
TZOFFSETFROM:-0400
TZOFFSETTO:-0500
TZNAME:EST
DTSTART:20211107T060000
END:STANDARD
BEGIN:DAYLIGHT
TZOFFSETFROM:-0500
TZOFFSETTO:-0400
TZNAME:EDT
DTSTART:20220313T070000
END:DAYLIGHT
BEGIN:STANDARD
TZOFFSETFROM:-0400
TZOFFSETTO:-0500
TZNAME:EST
DTSTART:20221106T060000
END:STANDARD
END:VTIMEZONE
BEGIN:VEVENT
DTSTART;VALUE=DATE:20210610
DTEND;VALUE=DATE:20210611
DTSTAMP:20260420T223712
CREATED:20210118T202840Z
LAST-MODIFIED:20210118T202840Z
UID:3660-1623283200-1623369599@www.lifecyclesteam.org
SUMMARY:NO New Holland rides - June 3rd through August 13th
DESCRIPTION:
URL:https://www.lifecyclesteam.org/events/no-new-holland-rides-june-3rd-through-august-13th-2/
LOCATION:PA
END:VEVENT
BEGIN:VEVENT
DTSTART;TZID=America/New_York:20210608T180000
DTEND;TZID=America/New_York:20210608T200000
DTSTAMP:20260420T223712
CREATED:20210118T160327Z
LAST-MODIFIED:20210118T160327Z
UID:3549-1623175200-1623182400@www.lifecyclesteam.org
SUMMARY:Boys’ Team Ride – Riverfront Park\, north of Marietta
DESCRIPTION:
URL:https://www.lifecyclesteam.org/events/boys-team-ride-riverfront-park-north-of-marietta-26/
LOCATION:East Donegal Twp. Riverfront Park\, 551 Vinegar Ferry Road\, Marietta\, PA\, 17547\, United States
END:VEVENT
BEGIN:VEVENT
DTSTART;TZID=America/New_York:20210607T180000
DTEND;TZID=America/New_York:20210607T200000
DTSTAMP:20260420T223712
CREATED:20210118T022740Z
LAST-MODIFIED:20210118T022740Z
UID:3506-1623088800-1623096000@www.lifecyclesteam.org
SUMMARY:Girls’ Team Ride – Furniture 4U\, Lititz
DESCRIPTION:
URL:https://www.lifecyclesteam.org/events/girls-team-ride-furniture-4u-lititz-22/
LOCATION:Furniture4U\, 243 S. Broad Street\, Lititz\, PA\, 17543\, United States
END:VEVENT
BEGIN:VEVENT
DTSTART;TZID=America/New_York:20210605T073000
DTEND;TZID=America/New_York:20210605T140000
DTSTAMP:20260420T223712
CREATED:20210118T171547Z
LAST-MODIFIED:20210118T171547Z
UID:3627-1622878200-1622901600@www.lifecyclesteam.org
SUMMARY:Garden Spot Village Ride
DESCRIPTION:Saturday and event rides are invitational. They are based on each rider’s progress through the curriculum and their cycling ability\, the ride distance\, and the terrain of the ride.
URL:https://www.lifecyclesteam.org/events/garden-spot-village-ride/
LOCATION:New Holland Community Memorial Park\, 400 Jackson Street\, New Holland\, PA\, 17557\, United States
END:VEVENT
BEGIN:VEVENT
DTSTART;TZID=America/New_York:20210603T180000
DTEND;TZID=America/New_York:20210603T200000
DTSTAMP:20260420T223712
CREATED:20210118T165036Z
LAST-MODIFIED:20210603T153118Z
UID:3589-1622743200-1622750400@www.lifecyclesteam.org
SUMMARY:CANCELLED DUE TO WEATHER -- Boys’ Team Ride – Amos Herr Park\, Landisville
DESCRIPTION:
URL:https://www.lifecyclesteam.org/events/boys-team-ride-amos-herr-park-landisville-22/
LOCATION:Amos Herr Park\, 1700 Nissley Road\, Landisville\, 17538
END:VEVENT
BEGIN:VEVENT
DTSTART;VALUE=DATE:20210603
DTEND;VALUE=DATE:20210604
DTSTAMP:20260420T223712
CREATED:20210118T202759Z
LAST-MODIFIED:20210118T202759Z
UID:3658-1622678400-1622764799@www.lifecyclesteam.org
SUMMARY:NO New Holland rides - June 3rd through August 13th
DESCRIPTION:
URL:https://www.lifecyclesteam.org/events/no-new-holland-rides-june-3rd-through-august-13th/
LOCATION:PA
END:VEVENT
BEGIN:VEVENT
DTSTART;TZID=America/New_York:20210601T180000
DTEND;TZID=America/New_York:20210601T200000
DTSTAMP:20260420T223712
CREATED:20210118T160137Z
LAST-MODIFIED:20210118T160137Z
UID:3545-1622570400-1622577600@www.lifecyclesteam.org
SUMMARY:Boys’ Team Ride – Riverfront Park\, north of Marietta
DESCRIPTION:
URL:https://www.lifecyclesteam.org/events/boys-team-ride-riverfront-park-north-of-marietta-24/
LOCATION:East Donegal Twp. Riverfront Park\, 551 Vinegar Ferry Road\, Marietta\, PA\, 17547\, United States
END:VEVENT
BEGIN:VEVENT
DTSTART;VALUE=DATE:20210531
DTEND;VALUE=DATE:20210601
DTSTAMP:20260420T223712
CREATED:20210118T022616Z
LAST-MODIFIED:20210118T022616Z
UID:3504-1622419200-1622505599@www.lifecyclesteam.org
SUMMARY:Happy Memorial Day - no girls ride tonight
DESCRIPTION:
URL:https://www.lifecyclesteam.org/events/happy-memorial-day-no-girls-ride-tonight/
LOCATION:PA
END:VEVENT
BEGIN:VEVENT
DTSTART;TZID=America/New_York:20210527T180000
DTEND;TZID=America/New_York:20210527T200000
DTSTAMP:20260420T223712
CREATED:20210118T165005Z
LAST-MODIFIED:20210118T165005Z
UID:3587-1622138400-1622145600@www.lifecyclesteam.org
SUMMARY:Boys’ Team Ride – Amos Herr Park\, Landisville
DESCRIPTION:
URL:https://www.lifecyclesteam.org/events/boys-team-ride-amos-herr-park-landisville-21/
LOCATION:Amos Herr Park\, 1700 Nissley Road\, Landisville\, 17538
END:VEVENT
BEGIN:VEVENT
DTSTART;TZID=America/New_York:20210527T180000
DTEND;TZID=America/New_York:20210527T200000
DTSTAMP:20260420T223712
CREATED:20210118T021423Z
LAST-MODIFIED:20210118T021423Z
UID:3488-1622138400-1622145600@www.lifecyclesteam.org
SUMMARY:Boys' Team Ride - New Holland Community Memorial Park
DESCRIPTION:
URL:https://www.lifecyclesteam.org/events/boys-team-ride-new-holland-community-memorial-park-6/
LOCATION:New Holland Community Memorial Park\, 400 Jackson Street\, New Holland\, PA\, 17557\, United States
END:VEVENT
BEGIN:VEVENT
DTSTART;TZID=America/New_York:20210525T180000
DTEND;TZID=America/New_York:20210525T200000
DTSTAMP:20260420T223712
CREATED:20210118T160033Z
LAST-MODIFIED:20210118T160033Z
UID:3543-1621965600-1621972800@www.lifecyclesteam.org
SUMMARY:Boys’ Team Ride – Riverfront Park\, north of Marietta
DESCRIPTION:
URL:https://www.lifecyclesteam.org/events/boys-team-ride-riverfront-park-north-of-marietta-23/
LOCATION:East Donegal Twp. Riverfront Park\, 551 Vinegar Ferry Road\, Marietta\, PA\, 17547\, United States
END:VEVENT
BEGIN:VEVENT
DTSTART;TZID=America/New_York:20210524T180000
DTEND;TZID=America/New_York:20210524T200000
DTSTAMP:20260420T223712
CREATED:20210118T022445Z
LAST-MODIFIED:20210118T022445Z
UID:3502-1621879200-1621886400@www.lifecyclesteam.org
SUMMARY:Girls’ Team Ride – Furniture 4U\, Lititz
DESCRIPTION:
URL:https://www.lifecyclesteam.org/events/girls-team-ride-furniture-4u-lititz-21/
LOCATION:Furniture4U\, 243 S. Broad Street\, Lititz\, PA\, 17543\, United States
END:VEVENT
BEGIN:VEVENT
DTSTART;TZID=America/New_York:20210522T073000
DTEND;TZID=America/New_York:20210522T140000
DTSTAMP:20260420T223712
CREATED:20210118T171429Z
LAST-MODIFIED:20210118T224624Z
UID:3623-1621668600-1621692000@www.lifecyclesteam.org
SUMMARY:Brownstown Ride
DESCRIPTION:Saturday and event rides are invitational. They are based on each rider’s progress through the curriculum and their cycling ability\, the ride distance\, and the terrain of the ride.
URL:https://www.lifecyclesteam.org/events/brownstown-ride/
LOCATION:Emmanuel United Methodist Church\, 11 N Church St SW\, Brownstown\, Pennsylvania\, 17508
END:VEVENT
BEGIN:VEVENT
DTSTART;TZID=America/New_York:20210520T180000
DTEND;TZID=America/New_York:20210520T200000
DTSTAMP:20260420T223712
CREATED:20210118T164904Z
LAST-MODIFIED:20210118T164904Z
UID:3585-1621533600-1621540800@www.lifecyclesteam.org
SUMMARY:Boys’ Team Ride – Amos Herr Park\, Landisville
DESCRIPTION:
URL:https://www.lifecyclesteam.org/events/boys-team-ride-amos-herr-park-landisville-20/
LOCATION:Amos Herr Park\, 1700 Nissley Road\, Landisville\, 17538
END:VEVENT
BEGIN:VEVENT
DTSTART;TZID=America/New_York:20210520T180000
DTEND;TZID=America/New_York:20210520T200000
DTSTAMP:20260420T223712
CREATED:20210118T021224Z
LAST-MODIFIED:20210118T021224Z
UID:3486-1621533600-1621540800@www.lifecyclesteam.org
SUMMARY:Boys' Team Ride - New Holland Community Memorial Park
DESCRIPTION:
URL:https://www.lifecyclesteam.org/events/boys-team-ride-new-holland-community-memorial-park-5/
LOCATION:New Holland Community Memorial Park\, 400 Jackson Street\, New Holland\, PA\, 17557\, United States
END:VEVENT
BEGIN:VEVENT
DTSTART;TZID=America/New_York:20210518T180000
DTEND;TZID=America/New_York:20210518T200000
DTSTAMP:20260420T223712
CREATED:20210118T160006Z
LAST-MODIFIED:20210118T160006Z
UID:3541-1621360800-1621368000@www.lifecyclesteam.org
SUMMARY:Boys’ Team Ride – Riverfront Park\, north of Marietta
DESCRIPTION:
URL:https://www.lifecyclesteam.org/events/boys-team-ride-riverfront-park-north-of-marietta-22/
LOCATION:East Donegal Twp. Riverfront Park\, 551 Vinegar Ferry Road\, Marietta\, PA\, 17547\, United States
END:VEVENT
BEGIN:VEVENT
DTSTART;TZID=America/New_York:20210517T180000
DTEND;TZID=America/New_York:20210517T200000
DTSTAMP:20260420T223712
CREATED:20210118T023536Z
LAST-MODIFIED:20210118T023536Z
UID:3520-1621274400-1621281600@www.lifecyclesteam.org
SUMMARY:Girls’ Team Ride – Furniture 4U\, Lititz
DESCRIPTION:
URL:https://www.lifecyclesteam.org/events/girls-team-ride-furniture-4u-lititz-28/
LOCATION:Furniture4U\, 243 S. Broad Street\, Lititz\, PA\, 17543\, United States
END:VEVENT
BEGIN:VEVENT
DTSTART;TZID=America/New_York:20210513T180000
DTEND;TZID=America/New_York:20210513T200000
DTSTAMP:20260420T223712
CREATED:20210118T163822Z
LAST-MODIFIED:20210118T163822Z
UID:3583-1620928800-1620936000@www.lifecyclesteam.org
SUMMARY:Boys’ Team Ride – Amos Herr Park\, Landisville
DESCRIPTION:
URL:https://www.lifecyclesteam.org/events/boys-team-ride-amos-herr-park-landisville-19/
LOCATION:Amos Herr Park\, 1700 Nissley Road\, Landisville\, 17538
END:VEVENT
BEGIN:VEVENT
DTSTART;TZID=America/New_York:20210513T180000
DTEND;TZID=America/New_York:20210513T200000
DTSTAMP:20260420T223712
CREATED:20210118T021139Z
LAST-MODIFIED:20210118T021139Z
UID:3484-1620928800-1620936000@www.lifecyclesteam.org
SUMMARY:Boys' Team Ride - New Holland Community Memorial Park
DESCRIPTION:
URL:https://www.lifecyclesteam.org/events/boys-team-ride-new-holland-community-memorial-park-4/
LOCATION:New Holland Community Memorial Park\, 400 Jackson Street\, New Holland\, PA\, 17557\, United States
END:VEVENT
BEGIN:VEVENT
DTSTART;TZID=America/New_York:20210511T180000
DTEND;TZID=America/New_York:20210511T200000
DTSTAMP:20260420T223712
CREATED:20210118T155926Z
LAST-MODIFIED:20210118T155926Z
UID:3539-1620756000-1620763200@www.lifecyclesteam.org
SUMMARY:Boys’ Team Ride – Riverfront Park\, north of Marietta
DESCRIPTION:
URL:https://www.lifecyclesteam.org/events/boys-team-ride-riverfront-park-north-of-marietta-21/
LOCATION:East Donegal Twp. Riverfront Park\, 551 Vinegar Ferry Road\, Marietta\, PA\, 17547\, United States
END:VEVENT
BEGIN:VEVENT
DTSTART;TZID=America/New_York:20210510T180000
DTEND;TZID=America/New_York:20210510T200000
DTSTAMP:20260420T223712
CREATED:20210118T022402Z
LAST-MODIFIED:20210118T022402Z
UID:3500-1620669600-1620676800@www.lifecyclesteam.org
SUMMARY:Girls’ Team Ride – Furniture 4U\, Lititz
DESCRIPTION:
URL:https://www.lifecyclesteam.org/events/girls-team-ride-furniture-4u-lititz-20/
LOCATION:Furniture4U\, 243 S. Broad Street\, Lititz\, PA\, 17543\, United States
END:VEVENT
BEGIN:VEVENT
DTSTART;TZID=America/New_York:20210506T180000
DTEND;TZID=America/New_York:20210506T200000
DTSTAMP:20260420T223712
CREATED:20210118T163409Z
LAST-MODIFIED:20210118T163409Z
UID:3581-1620324000-1620331200@www.lifecyclesteam.org
SUMMARY:Boys’ Team Ride – Amos Herr Park\, Landisville
DESCRIPTION:
URL:https://www.lifecyclesteam.org/events/boys-team-ride-amos-herr-park-landisville-18/
LOCATION:Amos Herr Park\, 1700 Nissley Road\, Landisville\, 17538
END:VEVENT
BEGIN:VEVENT
DTSTART;TZID=America/New_York:20210506T180000
DTEND;TZID=America/New_York:20210506T200000
DTSTAMP:20260420T223712
CREATED:20210118T021100Z
LAST-MODIFIED:20210118T021100Z
UID:3482-1620324000-1620331200@www.lifecyclesteam.org
SUMMARY:Boys' Team Ride - New Holland Community Memorial Park
DESCRIPTION:
URL:https://www.lifecyclesteam.org/events/boys-team-ride-new-holland-community-memorial-park-3/
LOCATION:New Holland Community Memorial Park\, 400 Jackson Street\, New Holland\, PA\, 17557\, United States
END:VEVENT
BEGIN:VEVENT
DTSTART;TZID=America/New_York:20210504T180000
DTEND;TZID=America/New_York:20210504T200000
DTSTAMP:20260420T223712
CREATED:20210118T155708Z
LAST-MODIFIED:20210118T155708Z
UID:3536-1620151200-1620158400@www.lifecyclesteam.org
SUMMARY:Boys' Team Ride - Riverfront Park\, north of Marietta
DESCRIPTION:
URL:https://www.lifecyclesteam.org/events/boys-team-ride-riverfront-park-north-of-marietta-20/
LOCATION:East Donegal Twp. Riverfront Park\, 551 Vinegar Ferry Road\, Marietta\, PA\, 17547\, United States
END:VEVENT
BEGIN:VEVENT
DTSTART;TZID=America/New_York:20210503T180000
DTEND;TZID=America/New_York:20210503T200000
DTSTAMP:20260420T223712
CREATED:20210118T022305Z
LAST-MODIFIED:20210503T184545Z
UID:3498-1620064800-1620072000@www.lifecyclesteam.org
SUMMARY:CANCELLED DUE TO WEATHER -- Girls’ Team Ride – Furniture 4U\, Lititz
DESCRIPTION:
URL:https://www.lifecyclesteam.org/events/girls-team-ride-furniture-4u-lititz-19/
LOCATION:Furniture4U\, 243 S. Broad Street\, Lititz\, PA\, 17543\, United States
END:VEVENT
BEGIN:VEVENT
DTSTART;TZID=America/New_York:20210501T073000
DTEND;TZID=America/New_York:20210501T140000
DTSTAMP:20260420T223712
CREATED:20210118T171126Z
LAST-MODIFIED:20210425T154133Z
UID:3621-1619854200-1619877600@www.lifecyclesteam.org
SUMMARY:York Heritage Rail Trail Ride
DESCRIPTION:Saturday and event rides are invitational. They are based on each rider’s progress through the curriculum and their cycling ability\, the ride distance\, and the terrain of the ride.
URL:https://www.lifecyclesteam.org/events/york-heritage-rail-trail-ride-3/
LOCATION:Indian Rock Elementary School\, 1500 Indian Rock Dam Road\, York\, Pennsylvania\, 17403
END:VEVENT
BEGIN:VEVENT
DTSTART;TZID=America/New_York:20210429T180000
DTEND;TZID=America/New_York:20210429T200000
DTSTAMP:20260420T223712
CREATED:20210118T020958Z
LAST-MODIFIED:20210429T185234Z
UID:3479-1619719200-1619726400@www.lifecyclesteam.org
SUMMARY:CANCELLED DUE TO WEATHER - Boys' Team Ride - New Holland Community Memorial Park
DESCRIPTION:
URL:https://www.lifecyclesteam.org/events/boys-team-ride-new-holland-community-memorial-park-2/
LOCATION:New Holland Community Memorial Park\, 400 Jackson Street\, New Holland\, PA\, 17557\, United States
END:VEVENT
BEGIN:VEVENT
DTSTART;TZID=America/New_York:20210429T180000
DTEND;TZID=America/New_York:20210429T200000
DTSTAMP:20260420T223712
CREATED:20210118T020856Z
LAST-MODIFIED:20210429T185217Z
UID:3477-1619719200-1619726400@www.lifecyclesteam.org
SUMMARY:CANCELLED DUE TO WEATHER - Boys' Team Ride - Amos Herr Park\, Landisville
DESCRIPTION:
URL:https://www.lifecyclesteam.org/events/boys-team-ride-amos-herr-park-landisville-17/
LOCATION:Amos Herr Park\, 1700 Nissley Road\, Landisville\, 17538
END:VEVENT
BEGIN:VEVENT
DTSTART;TZID=America/New_York:20210427T180000
DTEND;TZID=America/New_York:20210427T200000
DTSTAMP:20260420T223712
CREATED:20210118T020740Z
LAST-MODIFIED:20210426T141433Z
UID:3474-1619546400-1619553600@www.lifecyclesteam.org
SUMMARY:Boys' Team Ride - Riverfront Park\, north of Marietta
DESCRIPTION:
URL:https://www.lifecyclesteam.org/events/boys-team-ride-riverfront-park-north-of-marietta-18/
LOCATION:East Donegal Twp. Riverfront Park\, 551 Vinegar Ferry Road\, Marietta\, PA\, 17547\, United States
END:VEVENT
BEGIN:VEVENT
DTSTART;TZID=America/New_York:20210426T180000
DTEND;TZID=America/New_York:20210426T200000
DTSTAMP:20260420T223712
CREATED:20210118T020627Z
LAST-MODIFIED:20210426T203414Z
UID:3470-1619460000-1619467200@www.lifecyclesteam.org
SUMMARY:CANCELLED DUE TO ILLNESS - Girls' Team Ride - Furniture 4U\, Lititz
DESCRIPTION:
URL:https://www.lifecyclesteam.org/events/girls-team-ride-furniture-4u-lititz-18/
LOCATION:Furniture4U\, 243 S. Broad Street\, Lititz\, PA\, 17543\, United States
END:VEVENT
END:VCALENDAR