BEGIN:VCALENDAR
VERSION:2.0
PRODID:-// - ECPv6.15.13.1//NONSGML v1.0//EN
CALSCALE:GREGORIAN
METHOD:PUBLISH
X-ORIGINAL-URL:https://www.lifecyclesteam.org
X-WR-CALDESC:Events for 
REFRESH-INTERVAL;VALUE=DURATION:PT1H
X-Robots-Tag:noindex
X-PUBLISHED-TTL:PT1H
BEGIN:VTIMEZONE
TZID:America/New_York
BEGIN:DAYLIGHT
TZOFFSETFROM:-0500
TZOFFSETTO:-0400
TZNAME:EDT
DTSTART:20190310T070000
END:DAYLIGHT
BEGIN:STANDARD
TZOFFSETFROM:-0400
TZOFFSETTO:-0500
TZNAME:EST
DTSTART:20191103T060000
END:STANDARD
BEGIN:DAYLIGHT
TZOFFSETFROM:-0500
TZOFFSETTO:-0400
TZNAME:EDT
DTSTART:20200308T070000
END:DAYLIGHT
BEGIN:STANDARD
TZOFFSETFROM:-0400
TZOFFSETTO:-0500
TZNAME:EST
DTSTART:20201101T060000
END:STANDARD
BEGIN:DAYLIGHT
TZOFFSETFROM:-0500
TZOFFSETTO:-0400
TZNAME:EDT
DTSTART:20210314T070000
END:DAYLIGHT
BEGIN:STANDARD
TZOFFSETFROM:-0400
TZOFFSETTO:-0500
TZNAME:EST
DTSTART:20211107T060000
END:STANDARD
END:VTIMEZONE
BEGIN:VEVENT
DTSTART;TZID=America/New_York:20200811T180000
DTEND;TZID=America/New_York:20200811T200000
DTSTAMP:20260421T000637
CREATED:20191213T022501Z
LAST-MODIFIED:20191213T022501Z
UID:3004-1597168800-1597176000@www.lifecyclesteam.org
SUMMARY:Boys’ Team Ride – Riverfront Park\, north of Marietta
DESCRIPTION:
URL:https://www.lifecyclesteam.org/events/boys-team-ride-riverfront-park-north-of-marietta-15/
LOCATION:East Donegal Twp. Riverfront Park\, 551 Vinegar Ferry Road\, Marietta\, PA\, 17547\, United States
END:VEVENT
BEGIN:VEVENT
DTSTART;TZID=America/New_York:20200810T180000
DTEND;TZID=America/New_York:20200810T200000
DTSTAMP:20260421T000637
CREATED:20191213T031835Z
LAST-MODIFIED:20191213T031835Z
UID:3126-1597082400-1597089600@www.lifecyclesteam.org
SUMMARY:Girls’ Team Ride - Furniture 4U\, Lititz
DESCRIPTION:
URL:https://www.lifecyclesteam.org/events/girls-team-ride-furniture-4u-lititz-15/
LOCATION:Furniture4U\, 243 S. Broad Street\, Lititz\, PA\, 17543\, United States
END:VEVENT
BEGIN:VEVENT
DTSTART;TZID=America/New_York:20200806T180000
DTEND;TZID=America/New_York:20200806T200000
DTSTAMP:20260421T000637
CREATED:20200710T130345Z
LAST-MODIFIED:20200806T215907Z
UID:3390-1596736800-1596744000@www.lifecyclesteam.org
SUMMARY:CANCELLED DUE TO WEATHER   Boys’ Team Ride – New Holland Community Memorial Park
DESCRIPTION:
URL:https://www.lifecyclesteam.org/events/boys-team-ride-new-holland-community-memorial-park/
LOCATION:Pennsylvania
END:VEVENT
BEGIN:VEVENT
DTSTART;VALUE=DATE:20200806
DTEND;VALUE=DATE:20200807
DTSTAMP:20260421T000637
CREATED:20200710T124937Z
LAST-MODIFIED:20200710T125028Z
UID:3385-1596672000-1596758399@www.lifecyclesteam.org
SUMMARY:NO AMOS HERR (LANDISVILLE) RIDE THIS WEEK
DESCRIPTION:
URL:https://www.lifecyclesteam.org/events/no-amos-herr-landisville-ride-this-week/
LOCATION:Pennsylvania
END:VEVENT
BEGIN:VEVENT
DTSTART;VALUE=DATE:20200805
DTEND;VALUE=DATE:20200806
DTSTAMP:20260421T000637
CREATED:20200710T124652Z
LAST-MODIFIED:20200710T124652Z
UID:3379-1596585600-1596671999@www.lifecyclesteam.org
SUMMARY:Challenge Ride – Day ride #3
DESCRIPTION:
URL:https://www.lifecyclesteam.org/events/challenge-ride-day-ride-3/
LOCATION:Pennsylvania
END:VEVENT
BEGIN:VEVENT
DTSTART;VALUE=DATE:20200804
DTEND;VALUE=DATE:20200805
DTSTAMP:20260421T000637
CREATED:20200710T124910Z
LAST-MODIFIED:20200710T124910Z
UID:3383-1596499200-1596585599@www.lifecyclesteam.org
SUMMARY:NO MARIETTA RIDE THIS WEEK
DESCRIPTION:
URL:https://www.lifecyclesteam.org/events/no-marietta-ride-this-week-2/
LOCATION:Pennsylvania
END:VEVENT
BEGIN:VEVENT
DTSTART;TZID=America/New_York:20200803T180000
DTEND;TZID=America/New_York:20200803T200000
DTSTAMP:20260421T000637
CREATED:20191213T031803Z
LAST-MODIFIED:20200710T125214Z
UID:3124-1596477600-1596484800@www.lifecyclesteam.org
SUMMARY:Girls' Team ride - Furniture 4U\, Lititz
DESCRIPTION:
URL:https://www.lifecyclesteam.org/events/no-girls-team-ride-tonight-2/
LOCATION:Pennsylvania
END:VEVENT
BEGIN:VEVENT
DTSTART;VALUE=DATE:20200803
DTEND;VALUE=DATE:20200804
DTSTAMP:20260421T000637
CREATED:20200710T124630Z
LAST-MODIFIED:20200710T124630Z
UID:3377-1596412800-1596499199@www.lifecyclesteam.org
SUMMARY:Challenge Ride – Day ride #2
DESCRIPTION:
URL:https://www.lifecyclesteam.org/events/challenge-ride-day-ride-2/
LOCATION:Pennsylvania
END:VEVENT
BEGIN:VEVENT
DTSTART;VALUE=DATE:20200801
DTEND;VALUE=DATE:20200802
DTSTAMP:20260421T000637
CREATED:20191213T030224Z
LAST-MODIFIED:20200710T124319Z
UID:3088-1596240000-1596326399@www.lifecyclesteam.org
SUMMARY:Challenge Ride - Day ride #1
DESCRIPTION:
URL:https://www.lifecyclesteam.org/events/extreme-challenge-ride-niagara-falls-to-albany-ny/
LOCATION:Pennsylvania
END:VEVENT
BEGIN:VEVENT
DTSTART;VALUE=DATE:20200730
DTEND;VALUE=DATE:20200731
DTSTAMP:20260421T000637
CREATED:20191213T025807Z
LAST-MODIFIED:20200610T160422Z
UID:3082-1596067200-1596153599@www.lifecyclesteam.org
SUMMARY:Boys’ Team Ride – New Holland Community Memorial Park
DESCRIPTION:
URL:https://www.lifecyclesteam.org/events/no-garden-spot-village-ride-tonight/
LOCATION:Pennsylvania
END:VEVENT
BEGIN:VEVENT
DTSTART;VALUE=DATE:20200730
DTEND;VALUE=DATE:20200731
DTSTAMP:20260421T000637
CREATED:20191213T024227Z
LAST-MODIFIED:20200710T125156Z
UID:3042-1596067200-1596153599@www.lifecyclesteam.org
SUMMARY:Boys' Team Ride - Amos Herr Park\, Landisville
DESCRIPTION:
URL:https://www.lifecyclesteam.org/events/no-amos-herr-ride-tonight-2/
LOCATION:Pennsylvania
END:VEVENT
BEGIN:VEVENT
DTSTART;TZID=America/New_York:20200728T180000
DTEND;TZID=America/New_York:20200728T200000
DTSTAMP:20260421T000637
CREATED:20191213T022431Z
LAST-MODIFIED:20191213T022431Z
UID:3002-1595959200-1595966400@www.lifecyclesteam.org
SUMMARY:Boys’ Team Ride – Riverfront Park\, north of Marietta
DESCRIPTION:
URL:https://www.lifecyclesteam.org/events/boys-team-ride-riverfront-park-north-of-marietta-14/
LOCATION:East Donegal Twp. Riverfront Park\, 551 Vinegar Ferry Road\, Marietta\, PA\, 17547\, United States
END:VEVENT
BEGIN:VEVENT
DTSTART;TZID=America/New_York:20200727T180000
DTEND;TZID=America/New_York:20200727T200000
DTSTAMP:20260421T000637
CREATED:20191213T031727Z
LAST-MODIFIED:20191213T031727Z
UID:3122-1595872800-1595880000@www.lifecyclesteam.org
SUMMARY:Girls’ Team Ride - Furniture 4U\, Lititz
DESCRIPTION:
URL:https://www.lifecyclesteam.org/events/girls-team-ride-furniture-4u-lititz-14/
LOCATION:Furniture4U\, 243 S. Broad Street\, Lititz\, PA\, 17543\, United States
END:VEVENT
BEGIN:VEVENT
DTSTART;TZID=America/New_York:20200723T180000
DTEND;TZID=America/New_York:20200723T200000
DTSTAMP:20260421T000637
CREATED:20191213T025733Z
LAST-MODIFIED:20200723T204635Z
UID:3080-1595527200-1595534400@www.lifecyclesteam.org
SUMMARY:CANCELLED DUE TO WEATHER -- Boys’ Team Ride – New Holland Community Memorial Park
DESCRIPTION:
URL:https://www.lifecyclesteam.org/events/boys-team-ride-garden-spot-village-new-holland-16/
LOCATION:New Holland Community Memorial Park\, 400 Jackson Street\, New Holland\, PA\, 17557\, United States
END:VEVENT
BEGIN:VEVENT
DTSTART;TZID=America/New_York:20200723T180000
DTEND;TZID=America/New_York:20200723T200000
DTSTAMP:20260421T000637
CREATED:20191213T024150Z
LAST-MODIFIED:20200719T190221Z
UID:3040-1595527200-1595534400@www.lifecyclesteam.org
SUMMARY:CANCELLED -- Boys’ Team Ride – Amos Herr Park\, Landisville
DESCRIPTION:
URL:https://www.lifecyclesteam.org/events/boys-team-ride-amos-herr-park-landisville-14/
LOCATION:Amos Herr Park\, 1700 Nissley Road\, Landisville\, 17538
END:VEVENT
BEGIN:VEVENT
DTSTART;TZID=America/New_York:20200721T180000
DTEND;TZID=America/New_York:20200721T200000
DTSTAMP:20260421T000637
CREATED:20191213T022328Z
LAST-MODIFIED:20200721T202112Z
UID:3000-1595354400-1595361600@www.lifecyclesteam.org
SUMMARY:CANCELLED DUE TO WEATHER            Boys’ Team Ride – Riverfront Park\, north of Marietta
DESCRIPTION:
URL:https://www.lifecyclesteam.org/events/boys-team-ride-riverfront-park-north-of-marietta-13/
LOCATION:East Donegal Twp. Riverfront Park\, 551 Vinegar Ferry Road\, Marietta\, PA\, 17547\, United States
END:VEVENT
BEGIN:VEVENT
DTSTART;TZID=America/New_York:20200720T180000
DTEND;TZID=America/New_York:20200720T200000
DTSTAMP:20260421T000637
CREATED:20191213T031458Z
LAST-MODIFIED:20191213T031458Z
UID:3120-1595268000-1595275200@www.lifecyclesteam.org
SUMMARY:Girls’ Team Ride - Furniture 4U\, Lititz
DESCRIPTION:
URL:https://www.lifecyclesteam.org/events/girls-team-ride-furniture-4u-lititz-13/
LOCATION:Furniture4U\, 243 S. Broad Street\, Lititz\, PA\, 17543\, United States
END:VEVENT
BEGIN:VEVENT
DTSTART;TZID=America/New_York:20200718T073000
DTEND;TZID=America/New_York:20200718T150000
DTSTAMP:20260421T000637
CREATED:20200610T145746Z
LAST-MODIFIED:20200610T145746Z
UID:3361-1595057400-1595084400@www.lifecyclesteam.org
SUMMARY:Saturday Ride
DESCRIPTION:
URL:https://www.lifecyclesteam.org/events/saturday-ride-8/
LOCATION:Pennsylvania
END:VEVENT
BEGIN:VEVENT
DTSTART;TZID=America/New_York:20200716T180000
DTEND;TZID=America/New_York:20200716T200000
DTSTAMP:20260421T000637
CREATED:20191213T025704Z
LAST-MODIFIED:20200610T160516Z
UID:3078-1594922400-1594929600@www.lifecyclesteam.org
SUMMARY:Boys’ Team Ride – New Holland Community Memorial Park
DESCRIPTION:
URL:https://www.lifecyclesteam.org/events/boys-team-ride-garden-spot-village-new-holland-15/
LOCATION:New Holland Community Memorial Park\, 400 Jackson Street\, New Holland\, PA\, 17557\, United States
END:VEVENT
BEGIN:VEVENT
DTSTART;TZID=America/New_York:20200716T180000
DTEND;TZID=America/New_York:20200716T200000
DTSTAMP:20260421T000637
CREATED:20191213T023730Z
LAST-MODIFIED:20191213T023730Z
UID:3036-1594922400-1594929600@www.lifecyclesteam.org
SUMMARY:Boys’ Team Ride – Amos Herr Park\, Landisville
DESCRIPTION:
URL:https://www.lifecyclesteam.org/events/boys-team-ride-amos-herr-park-landisville-13/
LOCATION:Amos Herr Park\, 1700 Nissley Road\, Landisville\, 17538
END:VEVENT
BEGIN:VEVENT
DTSTART;TZID=America/New_York:20200714T180000
DTEND;TZID=America/New_York:20200714T200000
DTSTAMP:20260421T000637
CREATED:20191213T022257Z
LAST-MODIFIED:20200605T234437Z
UID:2998-1594749600-1594756800@www.lifecyclesteam.org
SUMMARY:Boys' Team Ride – Riverfront Park\, north of Marietta
DESCRIPTION:
URL:https://www.lifecyclesteam.org/events/boys-team-ride-riverfront-park-north-of-marietta-12/
LOCATION:East Donegal Twp. Riverfront Park\, 551 Vinegar Ferry Road\, Marietta\, PA\, 17547\, United States
END:VEVENT
BEGIN:VEVENT
DTSTART;TZID=America/New_York:20200713T180000
DTEND;TZID=America/New_York:20200713T200000
DTSTAMP:20260421T000637
CREATED:20191213T031423Z
LAST-MODIFIED:20191213T031423Z
UID:3118-1594663200-1594670400@www.lifecyclesteam.org
SUMMARY:Girls’ Team Ride - Furniture 4U\, Lititz
DESCRIPTION:
URL:https://www.lifecyclesteam.org/events/girls-team-ride-furniture-4u-lititz-12/
LOCATION:Furniture4U\, 243 S. Broad Street\, Lititz\, PA\, 17543\, United States
END:VEVENT
BEGIN:VEVENT
DTSTART;TZID=America/New_York:20200711T073000
DTEND;TZID=America/New_York:20200711T150000
DTSTAMP:20260421T000637
CREATED:20191214T011954Z
LAST-MODIFIED:20191214T011954Z
UID:3144-1594452600-1594479600@www.lifecyclesteam.org
SUMMARY:Saturday Ride
DESCRIPTION:Saturday rides are invitational. They are based on each rider’s progress through the curriculum and their cycling ability\, the ride distance\, and the terrain of the ride.
URL:https://www.lifecyclesteam.org/events/saturday-ride-5/
LOCATION:Pennsylvania
END:VEVENT
BEGIN:VEVENT
DTSTART;TZID=America/New_York:20200709T180000
DTEND;TZID=America/New_York:20200709T200000
DTSTAMP:20260421T000637
CREATED:20191213T025634Z
LAST-MODIFIED:20200610T160311Z
UID:3076-1594317600-1594324800@www.lifecyclesteam.org
SUMMARY:Boys’ Team Ride – New Holland Community Memorial Park
DESCRIPTION:NEW LOCATION!!
URL:https://www.lifecyclesteam.org/events/boys-team-ride-garden-spot-village-new-holland-14/
LOCATION:New Holland Community Memorial Park\, 400 Jackson Street\, New Holland\, PA\, 17557\, United States
END:VEVENT
BEGIN:VEVENT
DTSTART;TZID=America/New_York:20200709T180000
DTEND;TZID=America/New_York:20200709T200000
DTSTAMP:20260421T000637
CREATED:20191213T023644Z
LAST-MODIFIED:20191213T023644Z
UID:3034-1594317600-1594324800@www.lifecyclesteam.org
SUMMARY:Boys’ Team Ride – Amos Herr Park\, Landisville
DESCRIPTION:
URL:https://www.lifecyclesteam.org/events/boys-team-ride-amos-herr-park-landisville-12/
LOCATION:Amos Herr Park\, 1700 Nissley Road\, Landisville\, 17538
END:VEVENT
BEGIN:VEVENT
DTSTART;TZID=America/New_York:20200707T180000
DTEND;TZID=America/New_York:20200707T200000
DTSTAMP:20260421T000637
CREATED:20191213T022227Z
LAST-MODIFIED:20191213T022227Z
UID:2996-1594144800-1594152000@www.lifecyclesteam.org
SUMMARY:Boys’ Team Ride – Riverfront Park\, north of Marietta
DESCRIPTION:
URL:https://www.lifecyclesteam.org/events/boys-team-ride-riverfront-park-north-of-marietta-11/
LOCATION:East Donegal Twp. Riverfront Park\, 551 Vinegar Ferry Road\, Marietta\, PA\, 17547\, United States
END:VEVENT
BEGIN:VEVENT
DTSTART;TZID=America/New_York:20200706T180000
DTEND;TZID=America/New_York:20200706T200000
DTSTAMP:20260421T000637
CREATED:20191213T031352Z
LAST-MODIFIED:20200706T172220Z
UID:3116-1594058400-1594065600@www.lifecyclesteam.org
SUMMARY:Girls’ Team Ride - CANCELLED DUE TO STORMS
DESCRIPTION:
URL:https://www.lifecyclesteam.org/events/girls-team-ride-furniture-4u-lititz-11/
LOCATION:Furniture4U\, 243 S. Broad Street\, Lititz\, PA\, 17543\, United States
END:VEVENT
BEGIN:VEVENT
DTSTART;TZID=America/New_York:20200702T180000
DTEND;TZID=America/New_York:20200702T200000
DTSTAMP:20260421T000637
CREATED:20191213T025550Z
LAST-MODIFIED:20200610T160210Z
UID:3074-1593712800-1593720000@www.lifecyclesteam.org
SUMMARY:Boys’ Team Ride – New Holland Community Memorial Park
DESCRIPTION:NEW LOCATION!!
URL:https://www.lifecyclesteam.org/events/boys-team-ride-garden-spot-village-new-holland-13/
LOCATION:New Holland Community Memorial Park\, 400 Jackson Street\, New Holland\, PA\, 17557\, United States
END:VEVENT
BEGIN:VEVENT
DTSTART;TZID=America/New_York:20200702T180000
DTEND;TZID=America/New_York:20200702T200000
DTSTAMP:20260421T000637
CREATED:20191213T023610Z
LAST-MODIFIED:20191213T023610Z
UID:3032-1593712800-1593720000@www.lifecyclesteam.org
SUMMARY:Boys’ Team Ride – Amos Herr Park\, Landisville
DESCRIPTION:
URL:https://www.lifecyclesteam.org/events/boys-team-ride-amos-herr-park-landisville-11/
LOCATION:Amos Herr Park\, 1700 Nissley Road\, Landisville\, 17538
END:VEVENT
BEGIN:VEVENT
DTSTART;TZID=America/New_York:20200630T180000
DTEND;TZID=America/New_York:20200630T200000
DTSTAMP:20260421T000637
CREATED:20191213T022047Z
LAST-MODIFIED:20191213T024018Z
UID:2992-1593540000-1593547200@www.lifecyclesteam.org
SUMMARY:Boys’ Team Ride – Riverfront Park\, north of Marietta
DESCRIPTION:
URL:https://www.lifecyclesteam.org/events/boys-team-ride-riverfront-park-north-of-marietta-10/
LOCATION:East Donegal Twp. Riverfront Park\, 551 Vinegar Ferry Road\, Marietta\, PA\, 17547\, United States
END:VEVENT
END:VCALENDAR