BEGIN:VCALENDAR
VERSION:2.0
PRODID:-// - ECPv6.15.13.1//NONSGML v1.0//EN
CALSCALE:GREGORIAN
METHOD:PUBLISH
X-ORIGINAL-URL:https://www.lifecyclesteam.org
X-WR-CALDESC:Events for 
REFRESH-INTERVAL;VALUE=DURATION:PT1H
X-Robots-Tag:noindex
X-PUBLISHED-TTL:PT1H
BEGIN:VTIMEZONE
TZID:America/New_York
BEGIN:DAYLIGHT
TZOFFSETFROM:-0500
TZOFFSETTO:-0400
TZNAME:EDT
DTSTART:20190310T070000
END:DAYLIGHT
BEGIN:STANDARD
TZOFFSETFROM:-0400
TZOFFSETTO:-0500
TZNAME:EST
DTSTART:20191103T060000
END:STANDARD
BEGIN:DAYLIGHT
TZOFFSETFROM:-0500
TZOFFSETTO:-0400
TZNAME:EDT
DTSTART:20200308T070000
END:DAYLIGHT
BEGIN:STANDARD
TZOFFSETFROM:-0400
TZOFFSETTO:-0500
TZNAME:EST
DTSTART:20201101T060000
END:STANDARD
BEGIN:DAYLIGHT
TZOFFSETFROM:-0500
TZOFFSETTO:-0400
TZNAME:EDT
DTSTART:20210314T070000
END:DAYLIGHT
BEGIN:STANDARD
TZOFFSETFROM:-0400
TZOFFSETTO:-0500
TZNAME:EST
DTSTART:20211107T060000
END:STANDARD
END:VTIMEZONE
BEGIN:VEVENT
DTSTART;TZID=America/New_York:20200611T180000
DTEND;TZID=America/New_York:20200611T200000
DTSTAMP:20260421T062057
CREATED:20191213T025254Z
LAST-MODIFIED:20200605T233018Z
UID:3066-1591898400-1591905600@www.lifecyclesteam.org
SUMMARY:CANCELLED    Boys’ Team Ride – Garden Spot Village\, New Holland
DESCRIPTION:
URL:https://www.lifecyclesteam.org/events/boys-team-ride-garden-spot-village-new-holland-9/
LOCATION:New Holland Community Memorial Park\, 400 Jackson Street\, New Holland\, PA\, 17557\, United States
END:VEVENT
BEGIN:VEVENT
DTSTART;TZID=America/New_York:20200611T180000
DTEND;TZID=America/New_York:20200611T200000
DTSTAMP:20260421T062057
CREATED:20191213T023407Z
LAST-MODIFIED:20200605T233001Z
UID:3026-1591898400-1591905600@www.lifecyclesteam.org
SUMMARY:CANCELLED    Boys’ Team Ride – Amos Herr Park\, Landisville
DESCRIPTION:
URL:https://www.lifecyclesteam.org/events/boys-team-ride-amos-herr-park-landisville-9/
LOCATION:Amos Herr Park\, 1700 Nissley Road\, Landisville\, 17538
END:VEVENT
BEGIN:VEVENT
DTSTART;TZID=America/New_York:20200609T180000
DTEND;TZID=America/New_York:20200609T200000
DTSTAMP:20260421T062057
CREATED:20191213T021909Z
LAST-MODIFIED:20200605T232932Z
UID:2988-1591725600-1591732800@www.lifecyclesteam.org
SUMMARY:CANCELLED   Boys’ Team Ride – Riverfront Park\, north of Marietta
DESCRIPTION:
URL:https://www.lifecyclesteam.org/events/boys-team-ride-riverfront-park-north-of-marietta-8/
LOCATION:East Donegal Twp. Riverfront Park\, 551 Vinegar Ferry Road\, Marietta\, PA\, 17547\, United States
END:VEVENT
BEGIN:VEVENT
DTSTART;TZID=America/New_York:20200608T180000
DTEND;TZID=America/New_York:20200608T200000
DTSTAMP:20260421T062057
CREATED:20191213T031143Z
LAST-MODIFIED:20200605T232859Z
UID:3108-1591639200-1591646400@www.lifecyclesteam.org
SUMMARY:CANCELLED  Girls’ Team Ride - Furniture 4U\, Lititz
DESCRIPTION:
URL:https://www.lifecyclesteam.org/events/girls-team-ride-furniture-4u-lititz-7/
LOCATION:Furniture4U\, 243 S. Broad Street\, Lititz\, PA\, 17543\, United States
END:VEVENT
BEGIN:VEVENT
DTSTART;TZID=America/New_York:20200604T180000
DTEND;TZID=America/New_York:20200604T200000
DTSTAMP:20260421T062057
CREATED:20191213T025225Z
LAST-MODIFIED:20200605T232845Z
UID:3064-1591293600-1591300800@www.lifecyclesteam.org
SUMMARY:CANCELLED  Boys’ Team Ride – Garden Spot Village\, New Holland
DESCRIPTION:
URL:https://www.lifecyclesteam.org/events/boys-team-ride-garden-spot-village-new-holland-8/
LOCATION:New Holland Community Memorial Park\, 400 Jackson Street\, New Holland\, PA\, 17557\, United States
END:VEVENT
BEGIN:VEVENT
DTSTART;TZID=America/New_York:20200604T180000
DTEND;TZID=America/New_York:20200604T200000
DTSTAMP:20260421T062057
CREATED:20191213T023321Z
LAST-MODIFIED:20200508T205437Z
UID:3024-1591293600-1591300800@www.lifecyclesteam.org
SUMMARY:CANCELLED   Boys’ Team Ride – Amos Herr Park\, Landisville
DESCRIPTION:
URL:https://www.lifecyclesteam.org/events/boys-team-ride-amos-herr-park-landisville-8/
LOCATION:Amos Herr Park\, 1700 Nissley Road\, Landisville\, 17538
END:VEVENT
BEGIN:VEVENT
DTSTART;TZID=America/New_York:20200602T180000
DTEND;TZID=America/New_York:20200602T200000
DTSTAMP:20260421T062057
CREATED:20191213T021654Z
LAST-MODIFIED:20200508T205425Z
UID:2984-1591120800-1591128000@www.lifecyclesteam.org
SUMMARY:CANCELLED   Boys’ Team Ride – Riverfront Park\, north of Marietta
DESCRIPTION:
URL:https://www.lifecyclesteam.org/events/boys-team-ride-riverfront-park-north-of-marietta-6/
LOCATION:East Donegal Twp. Riverfront Park\, 551 Vinegar Ferry Road\, Marietta\, PA\, 17547\, United States
END:VEVENT
BEGIN:VEVENT
DTSTART;TZID=America/New_York:20200601T180000
DTEND;TZID=America/New_York:20200601T200000
DTSTAMP:20260421T062057
CREATED:20191213T031109Z
LAST-MODIFIED:20200508T205413Z
UID:3106-1591034400-1591041600@www.lifecyclesteam.org
SUMMARY:CANCELLED   Girls’ Team Ride - Furniture 4U\, Lititz
DESCRIPTION:
URL:https://www.lifecyclesteam.org/events/girls-team-ride-furniture-4u-lititz-6/
LOCATION:New Holland Community Memorial Park\, 400 Jackson Street\, New Holland\, PA\, 17557\, United States
END:VEVENT
BEGIN:VEVENT
DTSTART;TZID=America/New_York:20200530T073000
DTEND;TZID=America/New_York:20200530T150000
DTSTAMP:20260421T062057
CREATED:20191214T011833Z
LAST-MODIFIED:20200508T205357Z
UID:3140-1590823800-1590850800@www.lifecyclesteam.org
SUMMARY:CANCELLED   Saturday Ride - Ephrata Rail Trail
DESCRIPTION:Saturday rides are invitational. They are based on each rider’s progress through the curriculum and their cycling ability\, the ride distance\, and the terrain of the ride.
URL:https://www.lifecyclesteam.org/events/saturday-ride-3/
END:VEVENT
BEGIN:VEVENT
DTSTART;TZID=America/New_York:20200528T180000
DTEND;TZID=America/New_York:20200528T200000
DTSTAMP:20260421T062057
CREATED:20191213T025049Z
LAST-MODIFIED:20200508T205345Z
UID:3062-1590688800-1590696000@www.lifecyclesteam.org
SUMMARY:CANCELLED   Boys’ Team Ride – Garden Spot Village\, New Holland
DESCRIPTION:
URL:https://www.lifecyclesteam.org/events/boys-team-ride-garden-spot-village-new-holland-7/
LOCATION:New Holland Community Memorial Park\, 400 Jackson Street\, New Holland\, PA\, 17557\, United States
END:VEVENT
BEGIN:VEVENT
DTSTART;TZID=America/New_York:20200528T180000
DTEND;TZID=America/New_York:20200528T200000
DTSTAMP:20260421T062057
CREATED:20191213T023241Z
LAST-MODIFIED:20200508T205332Z
UID:3022-1590688800-1590696000@www.lifecyclesteam.org
SUMMARY:CANCELLED   Boys’ Team Ride – Amos Herr Park\, Landisville
DESCRIPTION:
URL:https://www.lifecyclesteam.org/events/boys-team-ride-amos-herr-park-landisville-7/
LOCATION:Amos Herr Park\, 1700 Nissley Road\, Landisville\, 17538
END:VEVENT
BEGIN:VEVENT
DTSTART;TZID=America/New_York:20200526T180000
DTEND;TZID=America/New_York:20200526T200000
DTSTAMP:20260421T062057
CREATED:20191213T021842Z
LAST-MODIFIED:20200508T205322Z
UID:2986-1590516000-1590523200@www.lifecyclesteam.org
SUMMARY:CANCELLED   Boys’ Team Ride – Riverfront Park\, north of Marietta
DESCRIPTION:
URL:https://www.lifecyclesteam.org/events/boys-team-ride-riverfront-park-north-of-marietta-7/
LOCATION:East Donegal Twp. Riverfront Park\, 551 Vinegar Ferry Road\, Marietta\, PA\, 17547\, United States
END:VEVENT
BEGIN:VEVENT
DTSTART;VALUE=DATE:20200525
DTEND;VALUE=DATE:20200526
DTSTAMP:20260421T062057
CREATED:20191213T031035Z
LAST-MODIFIED:20191213T031035Z
UID:3104-1590364800-1590451199@www.lifecyclesteam.org
SUMMARY:NO Girls' Team ride tonight
DESCRIPTION:
URL:https://www.lifecyclesteam.org/events/no-girls-team-ride-tonight/
END:VEVENT
BEGIN:VEVENT
DTSTART;TZID=America/New_York:20200521T180000
DTEND;TZID=America/New_York:20200521T200000
DTSTAMP:20260421T062057
CREATED:20191213T025017Z
LAST-MODIFIED:20200508T205124Z
UID:3060-1590084000-1590091200@www.lifecyclesteam.org
SUMMARY:CANCELLED   Boys’ Team Ride – Garden Spot Village\, New Holland
DESCRIPTION:
URL:https://www.lifecyclesteam.org/events/boys-team-ride-garden-spot-village-new-holland-6/
LOCATION:New Holland Community Memorial Park\, 400 Jackson Street\, New Holland\, PA\, 17557\, United States
END:VEVENT
BEGIN:VEVENT
DTSTART;TZID=America/New_York:20200521T180000
DTEND;TZID=America/New_York:20200521T200000
DTSTAMP:20260421T062057
CREATED:20191213T023209Z
LAST-MODIFIED:20200508T205110Z
UID:3020-1590084000-1590091200@www.lifecyclesteam.org
SUMMARY:CANCELLED   Boys’ Team Ride – LOCATION CHANGE -- Riverfront Park north of Marietta
DESCRIPTION:
URL:https://www.lifecyclesteam.org/events/boys-team-ride-amos-herr-park-landisville-6/
LOCATION:Amos Herr Park\, 1700 Nissley Road\, Landisville\, 17538
END:VEVENT
BEGIN:VEVENT
DTSTART;TZID=America/New_York:20200519T180000
DTEND;TZID=America/New_York:20200519T200000
DTSTAMP:20260421T062057
CREATED:20191213T021617Z
LAST-MODIFIED:20200508T205058Z
UID:2982-1589911200-1589918400@www.lifecyclesteam.org
SUMMARY:CANCELLED  Boys’ Team Ride – Riverfront Park\, north of Marietta
DESCRIPTION:
URL:https://www.lifecyclesteam.org/events/boys-team-ride-riverfront-park-north-of-marietta-5/
LOCATION:East Donegal Twp. Riverfront Park\, 551 Vinegar Ferry Road\, Marietta\, PA\, 17547\, United States
END:VEVENT
BEGIN:VEVENT
DTSTART;TZID=America/New_York:20200518T180000
DTEND;TZID=America/New_York:20200518T200000
DTSTAMP:20260421T062057
CREATED:20191213T031001Z
LAST-MODIFIED:20200508T205043Z
UID:3102-1589824800-1589832000@www.lifecyclesteam.org
SUMMARY:CANCELLED - Girls’ Team Ride - Furniture 4U\, Lititz
DESCRIPTION:
URL:https://www.lifecyclesteam.org/events/girls-team-ride-furniture-4u-lititz-5/
LOCATION:Furniture4U\, 243 S. Broad Street\, Lititz\, PA\, 17543\, United States
END:VEVENT
BEGIN:VEVENT
DTSTART;TZID=America/New_York:20200516T073000
DTEND;TZID=America/New_York:20200516T150000
DTSTAMP:20260421T062057
CREATED:20191214T011614Z
LAST-MODIFIED:20200427T124258Z
UID:3137-1589614200-1589641200@www.lifecyclesteam.org
SUMMARY:CANCELLED - Saturday Ride
DESCRIPTION:Saturday rides are invitational.  They are based on each rider’s progress through the curriculum and their cycling ability\, the ride distance\, and the terrain of the ride.
URL:https://www.lifecyclesteam.org/events/saturday-ride-2/
END:VEVENT
BEGIN:VEVENT
DTSTART;TZID=America/New_York:20200514T180000
DTEND;TZID=America/New_York:20200514T200000
DTSTAMP:20260421T062057
CREATED:20191213T024947Z
LAST-MODIFIED:20200427T124245Z
UID:3058-1589479200-1589486400@www.lifecyclesteam.org
SUMMARY:CANCELLED - Boys’ Team Ride – Garden Spot Village\, New Holland
DESCRIPTION:
URL:https://www.lifecyclesteam.org/events/boys-team-ride-garden-spot-village-new-holland-5/
LOCATION:New Holland Community Memorial Park\, 400 Jackson Street\, New Holland\, PA\, 17557\, United States
END:VEVENT
BEGIN:VEVENT
DTSTART;TZID=America/New_York:20200514T180000
DTEND;TZID=America/New_York:20200514T200000
DTSTAMP:20260421T062057
CREATED:20191213T023140Z
LAST-MODIFIED:20200427T124231Z
UID:3018-1589479200-1589486400@www.lifecyclesteam.org
SUMMARY:CANCELLED - Boys’ Team Ride – Amos Herr Park\, Landisville
DESCRIPTION:
URL:https://www.lifecyclesteam.org/events/boys-team-ride-amos-herr-park-landisville-5/
LOCATION:Amos Herr Park\, 1700 Nissley Road\, Landisville\, 17538
END:VEVENT
BEGIN:VEVENT
DTSTART;TZID=America/New_York:20200512T180000
DTEND;TZID=America/New_York:20200512T200000
DTSTAMP:20260421T062057
CREATED:20191213T021520Z
LAST-MODIFIED:20200427T124217Z
UID:2980-1589306400-1589313600@www.lifecyclesteam.org
SUMMARY:CANCELLED - Boys’ Team Ride – Riverfront Park\, north of Marietta
DESCRIPTION:
URL:https://www.lifecyclesteam.org/events/boys-team-ride-riverfront-park-north-of-marietta-4/
LOCATION:East Donegal Twp. Riverfront Park\, 551 Vinegar Ferry Road\, Marietta\, PA\, 17547\, United States
END:VEVENT
BEGIN:VEVENT
DTSTART;TZID=America/New_York:20200511T180000
DTEND;TZID=America/New_York:20200511T200000
DTSTAMP:20260421T062057
CREATED:20191213T030931Z
LAST-MODIFIED:20200427T124206Z
UID:3100-1589220000-1589227200@www.lifecyclesteam.org
SUMMARY:CANCELLED - Girls’ Team Ride - Furniture 4U\, Lititz
DESCRIPTION:
URL:https://www.lifecyclesteam.org/events/girls-team-ride-furniture-4u-lititz-4/
LOCATION:Furniture4U\, 243 S. Broad Street\, Lititz\, PA\, 17543\, United States
END:VEVENT
BEGIN:VEVENT
DTSTART;TZID=America/New_York:20200507T180000
DTEND;TZID=America/New_York:20200507T200000
DTSTAMP:20260421T062057
CREATED:20191213T024852Z
LAST-MODIFIED:20200427T124146Z
UID:3056-1588874400-1588881600@www.lifecyclesteam.org
SUMMARY:CANCELLED - Boys’ Team Ride – Garden Spot Village\, New Holland
DESCRIPTION:
URL:https://www.lifecyclesteam.org/events/boys-team-ride-garden-spot-village-new-holland-4/
LOCATION:New Holland Community Memorial Park\, 400 Jackson Street\, New Holland\, PA\, 17557\, United States
END:VEVENT
BEGIN:VEVENT
DTSTART;TZID=America/New_York:20200507T180000
DTEND;TZID=America/New_York:20200507T200000
DTSTAMP:20260421T062057
CREATED:20191213T023059Z
LAST-MODIFIED:20200427T124128Z
UID:3016-1588874400-1588881600@www.lifecyclesteam.org
SUMMARY:CANCELLED - Boys’ Team Ride – Amos Herr Park\, Landisville
DESCRIPTION:
URL:https://www.lifecyclesteam.org/events/boys-team-ride-amos-herr-park-landisville-4/
LOCATION:Amos Herr Park\, 1700 Nissley Road\, Landisville\, 17538
END:VEVENT
BEGIN:VEVENT
DTSTART;TZID=America/New_York:20200505T180000
DTEND;TZID=America/New_York:20200505T200000
DTSTAMP:20260421T062057
CREATED:20191213T021446Z
LAST-MODIFIED:20200427T124116Z
UID:2978-1588701600-1588708800@www.lifecyclesteam.org
SUMMARY:CANCELLED - Boys’ Team Ride – Riverfront Park\, north of Marietta
DESCRIPTION:
URL:https://www.lifecyclesteam.org/events/boys-team-ride-riverfront-park-north-of-marietta-3/
LOCATION:East Donegal Twp. Riverfront Park\, 551 Vinegar Ferry Road\, Marietta\, PA\, 17547\, United States
END:VEVENT
BEGIN:VEVENT
DTSTART;TZID=America/New_York:20200504T180000
DTEND;TZID=America/New_York:20200504T200000
DTSTAMP:20260421T062057
CREATED:20191213T030900Z
LAST-MODIFIED:20200427T124054Z
UID:3098-1588615200-1588622400@www.lifecyclesteam.org
SUMMARY:CANCELLED- Girls’ Team Ride - Furniture 4U\, Lititz
DESCRIPTION:
URL:https://www.lifecyclesteam.org/events/girls-team-ride-furniture-4u-lititz-3/
LOCATION:Furniture4U\, 243 S. Broad Street\, Lititz\, PA\, 17543\, United States
END:VEVENT
BEGIN:VEVENT
DTSTART;TZID=America/New_York:20200430T180000
DTEND;TZID=America/New_York:20200430T200000
DTSTAMP:20260421T062057
CREATED:20191213T024820Z
LAST-MODIFIED:20200331T205439Z
UID:3054-1588269600-1588276800@www.lifecyclesteam.org
SUMMARY:CANCELLED -- Boys’ Team Ride – Garden Spot Village\, New Holland
DESCRIPTION:
URL:https://www.lifecyclesteam.org/events/boys-team-ride-garden-spot-village-new-holland-3/
LOCATION:New Holland Community Memorial Park\, 400 Jackson Street\, New Holland\, PA\, 17557\, United States
END:VEVENT
BEGIN:VEVENT
DTSTART;TZID=America/New_York:20200430T180000
DTEND;TZID=America/New_York:20200430T200000
DTSTAMP:20260421T062057
CREATED:20191213T023024Z
LAST-MODIFIED:20200331T205427Z
UID:3014-1588269600-1588276800@www.lifecyclesteam.org
SUMMARY:CANCELLED -- Boys’ Team Ride – Amos Herr Park\, Landisville
DESCRIPTION:
URL:https://www.lifecyclesteam.org/events/boys-team-ride-amos-herr-park-landisville-3/
LOCATION:Amos Herr Park\, 1700 Nissley Road\, Landisville\, 17538
END:VEVENT
BEGIN:VEVENT
DTSTART;TZID=America/New_York:20200428T180000
DTEND;TZID=America/New_York:20200428T200000
DTSTAMP:20260421T062057
CREATED:20191213T021405Z
LAST-MODIFIED:20200331T205414Z
UID:2976-1588096800-1588104000@www.lifecyclesteam.org
SUMMARY:CANCELLED -- Boys’ Team Ride – Riverfront Park\, north of Marietta
DESCRIPTION:
URL:https://www.lifecyclesteam.org/events/boys-team-ride-riverfront-park-north-of-marietta-2/
LOCATION:East Donegal Twp. Riverfront Park\, 551 Vinegar Ferry Road\, Marietta\, PA\, 17547\, United States
END:VEVENT
BEGIN:VEVENT
DTSTART;TZID=America/New_York:20200427T180000
DTEND;TZID=America/New_York:20200427T200000
DTSTAMP:20260421T062057
CREATED:20191213T030832Z
LAST-MODIFIED:20200331T205404Z
UID:3096-1588010400-1588017600@www.lifecyclesteam.org
SUMMARY:CANCELLED -- Girls’ Team Ride - Furniture 4U\, Lititz
DESCRIPTION:
URL:https://www.lifecyclesteam.org/events/girls-team-ride-furniture-4u-lititz-2/
LOCATION:Furniture4U\, 243 S. Broad Street\, Lititz\, PA\, 17543\, United States
END:VEVENT
END:VCALENDAR