BEGIN:VCALENDAR
VERSION:2.0
PRODID:-// - ECPv6.15.13.1//NONSGML v1.0//EN
CALSCALE:GREGORIAN
METHOD:PUBLISH
X-ORIGINAL-URL:https://www.lifecyclesteam.org
X-WR-CALDESC:Events for 
REFRESH-INTERVAL;VALUE=DURATION:PT1H
X-Robots-Tag:noindex
X-PUBLISHED-TTL:PT1H
BEGIN:VTIMEZONE
TZID:America/New_York
BEGIN:DAYLIGHT
TZOFFSETFROM:-0500
TZOFFSETTO:-0400
TZNAME:EDT
DTSTART:20180311T070000
END:DAYLIGHT
BEGIN:STANDARD
TZOFFSETFROM:-0400
TZOFFSETTO:-0500
TZNAME:EST
DTSTART:20181104T060000
END:STANDARD
BEGIN:DAYLIGHT
TZOFFSETFROM:-0500
TZOFFSETTO:-0400
TZNAME:EDT
DTSTART:20190310T070000
END:DAYLIGHT
BEGIN:STANDARD
TZOFFSETFROM:-0400
TZOFFSETTO:-0500
TZNAME:EST
DTSTART:20191103T060000
END:STANDARD
BEGIN:DAYLIGHT
TZOFFSETFROM:-0500
TZOFFSETTO:-0400
TZNAME:EDT
DTSTART:20200308T070000
END:DAYLIGHT
BEGIN:STANDARD
TZOFFSETFROM:-0400
TZOFFSETTO:-0500
TZNAME:EST
DTSTART:20201101T060000
END:STANDARD
END:VTIMEZONE
BEGIN:VEVENT
DTSTART;TZID=America/New_York:20191117T133000
DTEND;TZID=America/New_York:20191117T153000
DTSTAMP:20260421T154839
CREATED:20190106T005731Z
LAST-MODIFIED:20190318T012219Z
UID:1964-1573997400-1574004600@www.lifecyclesteam.org
SUMMARY:LIFECYCLES End of Year Celebration
DESCRIPTION:Join us as we recap the 2019 season of LIFECYCLES! We invite you to fellowship with the many teens (and their families) and adults that make up the LIFECYCLES family.
URL:https://www.lifecyclesteam.org/events/lifecycles-end-of-year-celebration-2/
LOCATION:Community Fellowship Church\, 200 Bethel Dr.\, Lancaster\, PA\, 17601\, United States
END:VEVENT
BEGIN:VEVENT
DTSTART;TZID=America/New_York:20191102T073000
DTEND;TZID=America/New_York:20191102T163000
DTSTAMP:20260421T154839
CREATED:20190106T005446Z
LAST-MODIFIED:20191009T183704Z
UID:1960-1572679800-1572712200@www.lifecyclesteam.org
SUMMARY:Gettysburg National Battlefield Ride
DESCRIPTION:Meet at Community Fellowship Church at 7:30 to depart for the Gettysburg Battlefield visitor center.  There are multiple ride lengths to accommodate every rider’s ability.  Lunch is included in the day with the return to CFC around 3 pm.
URL:https://www.lifecyclesteam.org/events/gettysburg-national-battlefield-ride-2/
LOCATION:PA
END:VEVENT
BEGIN:VEVENT
DTSTART;TZID=America/New_York:20191019T073000
DTEND;TZID=America/New_York:20191019T160000
DTSTAMP:20260421T154839
CREATED:20190106T005247Z
LAST-MODIFIED:20191009T183432Z
UID:1958-1571470200-1571500800@www.lifecyclesteam.org
SUMMARY:Coal Country Ride
DESCRIPTION:Meet at Community Fellowship Church at 200 Bethel Drive\, Lancaster at 7:30 to drive to the starting point of this ride.  There are two ride lengths – 27 miles and  50 miles.  Lunch is provided at the home of Rose LaVenice’s parents and then return to CFC around 4 pm.
URL:https://www.lifecyclesteam.org/events/pine-grove-to-dauphin-along-rte-325/
LOCATION:PA
END:VEVENT
BEGIN:VEVENT
DTSTART;TZID=America/New_York:20191015T180000
DTEND;TZID=America/New_York:20191015T193000
DTSTAMP:20260421T154839
CREATED:20190106T005123Z
LAST-MODIFIED:20190825T224809Z
UID:1956-1571162400-1571167800@www.lifecyclesteam.org
SUMMARY:Leader Meeting
DESCRIPTION:
URL:https://www.lifecyclesteam.org/events/leader-meeting-6/
LOCATION:Community Fellowship Church\, 200 Bethel Dr.\, Lancaster\, PA\, 17601\, United States
END:VEVENT
BEGIN:VEVENT
DTSTART;TZID=America/New_York:20191004T170000
DTEND;TZID=America/New_York:20191005T213000
DTSTAMP:20260421T154839
CREATED:20190106T005029Z
LAST-MODIFIED:20190106T005029Z
UID:1954-1570208400-1570311000@www.lifecyclesteam.org
SUMMARY:Seagull Century Ride
DESCRIPTION:Event rides are invitational based on each rider’s ability\, the ride distance\, and the terrain of the ride. \nThis ride begins and ends at Salisbury University in MD.
URL:https://www.lifecyclesteam.org/events/seagull-century-ride/
LOCATION:PA
END:VEVENT
BEGIN:VEVENT
DTSTART;TZID=America/New_York:20190915T070000
DTEND;TZID=America/New_York:20190915T170000
DTSTAMP:20260421T154839
CREATED:20190106T004808Z
LAST-MODIFIED:20190106T004808Z
UID:1952-1568530800-1568566800@www.lifecyclesteam.org
SUMMARY:ThreeCreek Century Ride
DESCRIPTION:Event rides are invitational based on each rider’s ability\, the ride distance\, and the terrain of the ride.
URL:https://www.lifecyclesteam.org/events/threecreek-century-ride/
LOCATION:PA
END:VEVENT
BEGIN:VEVENT
DTSTART;TZID=America/New_York:20190912T180000
DTEND;TZID=America/New_York:20190912T193000
DTSTAMP:20260421T154839
CREATED:20190106T004109Z
LAST-MODIFIED:20190821T193943Z
UID:1948-1568311200-1568316600@www.lifecyclesteam.org
SUMMARY:Leader meeting
DESCRIPTION:
URL:https://www.lifecyclesteam.org/events/leader-meeting-4/
LOCATION:Community Fellowship Church\, 200 Bethel Dr.\, Lancaster\, PA\, 17601\, United States
END:VEVENT
BEGIN:VEVENT
DTSTART;VALUE=DATE:20190907
DTEND;VALUE=DATE:20190909
DTSTAMP:20260421T154839
CREATED:20190106T004653Z
LAST-MODIFIED:20190106T012507Z
UID:1950-1567814400-1567987199@www.lifecyclesteam.org
SUMMARY:DO HARD THINGS RIDE
DESCRIPTION:Fundraising ride for adults only – 200 miles from the New York border and ending at East Donegal Twp Park in Marietta. \nDeparture time is TBD.
URL:https://www.lifecyclesteam.org/events/do-hard-things-ride/
LOCATION:PA
END:VEVENT
BEGIN:VEVENT
DTSTART;TZID=America/New_York:20190829T180000
DTEND;TZID=America/New_York:20190829T200000
DTSTAMP:20260421T154839
CREATED:20190104T020838Z
LAST-MODIFIED:20190819T120052Z
UID:1886-1567101600-1567108800@www.lifecyclesteam.org
SUMMARY:Pool party tonight!  Contact Lee or Marcie for details
DESCRIPTION:
URL:https://www.lifecyclesteam.org/events/ride-amos-herr-park-landisville-50/
LOCATION:Amos Herr Park\, 1700 Nissley Road\, Landisville\, 17538
END:VEVENT
BEGIN:VEVENT
DTSTART;TZID=America/New_York:20190827T180000
DTEND;TZID=America/New_York:20190827T200000
DTSTAMP:20260421T154839
CREATED:20190104T015354Z
LAST-MODIFIED:20190104T015354Z
UID:1849-1566928800-1566936000@www.lifecyclesteam.org
SUMMARY:Ride – East Donegal Twp. Riverfront Park\, north of Marietta
DESCRIPTION:
URL:https://www.lifecyclesteam.org/events/ride-east-donegal-twp-riverfront-park-north-of-marietta-53/
LOCATION:East Donegal Twp. Riverfront Park\, 551 Vinegar Ferry Road\, Marietta\, PA\, 17547\, United States
END:VEVENT
BEGIN:VEVENT
DTSTART;TZID=America/New_York:20190822T180000
DTEND;TZID=America/New_York:20190822T200000
DTSTAMP:20260421T154839
CREATED:20190104T020800Z
LAST-MODIFIED:20190104T020800Z
UID:1884-1566496800-1566504000@www.lifecyclesteam.org
SUMMARY:Ride – Amos Herr Park\, Landisville
DESCRIPTION:
URL:https://www.lifecyclesteam.org/events/ride-amos-herr-park-landisville-49/
LOCATION:Amos Herr Park\, 1700 Nissley Road\, Landisville\, 17538
END:VEVENT
BEGIN:VEVENT
DTSTART;TZID=America/New_York:20190820T180000
DTEND;TZID=America/New_York:20190820T200000
DTSTAMP:20260421T154839
CREATED:20190104T015326Z
LAST-MODIFIED:20190104T015326Z
UID:1847-1566324000-1566331200@www.lifecyclesteam.org
SUMMARY:Ride – East Donegal Twp. Riverfront Park\, north of Marietta
DESCRIPTION:
URL:https://www.lifecyclesteam.org/events/ride-east-donegal-twp-riverfront-park-north-of-marietta-52/
LOCATION:East Donegal Twp. Riverfront Park\, 551 Vinegar Ferry Road\, Marietta\, PA\, 17547\, United States
END:VEVENT
BEGIN:VEVENT
DTSTART;TZID=America/New_York:20190818T070000
DTEND;TZID=America/New_York:20190818T130000
DTSTAMP:20260421T154839
CREATED:20190106T003848Z
LAST-MODIFIED:20190106T003848Z
UID:1946-1566111600-1566133200@www.lifecyclesteam.org
SUMMARY:Event Ride – Lancaster Bicycle Club “Covered Bridge Classic”
DESCRIPTION:Event rides are invitational based on each rider’s ability\, the ride distance\, and the terrain of the ride.
URL:https://www.lifecyclesteam.org/events/event-ride-lancaster-bicycle-club-covered-bridge-classic-2/
LOCATION:HACC – Lancaster Campus\, 1641 Old Philadelphia Pike\, Lancaster\, PA\, 17602\, United States
END:VEVENT
BEGIN:VEVENT
DTSTART;TZID=America/New_York:20190815T180000
DTEND;TZID=America/New_York:20190815T200000
DTSTAMP:20260421T154839
CREATED:20190104T022201Z
LAST-MODIFIED:20190104T022201Z
UID:1920-1565892000-1565899200@www.lifecyclesteam.org
SUMMARY:Ride – New Holland\, meets at Garden Spot Village
DESCRIPTION:
URL:https://www.lifecyclesteam.org/events/ride-new-holland-meets-at-garden-spot-village-27/
LOCATION:New Holland Community Memorial Park\, 400 Jackson Street\, New Holland\, PA\, 17557\, United States
END:VEVENT
BEGIN:VEVENT
DTSTART;TZID=America/New_York:20190815T180000
DTEND;TZID=America/New_York:20190815T200000
DTSTAMP:20260421T154839
CREATED:20190104T020719Z
LAST-MODIFIED:20190104T020719Z
UID:1882-1565892000-1565899200@www.lifecyclesteam.org
SUMMARY:Ride – Amos Herr Park\, Landisville
DESCRIPTION:
URL:https://www.lifecyclesteam.org/events/ride-amos-herr-park-landisville-48/
LOCATION:Amos Herr Park\, 1700 Nissley Road\, Landisville\, 17538
END:VEVENT
BEGIN:VEVENT
DTSTART;TZID=America/New_York:20190813T180000
DTEND;TZID=America/New_York:20190813T200000
DTSTAMP:20260421T154839
CREATED:20190104T015255Z
LAST-MODIFIED:20190104T015255Z
UID:1845-1565719200-1565726400@www.lifecyclesteam.org
SUMMARY:Ride – East Donegal Twp. Riverfront Park\, north of Marietta
DESCRIPTION:
URL:https://www.lifecyclesteam.org/events/ride-east-donegal-twp-riverfront-park-north-of-marietta-51/
LOCATION:East Donegal Twp. Riverfront Park\, 551 Vinegar Ferry Road\, Marietta\, PA\, 17547\, United States
END:VEVENT
BEGIN:VEVENT
DTSTART;TZID=America/New_York:20190812T180000
DTEND;TZID=America/New_York:20190812T200000
DTSTAMP:20260421T154839
CREATED:20190404T004830Z
LAST-MODIFIED:20190404T004830Z
UID:2041-1565632800-1565640000@www.lifecyclesteam.org
SUMMARY:Ride – Girls Team in Lititz
DESCRIPTION:
URL:https://www.lifecyclesteam.org/events/ride-girls-team-in-lititz-14/
LOCATION:Furniture4U\, 243 S. Broad Street\, Lititz\, PA\, 17543\, United States
END:VEVENT
BEGIN:VEVENT
DTSTART;TZID=America/New_York:20190808T180000
DTEND;TZID=America/New_York:20190808T200000
DTSTAMP:20260421T154839
CREATED:20190104T021104Z
LAST-MODIFIED:20190104T021111Z
UID:1890-1565287200-1565294400@www.lifecyclesteam.org
SUMMARY:Summer Celebration Picnic
DESCRIPTION:
URL:https://www.lifecyclesteam.org/events/summer-celebration-picnic-3/
LOCATION:Amos Herr Park\, 1700 Nissley Road\, Landisville\, 17538
END:VEVENT
BEGIN:VEVENT
DTSTART;TZID=America/New_York:20190806T180000
DTEND;TZID=America/New_York:20190806T200000
DTSTAMP:20260421T154839
CREATED:20190104T015226Z
LAST-MODIFIED:20190104T015226Z
UID:1843-1565114400-1565121600@www.lifecyclesteam.org
SUMMARY:Ride – East Donegal Twp. Riverfront Park\, north of Marietta
DESCRIPTION:
URL:https://www.lifecyclesteam.org/events/ride-east-donegal-twp-riverfront-park-north-of-marietta-50/
LOCATION:East Donegal Twp. Riverfront Park\, 551 Vinegar Ferry Road\, Marietta\, PA\, 17547\, United States
END:VEVENT
BEGIN:VEVENT
DTSTART;TZID=America/New_York:20190805T180000
DTEND;TZID=America/New_York:20190805T200000
DTSTAMP:20260421T154839
CREATED:20190404T004151Z
LAST-MODIFIED:20190404T004312Z
UID:2036-1565028000-1565035200@www.lifecyclesteam.org
SUMMARY:Ride – Girls Team in Lititz
DESCRIPTION:
URL:https://www.lifecyclesteam.org/events/ride-girls-team-in-lititz-12/
LOCATION:Furniture4U\, 243 S. Broad Street\, Lititz\, PA\, 17543\, United States
END:VEVENT
BEGIN:VEVENT
DTSTART;TZID=America/New_York:20190801T180000
DTEND;TZID=America/New_York:20190801T200000
DTSTAMP:20260421T154839
CREATED:20190104T022129Z
LAST-MODIFIED:20190104T022129Z
UID:1918-1564682400-1564689600@www.lifecyclesteam.org
SUMMARY:Ride – New Holland\, meets at Garden Spot Village
DESCRIPTION:
URL:https://www.lifecyclesteam.org/events/ride-new-holland-meets-at-garden-spot-village-26/
LOCATION:New Holland Community Memorial Park\, 400 Jackson Street\, New Holland\, PA\, 17557\, United States
END:VEVENT
BEGIN:VEVENT
DTSTART;TZID=America/New_York:20190801T180000
DTEND;TZID=America/New_York:20190801T200000
DTSTAMP:20260421T154839
CREATED:20190104T020515Z
LAST-MODIFIED:20190104T020515Z
UID:1880-1564682400-1564689600@www.lifecyclesteam.org
SUMMARY:Ride – Amos Herr Park\, Landisville
DESCRIPTION:
URL:https://www.lifecyclesteam.org/events/ride-amos-herr-park-landisville-47/
LOCATION:Amos Herr Park\, 1700 Nissley Road\, Landisville\, 17538
END:VEVENT
BEGIN:VEVENT
DTSTART;TZID=America/New_York:20190730T180000
DTEND;TZID=America/New_York:20190730T200000
DTSTAMP:20260421T154839
CREATED:20190104T020952Z
LAST-MODIFIED:20190104T020952Z
UID:1888-1564509600-1564516800@www.lifecyclesteam.org
SUMMARY:Ride – East Donegal Twp. Riverfront Park\, north of Marietta
DESCRIPTION:
URL:https://www.lifecyclesteam.org/events/ride-east-donegal-twp-riverfront-park-north-of-marietta-54/
LOCATION:Amos Herr Park\, 1700 Nissley Road\, Landisville\, 17538
END:VEVENT
BEGIN:VEVENT
DTSTART;TZID=America/New_York:20190729T180000
DTEND;TZID=America/New_York:20190729T200000
DTSTAMP:20260421T154839
CREATED:20190404T004748Z
LAST-MODIFIED:20190624T130353Z
UID:2039-1564423200-1564430400@www.lifecyclesteam.org
SUMMARY:Ride - Girls Team in Lititz
DESCRIPTION:
URL:https://www.lifecyclesteam.org/events/ride-girls-team-in-lititz-13/
LOCATION:PA\, United States
END:VEVENT
BEGIN:VEVENT
DTSTART;VALUE=DATE:20190720
DTEND;VALUE=DATE:20190729
DTSTAMP:20260421T154839
CREATED:20190104T021253Z
LAST-MODIFIED:20190104T021253Z
UID:1892-1563580800-1564358399@www.lifecyclesteam.org
SUMMARY:Extreme Challenge Ride from Lancaster to Boston
DESCRIPTION:
URL:https://www.lifecyclesteam.org/events/extreme-challenge-ride-from-lancaster-to-boston/
LOCATION:PA
END:VEVENT
BEGIN:VEVENT
DTSTART;TZID=America/New_York:20190718T180000
DTEND;TZID=America/New_York:20190718T200000
DTSTAMP:20260421T154839
CREATED:20190104T022618Z
LAST-MODIFIED:20190404T004426Z
UID:1924-1563472800-1563480000@www.lifecyclesteam.org
SUMMARY:NO RIDES TONIGHT.             Prepping for the Extreme Challenge Ride
DESCRIPTION:
URL:https://www.lifecyclesteam.org/events/no-ride-tonight-pre-ride-meeting-for-the-extreme-challenge-ride/
LOCATION:Community Fellowship Church\, 200 Bethel Dr.\, Lancaster\, PA\, 17601\, United States
END:VEVENT
BEGIN:VEVENT
DTSTART;TZID=America/New_York:20190716T180000
DTEND;TZID=America/New_York:20190716T200000
DTSTAMP:20260421T154839
CREATED:20190104T015034Z
LAST-MODIFIED:20190104T015034Z
UID:1838-1563300000-1563307200@www.lifecyclesteam.org
SUMMARY:Ride – East Donegal Twp. Riverfront Park\, north of Marietta
DESCRIPTION:
URL:https://www.lifecyclesteam.org/events/ride-east-donegal-twp-riverfront-park-north-of-marietta-48/
LOCATION:East Donegal Twp. Riverfront Park\, 551 Vinegar Ferry Road\, Marietta\, PA\, 17547\, United States
END:VEVENT
BEGIN:VEVENT
DTSTART;TZID=America/New_York:20190715T180000
DTEND;TZID=America/New_York:20190715T200000
DTSTAMP:20260421T154839
CREATED:20190404T004119Z
LAST-MODIFIED:20190404T004119Z
UID:2034-1563213600-1563220800@www.lifecyclesteam.org
SUMMARY:Ride – Girls Team in Lititz
DESCRIPTION:
URL:https://www.lifecyclesteam.org/events/ride-girls-team-in-lititz-11/
LOCATION:Furniture4U\, 243 S. Broad Street\, Lititz\, PA\, 17543\, United States
END:VEVENT
BEGIN:VEVENT
DTSTART;TZID=America/New_York:20190711T180000
DTEND;TZID=America/New_York:20190711T200000
DTSTAMP:20260421T154839
CREATED:20190104T022045Z
LAST-MODIFIED:20190711T163706Z
UID:1916-1562868000-1562875200@www.lifecyclesteam.org
SUMMARY:Ride CANCELLED due to weather – New Holland\, meets at Garden Spot Village
DESCRIPTION:
URL:https://www.lifecyclesteam.org/events/ride-new-holland-meets-at-garden-spot-village-25/
LOCATION:New Holland Community Memorial Park\, 400 Jackson Street\, New Holland\, PA\, 17557\, United States
END:VEVENT
BEGIN:VEVENT
DTSTART;TZID=America/New_York:20190711T180000
DTEND;TZID=America/New_York:20190711T200000
DTSTAMP:20260421T154839
CREATED:20190104T020418Z
LAST-MODIFIED:20190711T163632Z
UID:1878-1562868000-1562875200@www.lifecyclesteam.org
SUMMARY:Ride CANCELLED due to weather – Amos Herr Park\, Landisville
DESCRIPTION:
URL:https://www.lifecyclesteam.org/events/ride-amos-herr-park-landisville-46/
LOCATION:Amos Herr Park\, 1700 Nissley Road\, Landisville\, 17538
END:VEVENT
END:VCALENDAR