BEGIN:VCALENDAR
VERSION:2.0
PRODID:-// - ECPv6.15.13.1//NONSGML v1.0//EN
CALSCALE:GREGORIAN
METHOD:PUBLISH
X-ORIGINAL-URL:https://www.lifecyclesteam.org
X-WR-CALDESC:Events for 
REFRESH-INTERVAL;VALUE=DURATION:PT1H
X-Robots-Tag:noindex
X-PUBLISHED-TTL:PT1H
BEGIN:VTIMEZONE
TZID:America/New_York
BEGIN:DAYLIGHT
TZOFFSETFROM:-0500
TZOFFSETTO:-0400
TZNAME:EDT
DTSTART:20180311T070000
END:DAYLIGHT
BEGIN:STANDARD
TZOFFSETFROM:-0400
TZOFFSETTO:-0500
TZNAME:EST
DTSTART:20181104T060000
END:STANDARD
BEGIN:DAYLIGHT
TZOFFSETFROM:-0500
TZOFFSETTO:-0400
TZNAME:EDT
DTSTART:20190310T070000
END:DAYLIGHT
BEGIN:STANDARD
TZOFFSETFROM:-0400
TZOFFSETTO:-0500
TZNAME:EST
DTSTART:20191103T060000
END:STANDARD
BEGIN:DAYLIGHT
TZOFFSETFROM:-0500
TZOFFSETTO:-0400
TZNAME:EDT
DTSTART:20200308T070000
END:DAYLIGHT
BEGIN:STANDARD
TZOFFSETFROM:-0400
TZOFFSETTO:-0500
TZNAME:EST
DTSTART:20201101T060000
END:STANDARD
END:VTIMEZONE
BEGIN:VEVENT
DTSTART;TZID=America/New_York:20190801T180000
DTEND;TZID=America/New_York:20190801T200000
DTSTAMP:20260421T201029
CREATED:20190104T022129Z
LAST-MODIFIED:20190104T022129Z
UID:1918-1564682400-1564689600@www.lifecyclesteam.org
SUMMARY:Ride – New Holland\, meets at Garden Spot Village
DESCRIPTION:
URL:https://www.lifecyclesteam.org/events/ride-new-holland-meets-at-garden-spot-village-26/
LOCATION:New Holland Community Memorial Park\, 400 Jackson Street\, New Holland\, PA\, 17557\, United States
END:VEVENT
BEGIN:VEVENT
DTSTART;TZID=America/New_York:20190801T180000
DTEND;TZID=America/New_York:20190801T200000
DTSTAMP:20260421T201029
CREATED:20190104T020515Z
LAST-MODIFIED:20190104T020515Z
UID:1880-1564682400-1564689600@www.lifecyclesteam.org
SUMMARY:Ride – Amos Herr Park\, Landisville
DESCRIPTION:
URL:https://www.lifecyclesteam.org/events/ride-amos-herr-park-landisville-47/
LOCATION:Amos Herr Park\, 1700 Nissley Road\, Landisville\, 17538
END:VEVENT
BEGIN:VEVENT
DTSTART;TZID=America/New_York:20190730T180000
DTEND;TZID=America/New_York:20190730T200000
DTSTAMP:20260421T201029
CREATED:20190104T020952Z
LAST-MODIFIED:20190104T020952Z
UID:1888-1564509600-1564516800@www.lifecyclesteam.org
SUMMARY:Ride – East Donegal Twp. Riverfront Park\, north of Marietta
DESCRIPTION:
URL:https://www.lifecyclesteam.org/events/ride-east-donegal-twp-riverfront-park-north-of-marietta-54/
LOCATION:Amos Herr Park\, 1700 Nissley Road\, Landisville\, 17538
END:VEVENT
BEGIN:VEVENT
DTSTART;TZID=America/New_York:20190729T180000
DTEND;TZID=America/New_York:20190729T200000
DTSTAMP:20260421T201029
CREATED:20190404T004748Z
LAST-MODIFIED:20190624T130353Z
UID:2039-1564423200-1564430400@www.lifecyclesteam.org
SUMMARY:Ride - Girls Team in Lititz
DESCRIPTION:
URL:https://www.lifecyclesteam.org/events/ride-girls-team-in-lititz-13/
LOCATION:PA\, United States
END:VEVENT
BEGIN:VEVENT
DTSTART;VALUE=DATE:20190720
DTEND;VALUE=DATE:20190729
DTSTAMP:20260421T201029
CREATED:20190104T021253Z
LAST-MODIFIED:20190104T021253Z
UID:1892-1563580800-1564358399@www.lifecyclesteam.org
SUMMARY:Extreme Challenge Ride from Lancaster to Boston
DESCRIPTION:
URL:https://www.lifecyclesteam.org/events/extreme-challenge-ride-from-lancaster-to-boston/
LOCATION:Pennsylvania
END:VEVENT
BEGIN:VEVENT
DTSTART;TZID=America/New_York:20190718T180000
DTEND;TZID=America/New_York:20190718T200000
DTSTAMP:20260421T201029
CREATED:20190104T022618Z
LAST-MODIFIED:20190404T004426Z
UID:1924-1563472800-1563480000@www.lifecyclesteam.org
SUMMARY:NO RIDES TONIGHT.             Prepping for the Extreme Challenge Ride
DESCRIPTION:
URL:https://www.lifecyclesteam.org/events/no-ride-tonight-pre-ride-meeting-for-the-extreme-challenge-ride/
LOCATION:Community Fellowship Church\, 200 Bethel Dr.\, Lancaster\, PA\, 17601\, United States
END:VEVENT
BEGIN:VEVENT
DTSTART;TZID=America/New_York:20190716T180000
DTEND;TZID=America/New_York:20190716T200000
DTSTAMP:20260421T201029
CREATED:20190104T015034Z
LAST-MODIFIED:20190104T015034Z
UID:1838-1563300000-1563307200@www.lifecyclesteam.org
SUMMARY:Ride – East Donegal Twp. Riverfront Park\, north of Marietta
DESCRIPTION:
URL:https://www.lifecyclesteam.org/events/ride-east-donegal-twp-riverfront-park-north-of-marietta-48/
LOCATION:East Donegal Twp. Riverfront Park\, 551 Vinegar Ferry Road\, Marietta\, PA\, 17547\, United States
END:VEVENT
BEGIN:VEVENT
DTSTART;TZID=America/New_York:20190715T180000
DTEND;TZID=America/New_York:20190715T200000
DTSTAMP:20260421T201029
CREATED:20190404T004119Z
LAST-MODIFIED:20190404T004119Z
UID:2034-1563213600-1563220800@www.lifecyclesteam.org
SUMMARY:Ride – Girls Team in Lititz
DESCRIPTION:
URL:https://www.lifecyclesteam.org/events/ride-girls-team-in-lititz-11/
LOCATION:Furniture4U\, 243 S. Broad Street\, Lititz\, PA\, 17543\, United States
END:VEVENT
BEGIN:VEVENT
DTSTART;TZID=America/New_York:20190711T180000
DTEND;TZID=America/New_York:20190711T200000
DTSTAMP:20260421T201029
CREATED:20190104T022045Z
LAST-MODIFIED:20190711T163706Z
UID:1916-1562868000-1562875200@www.lifecyclesteam.org
SUMMARY:Ride CANCELLED due to weather – New Holland\, meets at Garden Spot Village
DESCRIPTION:
URL:https://www.lifecyclesteam.org/events/ride-new-holland-meets-at-garden-spot-village-25/
LOCATION:New Holland Community Memorial Park\, 400 Jackson Street\, New Holland\, PA\, 17557\, United States
END:VEVENT
BEGIN:VEVENT
DTSTART;TZID=America/New_York:20190711T180000
DTEND;TZID=America/New_York:20190711T200000
DTSTAMP:20260421T201029
CREATED:20190104T020418Z
LAST-MODIFIED:20190711T163632Z
UID:1878-1562868000-1562875200@www.lifecyclesteam.org
SUMMARY:Ride CANCELLED due to weather – Amos Herr Park\, Landisville
DESCRIPTION:
URL:https://www.lifecyclesteam.org/events/ride-amos-herr-park-landisville-46/
LOCATION:Amos Herr Park\, 1700 Nissley Road\, Landisville\, 17538
END:VEVENT
BEGIN:VEVENT
DTSTART;TZID=America/New_York:20190709T180000
DTEND;TZID=America/New_York:20190709T200000
DTSTAMP:20260421T201029
CREATED:20190104T015131Z
LAST-MODIFIED:20190104T015131Z
UID:1841-1562695200-1562702400@www.lifecyclesteam.org
SUMMARY:Ride – East Donegal Twp. Riverfront Park\, north of Marietta
DESCRIPTION:
URL:https://www.lifecyclesteam.org/events/ride-east-donegal-twp-riverfront-park-north-of-marietta-49/
LOCATION:East Donegal Twp. Riverfront Park\, 551 Vinegar Ferry Road\, Marietta\, PA\, 17547\, United States
END:VEVENT
BEGIN:VEVENT
DTSTART;TZID=America/New_York:20190708T180000
DTEND;TZID=America/New_York:20190708T200000
DTSTAMP:20260421T201029
CREATED:20190404T004032Z
LAST-MODIFIED:20190404T004032Z
UID:2032-1562608800-1562616000@www.lifecyclesteam.org
SUMMARY:Ride – Girls Team in Lititz
DESCRIPTION:
URL:https://www.lifecyclesteam.org/events/ride-girls-team-in-lititz-10/
LOCATION:Pennsylvania
END:VEVENT
BEGIN:VEVENT
DTSTART;VALUE=DATE:20190704
DTEND;VALUE=DATE:20190705
DTSTAMP:20260421T201029
CREATED:20190106T003543Z
LAST-MODIFIED:20190106T003543Z
UID:1944-1562198400-1562284799@www.lifecyclesteam.org
SUMMARY:No rides this week due to July 4th holiday
DESCRIPTION:
URL:https://www.lifecyclesteam.org/events/no-rides-this-week-due-to-july-4th-holiday-2/
LOCATION:Pennsylvania
END:VEVENT
BEGIN:VEVENT
DTSTART;VALUE=DATE:20190702
DTEND;VALUE=DATE:20190703
DTSTAMP:20260421T201029
CREATED:20190106T003505Z
LAST-MODIFIED:20190106T003505Z
UID:1942-1562025600-1562111999@www.lifecyclesteam.org
SUMMARY:No rides this week due to July 4th holiday
DESCRIPTION:
URL:https://www.lifecyclesteam.org/events/no-rides-this-week-due-to-july-4th-holiday/
LOCATION:Pennsylvania
END:VEVENT
BEGIN:VEVENT
DTSTART;VALUE=DATE:20190701
DTEND;VALUE=DATE:20190702
DTSTAMP:20260421T201029
CREATED:20190404T005523Z
LAST-MODIFIED:20190404T005523Z
UID:2049-1561939200-1562025599@www.lifecyclesteam.org
SUMMARY:No rides this week due to July 4th holiday
DESCRIPTION:
URL:https://www.lifecyclesteam.org/events/no-rides-this-week-due-to-july-4th-holiday-3/
LOCATION:Furniture4U\, 243 S. Broad Street\, Lititz\, PA\, 17543\, United States
END:VEVENT
BEGIN:VEVENT
DTSTART;TZID=America/New_York:20190627T180000
DTEND;TZID=America/New_York:20190627T200000
DTSTAMP:20260421T201029
CREATED:20190104T022012Z
LAST-MODIFIED:20190623T171618Z
UID:1914-1561658400-1561665600@www.lifecyclesteam.org
SUMMARY:NO New Holland ride this week
DESCRIPTION:
URL:https://www.lifecyclesteam.org/events/ride-new-holland-meets-at-garden-spot-village-24/
LOCATION:New Holland Community Memorial Park\, 400 Jackson Street\, New Holland\, PA\, 17557\, United States
END:VEVENT
BEGIN:VEVENT
DTSTART;TZID=America/New_York:20190627T180000
DTEND;TZID=America/New_York:20190627T200000
DTSTAMP:20260421T201029
CREATED:20190104T020204Z
LAST-MODIFIED:20190104T020204Z
UID:1874-1561658400-1561665600@www.lifecyclesteam.org
SUMMARY:Ride – Amos Herr Park\, Landisville
DESCRIPTION:
URL:https://www.lifecyclesteam.org/events/ride-amos-herr-park-landisville-45/
LOCATION:Amos Herr Park\, 1700 Nissley Road\, Landisville\, 17538
END:VEVENT
BEGIN:VEVENT
DTSTART;TZID=America/New_York:20190625T180000
DTEND;TZID=America/New_York:20190625T200000
DTSTAMP:20260421T201029
CREATED:20190104T014752Z
LAST-MODIFIED:20190104T014808Z
UID:1833-1561485600-1561492800@www.lifecyclesteam.org
SUMMARY:Ride – East Donegal Twp. Riverfront Park\, north of Marietta
DESCRIPTION:
URL:https://www.lifecyclesteam.org/events/ride-east-donegal-twp-riverfront-park-north-of-marietta-45/
LOCATION:East Donegal Twp. Riverfront Park\, 551 Vinegar Ferry Road\, Marietta\, PA\, 17547\, United States
END:VEVENT
BEGIN:VEVENT
DTSTART;TZID=America/New_York:20190624T180000
DTEND;TZID=America/New_York:20190624T200000
DTSTAMP:20260421T201029
CREATED:20190404T003910Z
LAST-MODIFIED:20190624T154104Z
UID:2030-1561399200-1561406400@www.lifecyclesteam.org
SUMMARY:NO Girls Team Ride tonight - everyone is on vacation :-)
DESCRIPTION:
URL:https://www.lifecyclesteam.org/events/ride-girls-team-in-lititz-9/
LOCATION:Furniture4U\, 243 S. Broad Street\, Lititz\, PA\, 17543\, United States
END:VEVENT
BEGIN:VEVENT
DTSTART;TZID=America/New_York:20190622T073000
DTEND;TZID=America/New_York:20190622T153000
DTSTAMP:20260421T201029
CREATED:20190106T003325Z
LAST-MODIFIED:20190106T003325Z
UID:1940-1561188600-1561217400@www.lifecyclesteam.org
SUMMARY:Ice Cream Ride
DESCRIPTION:Saturday rides are invitational based on each rider’s ability\, the ride distance\, and the terrain of the ride. \nLike ice cream? You are gonna LOVE this ride!  More details to come. John Mullineaux is the point of contact.
URL:https://www.lifecyclesteam.org/events/ice-cream-ride/
LOCATION:Pennsylvania
END:VEVENT
BEGIN:VEVENT
DTSTART;TZID=America/New_York:20190620T180000
DTEND;TZID=America/New_York:20190620T200000
DTSTAMP:20260421T201029
CREATED:20190104T021944Z
LAST-MODIFIED:20190623T171448Z
UID:1912-1561053600-1561060800@www.lifecyclesteam.org
SUMMARY:Ride CANCELLED due to weather – New Holland\, meets at Garden Spot Village
DESCRIPTION:
URL:https://www.lifecyclesteam.org/events/ride-new-holland-meets-at-garden-spot-village-23/
LOCATION:New Holland Community Memorial Park\, 400 Jackson Street\, New Holland\, PA\, 17557\, United States
END:VEVENT
BEGIN:VEVENT
DTSTART;TZID=America/New_York:20190620T180000
DTEND;TZID=America/New_York:20190620T200000
DTSTAMP:20260421T201029
CREATED:20190104T020343Z
LAST-MODIFIED:20190623T171527Z
UID:1876-1561053600-1561060800@www.lifecyclesteam.org
SUMMARY:Ride Cancelled due to weather – Amos Herr Park\, Landisville
DESCRIPTION:
URL:https://www.lifecyclesteam.org/events/ride-amos-herr-park-landisville-38/
LOCATION:Amos Herr Park\, 1700 Nissley Road\, Landisville\, 17538
END:VEVENT
BEGIN:VEVENT
DTSTART;TZID=America/New_York:20190618T180000
DTEND;TZID=America/New_York:20190618T200000
DTSTAMP:20260421T201029
CREATED:20190104T014903Z
LAST-MODIFIED:20190618T114933Z
UID:1835-1560880800-1560888000@www.lifecyclesteam.org
SUMMARY:Ride CANCELLED due to weather– East Donegal Twp. Riverfront Park\, north of Marietta
DESCRIPTION:
URL:https://www.lifecyclesteam.org/events/ride-east-donegal-twp-riverfront-park-north-of-marietta-46/
LOCATION:East Donegal Twp. Riverfront Park\, 551 Vinegar Ferry Road\, Marietta\, PA\, 17547\, United States
END:VEVENT
BEGIN:VEVENT
DTSTART;TZID=America/New_York:20190617T180000
DTEND;TZID=America/New_York:20190617T200000
DTSTAMP:20260421T201029
CREATED:20190404T003837Z
LAST-MODIFIED:20190404T003837Z
UID:2028-1560794400-1560801600@www.lifecyclesteam.org
SUMMARY:Ride – Girls Team in Lititz
DESCRIPTION:
URL:https://www.lifecyclesteam.org/events/ride-girls-team-in-lititz-8/
LOCATION:Furniture4U\, 243 S. Broad Street\, Lititz\, PA\, 17543\, United States
END:VEVENT
BEGIN:VEVENT
DTSTART;TZID=America/New_York:20190613T180000
DTEND;TZID=America/New_York:20190613T200000
DTSTAMP:20260421T201029
CREATED:20190104T021914Z
LAST-MODIFIED:20190613T113835Z
UID:1910-1560448800-1560456000@www.lifecyclesteam.org
SUMMARY:Ride CANCELLED due to weather – New Holland\, meets at Garden Spot Village
DESCRIPTION:
URL:https://www.lifecyclesteam.org/events/ride-new-holland-meets-at-garden-spot-village-22/
LOCATION:New Holland Community Memorial Park\, 400 Jackson Street\, New Holland\, PA\, 17557\, United States
END:VEVENT
BEGIN:VEVENT
DTSTART;TZID=America/New_York:20190613T180000
DTEND;TZID=America/New_York:20190613T200000
DTSTAMP:20260421T201029
CREATED:20190104T020128Z
LAST-MODIFIED:20190613T113801Z
UID:1872-1560448800-1560456000@www.lifecyclesteam.org
SUMMARY:Ride CANCELLED due to weather – Amos Herr Park\, Landisville
DESCRIPTION:
URL:https://www.lifecyclesteam.org/events/ride-amos-herr-park-landisville-44/
LOCATION:Amos Herr Park\, 1700 Nissley Road\, Landisville\, 17538
END:VEVENT
BEGIN:VEVENT
DTSTART;TZID=America/New_York:20190611T180000
DTEND;TZID=America/New_York:20190611T200000
DTSTAMP:20260421T201029
CREATED:20190104T014713Z
LAST-MODIFIED:20190104T014713Z
UID:1831-1560276000-1560283200@www.lifecyclesteam.org
SUMMARY:Ride – East Donegal Twp. Riverfront Park\, north of Marietta
DESCRIPTION:
URL:https://www.lifecyclesteam.org/events/ride-east-donegal-twp-riverfront-park-north-of-marietta-44/
LOCATION:East Donegal Twp. Riverfront Park\, 551 Vinegar Ferry Road\, Marietta\, PA\, 17547\, United States
END:VEVENT
BEGIN:VEVENT
DTSTART;TZID=America/New_York:20190610T180000
DTEND;TZID=America/New_York:20190610T200000
DTSTAMP:20260421T201029
CREATED:20190404T003804Z
LAST-MODIFIED:20190610T101614Z
UID:2026-1560189600-1560196800@www.lifecyclesteam.org
SUMMARY:Ride CANCELLED due to weather – Girls Team in Lititz
DESCRIPTION:
URL:https://www.lifecyclesteam.org/events/ride-girls-team-in-lititz-7/
LOCATION:Furniture4U\, 243 S. Broad Street\, Lititz\, PA\, 17543\, United States
END:VEVENT
BEGIN:VEVENT
DTSTART;TZID=America/New_York:20190608T073000
DTEND;TZID=America/New_York:20190608T143000
DTSTAMP:20260421T201029
CREATED:20190106T002730Z
LAST-MODIFIED:20190106T002730Z
UID:1936-1559979000-1560004200@www.lifecyclesteam.org
SUMMARY:Columbia\, Sam Lewis\, Jim Macks Loop
DESCRIPTION:Saturday rides are invitational based on each rider’s ability\, the ride distance\, and the terrain of the ride. \nThis ride route begins at the DeRemers house and heads east over the Susquehanna River with a short loop in Columbia and then back across the river to Wrightsville. Next is the climb up Cool Springs Road to Sam Lewis State Park. From there it is downhill to Jim Macks Ice Cream store on Route 462. Lunch and ice cream to end the day!
URL:https://www.lifecyclesteam.org/events/columbia-sam-lewis-jim-macks-loop-2/
LOCATION:DeRemer Home\, 6224 Hauser School Road\, York\, PA\, 17406\, United States
END:VEVENT
BEGIN:VEVENT
DTSTART;TZID=America/New_York:20190606T180000
DTEND;TZID=America/New_York:20190606T200000
DTSTAMP:20260421T201029
CREATED:20190104T021837Z
LAST-MODIFIED:20190104T021837Z
UID:1908-1559844000-1559851200@www.lifecyclesteam.org
SUMMARY:Ride – New Holland\, meets at Garden Spot Village
DESCRIPTION:
URL:https://www.lifecyclesteam.org/events/ride-new-holland-meets-at-garden-spot-village-21/
LOCATION:New Holland Community Memorial Park\, 400 Jackson Street\, New Holland\, PA\, 17557\, United States
END:VEVENT
END:VCALENDAR