BEGIN:VCALENDAR
VERSION:2.0
PRODID:-// - ECPv6.15.13.1//NONSGML v1.0//EN
CALSCALE:GREGORIAN
METHOD:PUBLISH
X-ORIGINAL-URL:https://www.lifecyclesteam.org
X-WR-CALDESC:Events for 
REFRESH-INTERVAL;VALUE=DURATION:PT1H
X-Robots-Tag:noindex
X-PUBLISHED-TTL:PT1H
BEGIN:VTIMEZONE
TZID:America/New_York
BEGIN:DAYLIGHT
TZOFFSETFROM:-0500
TZOFFSETTO:-0400
TZNAME:EDT
DTSTART:20180311T070000
END:DAYLIGHT
BEGIN:STANDARD
TZOFFSETFROM:-0400
TZOFFSETTO:-0500
TZNAME:EST
DTSTART:20181104T060000
END:STANDARD
BEGIN:DAYLIGHT
TZOFFSETFROM:-0500
TZOFFSETTO:-0400
TZNAME:EDT
DTSTART:20190310T070000
END:DAYLIGHT
BEGIN:STANDARD
TZOFFSETFROM:-0400
TZOFFSETTO:-0500
TZNAME:EST
DTSTART:20191103T060000
END:STANDARD
BEGIN:DAYLIGHT
TZOFFSETFROM:-0500
TZOFFSETTO:-0400
TZNAME:EDT
DTSTART:20200308T070000
END:DAYLIGHT
BEGIN:STANDARD
TZOFFSETFROM:-0400
TZOFFSETTO:-0500
TZNAME:EST
DTSTART:20201101T060000
END:STANDARD
BEGIN:DAYLIGHT
TZOFFSETFROM:-0500
TZOFFSETTO:-0400
TZNAME:EDT
DTSTART:20210314T070000
END:DAYLIGHT
BEGIN:STANDARD
TZOFFSETFROM:-0400
TZOFFSETTO:-0500
TZNAME:EST
DTSTART:20211107T060000
END:STANDARD
END:VTIMEZONE
BEGIN:VEVENT
DTSTART;TZID=America/New_York:20200423T180000
DTEND;TZID=America/New_York:20200423T200000
DTSTAMP:20260421T195423
CREATED:20191213T024753Z
LAST-MODIFIED:20200331T205342Z
UID:3052-1587664800-1587672000@www.lifecyclesteam.org
SUMMARY:CANCELLED -- Boys’ Team Ride – Garden Spot Village\, New Holland
DESCRIPTION:
URL:https://www.lifecyclesteam.org/events/boys-team-ride-garden-spot-village-new-holland-2/
LOCATION:New Holland Community Memorial Park\, 400 Jackson Street\, New Holland\, PA\, 17557\, United States
END:VEVENT
BEGIN:VEVENT
DTSTART;TZID=America/New_York:20200423T180000
DTEND;TZID=America/New_York:20200423T200000
DTSTAMP:20260421T195423
CREATED:20191213T022947Z
LAST-MODIFIED:20200331T205330Z
UID:3012-1587664800-1587672000@www.lifecyclesteam.org
SUMMARY:CANCELLED -- Boys’ Team Ride – Amos Herr Park\, Landisville
DESCRIPTION:
URL:https://www.lifecyclesteam.org/events/boys-team-ride-amos-herr-park-landisville-2/
LOCATION:Amos Herr Park\, 1700 Nissley Road\, Landisville\, 17538
END:VEVENT
BEGIN:VEVENT
DTSTART;TZID=America/New_York:20200421T180000
DTEND;TZID=America/New_York:20200421T200000
DTSTAMP:20260421T195423
CREATED:20191213T021221Z
LAST-MODIFIED:20200331T205319Z
UID:2974-1587492000-1587499200@www.lifecyclesteam.org
SUMMARY:CANCELLED -- Boys’ Team Ride – Riverfront Park\, north of Marietta
DESCRIPTION:
URL:https://www.lifecyclesteam.org/events/boys-team-ride-riverfront-park-north-of-marietta/
LOCATION:East Donegal Twp. Riverfront Park\, 551 Vinegar Ferry Road\, Marietta\, PA\, 17547\, United States
END:VEVENT
BEGIN:VEVENT
DTSTART;TZID=America/New_York:20200420T180000
DTEND;TZID=America/New_York:20200420T200000
DTSTAMP:20260421T195423
CREATED:20191213T024713Z
LAST-MODIFIED:20200331T205306Z
UID:3050-1587405600-1587412800@www.lifecyclesteam.org
SUMMARY:CANCELLED -- Girls’ Team Ride - Furniture 4U\, Lititz
DESCRIPTION:
URL:https://www.lifecyclesteam.org/events/boys-team-ride-garden-spot-village-new-holland/
LOCATION:Furniture4U\, 243 S. Broad Street\, Lititz\, PA\, 17543\, United States
END:VEVENT
BEGIN:VEVENT
DTSTART;TZID=America/New_York:20200416T180000
DTEND;TZID=America/New_York:20200416T200000
DTSTAMP:20260421T195423
CREATED:20191214T010624Z
LAST-MODIFIED:20200331T205255Z
UID:3132-1587060000-1587067200@www.lifecyclesteam.org
SUMMARY:CANCELLED -- Boys’ Team Ride – Garden Spot Village\, New Holland
DESCRIPTION:
URL:https://www.lifecyclesteam.org/events/boys-team-ride-garden-spot-village-new-holland-11/
LOCATION:New Holland Community Memorial Park\, 400 Jackson Street\, New Holland\, PA\, 17557\, United States
END:VEVENT
BEGIN:VEVENT
DTSTART;TZID=America/New_York:20200416T180000
DTEND;TZID=America/New_York:20200416T200000
DTSTAMP:20260421T195423
CREATED:20191213T022830Z
LAST-MODIFIED:20200331T205235Z
UID:3010-1587060000-1587067200@www.lifecyclesteam.org
SUMMARY:CANCELLED -- Boys’ Team Ride – Amos Herr Park\, Landisville
DESCRIPTION:
URL:https://www.lifecyclesteam.org/events/boys-team-ride-amos-herr-park-landisville/
LOCATION:Amos Herr Park\, 1700 Nissley Road\, Landisville\, 17538
END:VEVENT
BEGIN:VEVENT
DTSTART;TZID=America/New_York:20200414T180000
DTEND;TZID=America/New_York:20200414T200000
DTSTAMP:20260421T195423
CREATED:20191213T020748Z
LAST-MODIFIED:20200331T205224Z
UID:2969-1586887200-1586894400@www.lifecyclesteam.org
SUMMARY:CANCELLED -- Boys' Team Ride – Riverfront Park\, north of Marietta
DESCRIPTION:
URL:https://www.lifecyclesteam.org/events/first-ride-of-the-season-riverfront-park-north-of-marietta/
LOCATION:East Donegal Twp. Riverfront Park\, 551 Vinegar Ferry Road\, Marietta\, PA\, 17547\, United States
END:VEVENT
BEGIN:VEVENT
DTSTART;TZID=America/New_York:20200413T180000
DTEND;TZID=America/New_York:20200413T200000
DTSTAMP:20260421T195423
CREATED:20191213T030441Z
LAST-MODIFIED:20200331T205134Z
UID:3090-1586800800-1586808000@www.lifecyclesteam.org
SUMMARY:CANCELLED -- Girls’ Team Ride - Furniture 4U\, Lititz
DESCRIPTION:
URL:https://www.lifecyclesteam.org/events/girls-team-ride-furniture-4u-lititz/
LOCATION:Furniture4U\, 243 S. Broad Street\, Lititz\, PA\, 17543\, United States
END:VEVENT
BEGIN:VEVENT
DTSTART;TZID=America/New_York:20200408T180000
DTEND;TZID=America/New_York:20200408T193000
DTSTAMP:20260421T195423
CREATED:20200318T143931Z
LAST-MODIFIED:20200331T205054Z
UID:3297-1586368800-1586374200@www.lifecyclesteam.org
SUMMARY:POSTPONED --  Leader Meeting
DESCRIPTION:
URL:https://www.lifecyclesteam.org/events/leader-meeting-11/
LOCATION:Community Fellowship Church\, 200 Bethel Dr.\, Lancaster\, PA\, 17601\, United States
END:VEVENT
BEGIN:VEVENT
DTSTART;TZID=America/New_York:20200324T180000
DTEND;TZID=America/New_York:20200324T193000
DTSTAMP:20260421T195423
CREATED:20191213T020548Z
LAST-MODIFIED:20200318T143826Z
UID:2967-1585072800-1585078200@www.lifecyclesteam.org
SUMMARY:POSTPONED - until April 8th - Leader Meeting
DESCRIPTION:
URL:https://www.lifecyclesteam.org/events/leader-meeting-8/
LOCATION:Community Fellowship Church\, 200 Bethel Dr.\, Lancaster\, PA\, 17601\, United States
END:VEVENT
BEGIN:VEVENT
DTSTART;TZID=America/New_York:20200310T183000
DTEND;TZID=America/New_York:20200310T200000
DTSTAMP:20260421T195423
CREATED:20191213T020229Z
LAST-MODIFIED:20191213T020229Z
UID:2962-1583865000-1583870400@www.lifecyclesteam.org
SUMMARY:Indoor program at REYS
DESCRIPTION:
URL:https://www.lifecyclesteam.org/events/indoor-program-at-reys-12/
LOCATION:Rainbow’s End Youth Services  (REYS)\, 105 Fairview Street\, Mount Joy\, PA\, 17552\, United States
END:VEVENT
BEGIN:VEVENT
DTSTART;TZID=America/New_York:20200303T183000
DTEND;TZID=America/New_York:20200303T200000
DTSTAMP:20260421T195423
CREATED:20191213T020153Z
LAST-MODIFIED:20191213T020153Z
UID:2960-1583260200-1583265600@www.lifecyclesteam.org
SUMMARY:Indoor program at REYS
DESCRIPTION:
URL:https://www.lifecyclesteam.org/events/indoor-program-at-reys-11/
LOCATION:Rainbow’s End Youth Services  (REYS)\, 105 Fairview Street\, Mount Joy\, PA\, 17552\, United States
END:VEVENT
BEGIN:VEVENT
DTSTART;TZID=America/New_York:20200225T183000
DTEND;TZID=America/New_York:20200225T200000
DTSTAMP:20260421T195423
CREATED:20191213T020116Z
LAST-MODIFIED:20191213T020116Z
UID:2958-1582655400-1582660800@www.lifecyclesteam.org
SUMMARY:Indoor program at REYS
DESCRIPTION:
URL:https://www.lifecyclesteam.org/events/indoor-program-at-reys-10/
LOCATION:Rainbow’s End Youth Services  (REYS)\, 105 Fairview Street\, Mount Joy\, PA\, 17552\, United States
END:VEVENT
BEGIN:VEVENT
DTSTART;VALUE=DATE:20200218
DTEND;VALUE=DATE:20200219
DTSTAMP:20260421T195423
CREATED:20191213T020029Z
LAST-MODIFIED:20191213T020344Z
UID:2956-1581984000-1582070399@www.lifecyclesteam.org
SUMMARY:NO indoor program tonight
DESCRIPTION:
URL:https://www.lifecyclesteam.org/events/no-indoor-program-tonight/
LOCATION:Pennsylvania
END:VEVENT
BEGIN:VEVENT
DTSTART;TZID=America/New_York:20200211T183000
DTEND;TZID=America/New_York:20200211T200000
DTSTAMP:20260421T195423
CREATED:20191213T015944Z
LAST-MODIFIED:20191213T015944Z
UID:2954-1581445800-1581451200@www.lifecyclesteam.org
SUMMARY:Indoor program at REYS
DESCRIPTION:
URL:https://www.lifecyclesteam.org/events/indoor-program-at-reys-9/
LOCATION:Rainbow’s End Youth Services  (REYS)\, 105 Fairview Street\, Mount Joy\, PA\, 17552\, United States
END:VEVENT
BEGIN:VEVENT
DTSTART;TZID=America/New_York:20200206T180000
DTEND;TZID=America/New_York:20200206T193000
DTSTAMP:20260421T195423
CREATED:20191213T020501Z
LAST-MODIFIED:20191213T020501Z
UID:2965-1581012000-1581017400@www.lifecyclesteam.org
SUMMARY:Leader Meeting
DESCRIPTION:
URL:https://www.lifecyclesteam.org/events/leader-meeting-7/
LOCATION:Community Fellowship Church\, 200 Bethel Dr.\, Lancaster\, PA\, 17601\, United States
END:VEVENT
BEGIN:VEVENT
DTSTART;TZID=America/New_York:20200204T183000
DTEND;TZID=America/New_York:20200204T200000
DTSTAMP:20260421T195423
CREATED:20191213T015910Z
LAST-MODIFIED:20191213T015910Z
UID:2952-1580841000-1580846400@www.lifecyclesteam.org
SUMMARY:Indoor program at REYS
DESCRIPTION:
URL:https://www.lifecyclesteam.org/events/indoor-program-at-reys-8/
LOCATION:Rainbow’s End Youth Services  (REYS)\, 105 Fairview Street\, Mount Joy\, PA\, 17552\, United States
END:VEVENT
BEGIN:VEVENT
DTSTART;TZID=America/New_York:20200128T183000
DTEND;TZID=America/New_York:20200128T200000
DTSTAMP:20260421T195423
CREATED:20191213T015811Z
LAST-MODIFIED:20191213T015811Z
UID:2950-1580236200-1580241600@www.lifecyclesteam.org
SUMMARY:Indoor program at REYS
DESCRIPTION:
URL:https://www.lifecyclesteam.org/events/indoor-program-at-reys-7/
LOCATION:Rainbow’s End Youth Services  (REYS)\, 105 Fairview Street\, Mount Joy\, PA\, 17552\, United States
END:VEVENT
BEGIN:VEVENT
DTSTART;TZID=America/New_York:20191207T100000
DTEND;TZID=America/New_York:20191207T150000
DTSTAMP:20260421T195423
CREATED:20190806T173931Z
LAST-MODIFIED:20190806T174059Z
UID:2083-1575712800-1575730800@www.lifecyclesteam.org
SUMMARY:Gifts That Give Hope - Alternative Gift Fair
DESCRIPTION:Fair Date:\nSaturday\, December 7\, 2019 – 10:00am to 3:00pm\nLocation:\nThe Junction Center\n1875 Junction Road\nManheim\, PA 17545 \nLIFECYCLES is one of 30 nonprofits represented at Gifts That Give Hope. Please come out and support the many wonderful organizations participating in the gift fair this year.\nGTGH – “We feature alternative gifts that support the work of nonprofit organizations right here in Lancaster and those that work all over the world as well as fair trade gifts and social enterprise items in our one day marketplace.\nTo find out more about this event check out their website:\nhttp://www.giftsthatgivehope.org/lancaster
URL:https://www.lifecyclesteam.org/events/gifts-that-give-hope-alternative-gift-fair/
LOCATION:WJTL\, 1875 Junction Road\, Manheim\, PA\, 17545\, United States
END:VEVENT
BEGIN:VEVENT
DTSTART;TZID=America/New_York:20191117T133000
DTEND;TZID=America/New_York:20191117T153000
DTSTAMP:20260421T195423
CREATED:20190106T005731Z
LAST-MODIFIED:20190318T012219Z
UID:1964-1573997400-1574004600@www.lifecyclesteam.org
SUMMARY:LIFECYCLES End of Year Celebration
DESCRIPTION:Join us as we recap the 2019 season of LIFECYCLES! We invite you to fellowship with the many teens (and their families) and adults that make up the LIFECYCLES family.
URL:https://www.lifecyclesteam.org/events/lifecycles-end-of-year-celebration-2/
LOCATION:Community Fellowship Church\, 200 Bethel Dr.\, Lancaster\, PA\, 17601\, United States
END:VEVENT
BEGIN:VEVENT
DTSTART;TZID=America/New_York:20191102T073000
DTEND;TZID=America/New_York:20191102T163000
DTSTAMP:20260421T195423
CREATED:20190106T005446Z
LAST-MODIFIED:20191009T183704Z
UID:1960-1572679800-1572712200@www.lifecyclesteam.org
SUMMARY:Gettysburg National Battlefield Ride
DESCRIPTION:Meet at Community Fellowship Church at 7:30 to depart for the Gettysburg Battlefield visitor center.  There are multiple ride lengths to accommodate every rider’s ability.  Lunch is included in the day with the return to CFC around 3 pm.
URL:https://www.lifecyclesteam.org/events/gettysburg-national-battlefield-ride-2/
LOCATION:Pennsylvania
END:VEVENT
BEGIN:VEVENT
DTSTART;TZID=America/New_York:20191019T073000
DTEND;TZID=America/New_York:20191019T160000
DTSTAMP:20260421T195423
CREATED:20190106T005247Z
LAST-MODIFIED:20191009T183432Z
UID:1958-1571470200-1571500800@www.lifecyclesteam.org
SUMMARY:Coal Country Ride
DESCRIPTION:Meet at Community Fellowship Church at 200 Bethel Drive\, Lancaster at 7:30 to drive to the starting point of this ride.  There are two ride lengths – 27 miles and  50 miles.  Lunch is provided at the home of Rose LaVenice’s parents and then return to CFC around 4 pm.
URL:https://www.lifecyclesteam.org/events/pine-grove-to-dauphin-along-rte-325/
LOCATION:Pennsylvania
END:VEVENT
BEGIN:VEVENT
DTSTART;TZID=America/New_York:20191015T180000
DTEND;TZID=America/New_York:20191015T193000
DTSTAMP:20260421T195423
CREATED:20190106T005123Z
LAST-MODIFIED:20190825T224809Z
UID:1956-1571162400-1571167800@www.lifecyclesteam.org
SUMMARY:Leader Meeting
DESCRIPTION:
URL:https://www.lifecyclesteam.org/events/leader-meeting-6/
LOCATION:Community Fellowship Church\, 200 Bethel Dr.\, Lancaster\, PA\, 17601\, United States
END:VEVENT
BEGIN:VEVENT
DTSTART;TZID=America/New_York:20191004T170000
DTEND;TZID=America/New_York:20191005T213000
DTSTAMP:20260421T195423
CREATED:20190106T005029Z
LAST-MODIFIED:20190106T005029Z
UID:1954-1570208400-1570311000@www.lifecyclesteam.org
SUMMARY:Seagull Century Ride
DESCRIPTION:Event rides are invitational based on each rider’s ability\, the ride distance\, and the terrain of the ride. \nThis ride begins and ends at Salisbury University in MD.
URL:https://www.lifecyclesteam.org/events/seagull-century-ride/
LOCATION:Pennsylvania
END:VEVENT
BEGIN:VEVENT
DTSTART;TZID=America/New_York:20190915T070000
DTEND;TZID=America/New_York:20190915T170000
DTSTAMP:20260421T195423
CREATED:20190106T004808Z
LAST-MODIFIED:20190106T004808Z
UID:1952-1568530800-1568566800@www.lifecyclesteam.org
SUMMARY:ThreeCreek Century Ride
DESCRIPTION:Event rides are invitational based on each rider’s ability\, the ride distance\, and the terrain of the ride.
URL:https://www.lifecyclesteam.org/events/threecreek-century-ride/
LOCATION:Pennsylvania
END:VEVENT
BEGIN:VEVENT
DTSTART;TZID=America/New_York:20190912T180000
DTEND;TZID=America/New_York:20190912T193000
DTSTAMP:20260421T195423
CREATED:20190106T004109Z
LAST-MODIFIED:20190821T193943Z
UID:1948-1568311200-1568316600@www.lifecyclesteam.org
SUMMARY:Leader meeting
DESCRIPTION:
URL:https://www.lifecyclesteam.org/events/leader-meeting-4/
LOCATION:Community Fellowship Church\, 200 Bethel Dr.\, Lancaster\, PA\, 17601\, United States
END:VEVENT
BEGIN:VEVENT
DTSTART;VALUE=DATE:20190907
DTEND;VALUE=DATE:20190909
DTSTAMP:20260421T195423
CREATED:20190106T004653Z
LAST-MODIFIED:20190106T012507Z
UID:1950-1567814400-1567987199@www.lifecyclesteam.org
SUMMARY:DO HARD THINGS RIDE
DESCRIPTION:Fundraising ride for adults only – 200 miles from the New York border and ending at East Donegal Twp Park in Marietta. \nDeparture time is TBD.
URL:https://www.lifecyclesteam.org/events/do-hard-things-ride/
LOCATION:Pennsylvania
END:VEVENT
BEGIN:VEVENT
DTSTART;TZID=America/New_York:20190829T180000
DTEND;TZID=America/New_York:20190829T200000
DTSTAMP:20260421T195423
CREATED:20190104T020838Z
LAST-MODIFIED:20190819T120052Z
UID:1886-1567101600-1567108800@www.lifecyclesteam.org
SUMMARY:Pool party tonight!  Contact Lee or Marcie for details
DESCRIPTION:
URL:https://www.lifecyclesteam.org/events/ride-amos-herr-park-landisville-50/
LOCATION:Amos Herr Park\, 1700 Nissley Road\, Landisville\, 17538
END:VEVENT
BEGIN:VEVENT
DTSTART;TZID=America/New_York:20190827T180000
DTEND;TZID=America/New_York:20190827T200000
DTSTAMP:20260421T195423
CREATED:20190104T015354Z
LAST-MODIFIED:20190104T015354Z
UID:1849-1566928800-1566936000@www.lifecyclesteam.org
SUMMARY:Ride – East Donegal Twp. Riverfront Park\, north of Marietta
DESCRIPTION:
URL:https://www.lifecyclesteam.org/events/ride-east-donegal-twp-riverfront-park-north-of-marietta-53/
LOCATION:East Donegal Twp. Riverfront Park\, 551 Vinegar Ferry Road\, Marietta\, PA\, 17547\, United States
END:VEVENT
BEGIN:VEVENT
DTSTART;TZID=America/New_York:20190822T180000
DTEND;TZID=America/New_York:20190822T200000
DTSTAMP:20260421T195423
CREATED:20190104T020800Z
LAST-MODIFIED:20190104T020800Z
UID:1884-1566496800-1566504000@www.lifecyclesteam.org
SUMMARY:Ride – Amos Herr Park\, Landisville
DESCRIPTION:
URL:https://www.lifecyclesteam.org/events/ride-amos-herr-park-landisville-49/
LOCATION:Amos Herr Park\, 1700 Nissley Road\, Landisville\, 17538
END:VEVENT
END:VCALENDAR