BEGIN:VCALENDAR
VERSION:2.0
PRODID:-// - ECPv6.15.13.1//NONSGML v1.0//EN
CALSCALE:GREGORIAN
METHOD:PUBLISH
X-ORIGINAL-URL:https://www.lifecyclesteam.org
X-WR-CALDESC:Events for 
REFRESH-INTERVAL;VALUE=DURATION:PT1H
X-Robots-Tag:noindex
X-PUBLISHED-TTL:PT1H
BEGIN:VTIMEZONE
TZID:America/New_York
BEGIN:DAYLIGHT
TZOFFSETFROM:-0500
TZOFFSETTO:-0400
TZNAME:EDT
DTSTART:20180311T070000
END:DAYLIGHT
BEGIN:STANDARD
TZOFFSETFROM:-0400
TZOFFSETTO:-0500
TZNAME:EST
DTSTART:20181104T060000
END:STANDARD
BEGIN:DAYLIGHT
TZOFFSETFROM:-0500
TZOFFSETTO:-0400
TZNAME:EDT
DTSTART:20190310T070000
END:DAYLIGHT
BEGIN:STANDARD
TZOFFSETFROM:-0400
TZOFFSETTO:-0500
TZNAME:EST
DTSTART:20191103T060000
END:STANDARD
BEGIN:DAYLIGHT
TZOFFSETFROM:-0500
TZOFFSETTO:-0400
TZNAME:EDT
DTSTART:20200308T070000
END:DAYLIGHT
BEGIN:STANDARD
TZOFFSETFROM:-0400
TZOFFSETTO:-0500
TZNAME:EST
DTSTART:20201101T060000
END:STANDARD
END:VTIMEZONE
BEGIN:VEVENT
DTSTART;TZID=America/New_York:20190606T180000
DTEND;TZID=America/New_York:20190606T200000
DTSTAMP:20260422T025530
CREATED:20190104T020051Z
LAST-MODIFIED:20190104T020051Z
UID:1870-1559844000-1559851200@www.lifecyclesteam.org
SUMMARY:Ride – Amos Herr Park\, Landisville
DESCRIPTION:
URL:https://www.lifecyclesteam.org/events/ride-amos-herr-park-landisville-43/
LOCATION:East Donegal Twp. Riverfront Park\, 551 Vinegar Ferry Road\, Marietta\, PA\, 17547\, United States
END:VEVENT
BEGIN:VEVENT
DTSTART;TZID=America/New_York:20190604T180000
DTEND;TZID=America/New_York:20190604T200000
DTSTAMP:20260422T025530
CREATED:20190104T014642Z
LAST-MODIFIED:20190104T014642Z
UID:1829-1559671200-1559678400@www.lifecyclesteam.org
SUMMARY:Ride – East Donegal Twp. Riverfront Park\, north of Marietta
DESCRIPTION:
URL:https://www.lifecyclesteam.org/events/ride-east-donegal-twp-riverfront-park-north-of-marietta-43/
LOCATION:East Donegal Twp. Riverfront Park\, 551 Vinegar Ferry Road\, Marietta\, PA\, 17547\, United States
END:VEVENT
BEGIN:VEVENT
DTSTART;TZID=America/New_York:20190603T180000
DTEND;TZID=America/New_York:20190603T200000
DTSTAMP:20260422T025530
CREATED:20190404T003732Z
LAST-MODIFIED:20190404T003732Z
UID:2024-1559584800-1559592000@www.lifecyclesteam.org
SUMMARY:Ride – Girls Team in Lititz
DESCRIPTION:
URL:https://www.lifecyclesteam.org/events/ride-girls-team-in-lititz-6/
LOCATION:Furniture4U\, 243 S. Broad Street\, Lititz\, PA\, 17543\, United States
END:VEVENT
BEGIN:VEVENT
DTSTART;TZID=America/New_York:20190601T073000
DTEND;TZID=America/New_York:20190601T160000
DTSTAMP:20260422T025530
CREATED:20190106T002517Z
LAST-MODIFIED:20190526T192717Z
UID:1934-1559374200-1559404800@www.lifecyclesteam.org
SUMMARY:CHANGE IN LOCATION -- Millersville Ride
DESCRIPTION:Saturday rides are invitational based on each rider’s ability\, the ride distance\, and the terrain of the ride.
URL:https://www.lifecyclesteam.org/events/mount-gretna-ride/
LOCATION:Freedom Memorial Park\, Millersville\, PA\, 17551\, United States
END:VEVENT
BEGIN:VEVENT
DTSTART;TZID=America/New_York:20190530T180000
DTEND;TZID=America/New_York:20190530T200000
DTSTAMP:20260422T025530
CREATED:20190104T021803Z
LAST-MODIFIED:20190530T163747Z
UID:1906-1559239200-1559246400@www.lifecyclesteam.org
SUMMARY:Ride CANCELLED due to weather – New Holland\, meets at Garden Spot Village
DESCRIPTION:
URL:https://www.lifecyclesteam.org/events/ride-new-holland-meets-at-garden-spot-village-20/
LOCATION:New Holland Community Memorial Park\, 400 Jackson Street\, New Holland\, PA\, 17557\, United States
END:VEVENT
BEGIN:VEVENT
DTSTART;TZID=America/New_York:20190530T180000
DTEND;TZID=America/New_York:20190530T200000
DTSTAMP:20260422T025530
CREATED:20190104T020010Z
LAST-MODIFIED:20190530T163719Z
UID:1868-1559239200-1559246400@www.lifecyclesteam.org
SUMMARY:Ride CANCELLED due to weather – Amos Herr Park\, Landisville
DESCRIPTION:
URL:https://www.lifecyclesteam.org/events/ride-amos-herr-park-landisville-42/
LOCATION:Amos Herr Park\, 1700 Nissley Road\, Landisville\, 17538
END:VEVENT
BEGIN:VEVENT
DTSTART;TZID=America/New_York:20190528T180000
DTEND;TZID=America/New_York:20190528T200000
DTSTAMP:20260422T025530
CREATED:20190104T014603Z
LAST-MODIFIED:20190528T190036Z
UID:1827-1559066400-1559073600@www.lifecyclesteam.org
SUMMARY:Ride CANCELLED due to weather – East Donegal Twp. Riverfront Park\, north of Marietta
DESCRIPTION:
URL:https://www.lifecyclesteam.org/events/ride-east-donegal-twp-riverfront-park-north-of-marietta-42/
LOCATION:East Donegal Twp. Riverfront Park\, 551 Vinegar Ferry Road\, Marietta\, PA\, 17547\, United States
END:VEVENT
BEGIN:VEVENT
DTSTART;VALUE=DATE:20190527
DTEND;VALUE=DATE:20190528
DTSTAMP:20260422T025530
CREATED:20190404T003544Z
LAST-MODIFIED:20190404T003621Z
UID:2022-1558915200-1559001599@www.lifecyclesteam.org
SUMMARY:No Girls Team ride tonight - Happy Memorial Day!
DESCRIPTION:
URL:https://www.lifecyclesteam.org/events/no-girls-team-ride-tonight-happy-memorial-day/
LOCATION:PA
END:VEVENT
BEGIN:VEVENT
DTSTART;TZID=America/New_York:20190523T180000
DTEND;TZID=America/New_York:20190523T200000
DTSTAMP:20260422T025530
CREATED:20190104T021729Z
LAST-MODIFIED:20190523T113326Z
UID:1904-1558634400-1558641600@www.lifecyclesteam.org
SUMMARY:Ride - CANCELLED due to weather – New Holland\, meets at Garden Spot Village
DESCRIPTION:
URL:https://www.lifecyclesteam.org/events/ride-new-holland-meets-at-garden-spot-village-19/
LOCATION:New Holland Community Memorial Park\, 400 Jackson Street\, New Holland\, PA\, 17557\, United States
END:VEVENT
BEGIN:VEVENT
DTSTART;TZID=America/New_York:20190523T180000
DTEND;TZID=America/New_York:20190523T200000
DTSTAMP:20260422T025530
CREATED:20190104T015939Z
LAST-MODIFIED:20190523T113402Z
UID:1866-1558634400-1558641600@www.lifecyclesteam.org
SUMMARY:Ride - CANCELLED due to weather – Amos Herr Park\, Landisville
DESCRIPTION:
URL:https://www.lifecyclesteam.org/events/ride-amos-herr-park-landisville-41/
LOCATION:Amos Herr Park\, 1700 Nissley Road\, Landisville\, 17538
END:VEVENT
BEGIN:VEVENT
DTSTART;TZID=America/New_York:20190521T180000
DTEND;TZID=America/New_York:20190521T200000
DTSTAMP:20260422T025530
CREATED:20190104T014509Z
LAST-MODIFIED:20190104T014509Z
UID:1825-1558461600-1558468800@www.lifecyclesteam.org
SUMMARY:Ride – East Donegal Twp. Riverfront Park\, north of Marietta
DESCRIPTION:
URL:https://www.lifecyclesteam.org/events/ride-east-donegal-twp-riverfront-park-north-of-marietta-41/
LOCATION:East Donegal Twp. Riverfront Park\, 551 Vinegar Ferry Road\, Marietta\, PA\, 17547\, United States
END:VEVENT
BEGIN:VEVENT
DTSTART;TZID=America/New_York:20190520T180000
DTEND;TZID=America/New_York:20190520T200000
DTSTAMP:20260422T025530
CREATED:20190404T003448Z
LAST-MODIFIED:20190404T003448Z
UID:2020-1558375200-1558382400@www.lifecyclesteam.org
SUMMARY:Ride – Girls Team in Lititz
DESCRIPTION:
URL:https://www.lifecyclesteam.org/events/ride-girls-team-in-lititz-5/
LOCATION:Furniture4U\, 243 S. Broad Street\, Lititz\, PA\, 17543\, United States
END:VEVENT
BEGIN:VEVENT
DTSTART;TZID=America/New_York:20190518T080000
DTEND;TZID=America/New_York:20190518T170000
DTSTAMP:20260422T025530
CREATED:20190106T001600Z
LAST-MODIFIED:20190106T001600Z
UID:1932-1558166400-1558198800@www.lifecyclesteam.org
SUMMARY:York Heritage Rail Trail Ride
DESCRIPTION:Saturday rides are invitational based on each rider’s ability\, the ride distance\, and the terrain of the ride. This ride begins at York College with an option for a 20 mile ride ending in New Freedom or a 40 mile loop ending at York College.
URL:https://www.lifecyclesteam.org/events/york-heritage-rail-trail-ride-2/
LOCATION:PA
END:VEVENT
BEGIN:VEVENT
DTSTART;TZID=America/New_York:20190516T180000
DTEND;TZID=America/New_York:20190516T200000
DTSTAMP:20260422T025530
CREATED:20190104T015907Z
LAST-MODIFIED:20190104T015907Z
UID:1864-1558029600-1558036800@www.lifecyclesteam.org
SUMMARY:Ride – Amos Herr Park\, Landisville
DESCRIPTION:
URL:https://www.lifecyclesteam.org/events/ride-amos-herr-park-landisville-40/
LOCATION:Amos Herr Park\, 1700 Nissley Road\, Landisville\, 17538
END:VEVENT
BEGIN:VEVENT
DTSTART;TZID=America/New_York:20190514T180000
DTEND;TZID=America/New_York:20190514T200000
DTSTAMP:20260422T025530
CREATED:20190104T014438Z
LAST-MODIFIED:20190104T014438Z
UID:1823-1557856800-1557864000@www.lifecyclesteam.org
SUMMARY:Ride – East Donegal Twp. Riverfront Park\, north of Marietta
DESCRIPTION:
URL:https://www.lifecyclesteam.org/events/ride-east-donegal-twp-riverfront-park-north-of-marietta-40/
LOCATION:East Donegal Twp. Riverfront Park\, 551 Vinegar Ferry Road\, Marietta\, PA\, 17547\, United States
END:VEVENT
BEGIN:VEVENT
DTSTART;TZID=America/New_York:20190513T180000
DTEND;TZID=America/New_York:20190513T200000
DTSTAMP:20260422T025530
CREATED:20190404T003354Z
LAST-MODIFIED:20190513T123638Z
UID:2018-1557770400-1557777600@www.lifecyclesteam.org
SUMMARY:Ride  CANCELLED DUE TO WEATHER – Girls Team in Lititz
DESCRIPTION:
URL:https://www.lifecyclesteam.org/events/ride-girls-team-in-lititz-4/
LOCATION:Furniture4U\, 243 S. Broad Street\, Lititz\, PA\, 17543\, United States
END:VEVENT
BEGIN:VEVENT
DTSTART;TZID=America/New_York:20190511T090000
DTEND;TZID=America/New_York:20190511T150000
DTSTAMP:20260422T025530
CREATED:20190106T001101Z
LAST-MODIFIED:20190106T001101Z
UID:1930-1557565200-1557586800@www.lifecyclesteam.org
SUMMARY:Smoketown Races
DESCRIPTION:Come out to watch elite bicyclist criterium races at the Smoketown Airport.  More details to follow.
URL:https://www.lifecyclesteam.org/events/smoketown-races/
LOCATION:Smoketown Airport\, 311 Airport Drive #7\, Smoketown\, PA\, 17576\, United States
END:VEVENT
BEGIN:VEVENT
DTSTART;TZID=America/New_York:20190509T180000
DTEND;TZID=America/New_York:20190509T200000
DTSTAMP:20260422T025530
CREATED:20190104T021650Z
LAST-MODIFIED:20190104T021650Z
UID:1902-1557424800-1557432000@www.lifecyclesteam.org
SUMMARY:Ride – New Holland\, meets at Garden Spot Village
DESCRIPTION:
URL:https://www.lifecyclesteam.org/events/ride-new-holland-meets-at-garden-spot-village-18/
LOCATION:New Holland Community Memorial Park\, 400 Jackson Street\, New Holland\, PA\, 17557\, United States
END:VEVENT
BEGIN:VEVENT
DTSTART;TZID=America/New_York:20190509T180000
DTEND;TZID=America/New_York:20190509T200000
DTSTAMP:20260422T025530
CREATED:20190104T015836Z
LAST-MODIFIED:20190104T015836Z
UID:1862-1557424800-1557432000@www.lifecyclesteam.org
SUMMARY:Ride – Amos Herr Park\, Landisville
DESCRIPTION:
URL:https://www.lifecyclesteam.org/events/ride-amos-herr-park-landisville-39/
LOCATION:Amos Herr Park\, 1700 Nissley Road\, Landisville\, 17538
END:VEVENT
BEGIN:VEVENT
DTSTART;TZID=America/New_York:20190507T180000
DTEND;TZID=America/New_York:20190507T200000
DTSTAMP:20260422T025530
CREATED:20190104T014224Z
LAST-MODIFIED:20190104T014224Z
UID:1821-1557252000-1557259200@www.lifecyclesteam.org
SUMMARY:Ride – East Donegal Twp. Riverfront Park\, north of Marietta
DESCRIPTION:
URL:https://www.lifecyclesteam.org/events/ride-east-donegal-twp-riverfront-park-north-of-marietta-39/
LOCATION:East Donegal Twp. Riverfront Park\, 551 Vinegar Ferry Road\, Marietta\, PA\, 17547\, United States
END:VEVENT
BEGIN:VEVENT
DTSTART;TZID=America/New_York:20190506T180000
DTEND;TZID=America/New_York:20190506T200000
DTSTAMP:20260422T025530
CREATED:20190404T003301Z
LAST-MODIFIED:20190404T003301Z
UID:2016-1557165600-1557172800@www.lifecyclesteam.org
SUMMARY:Ride – Girls Team in Lititz
DESCRIPTION:
URL:https://www.lifecyclesteam.org/events/ride-girls-team-in-lititz-3/
LOCATION:Furniture4U\, 243 S. Broad Street\, Lititz\, PA\, 17543\, United States
END:VEVENT
BEGIN:VEVENT
DTSTART;TZID=America/New_York:20190502T180000
DTEND;TZID=America/New_York:20190502T200000
DTSTAMP:20260422T025530
CREATED:20190104T021556Z
LAST-MODIFIED:20190523T113256Z
UID:1900-1556820000-1556827200@www.lifecyclesteam.org
SUMMARY:Ride – New Holland\, meets at Garden Spot Village
DESCRIPTION:
URL:https://www.lifecyclesteam.org/events/ride-new-holland-meets-at-garden-spot-village-17/
LOCATION:New Holland Community Memorial Park\, 400 Jackson Street\, New Holland\, PA\, 17557\, United States
END:VEVENT
BEGIN:VEVENT
DTSTART;TZID=America/New_York:20190502T180000
DTEND;TZID=America/New_York:20190502T200000
DTSTAMP:20260422T025530
CREATED:20190104T015716Z
LAST-MODIFIED:20190104T015716Z
UID:1858-1556820000-1556827200@www.lifecyclesteam.org
SUMMARY:Ride – Amos Herr Park\, Landisville
DESCRIPTION:
URL:https://www.lifecyclesteam.org/events/ride-amos-herr-park-landisville-37/
LOCATION:Amos Herr Park\, 1700 Nissley Road\, Landisville\, 17538
END:VEVENT
BEGIN:VEVENT
DTSTART;TZID=America/New_York:20190430T180000
DTEND;TZID=America/New_York:20190430T200000
DTSTAMP:20260422T025530
CREATED:20190104T014151Z
LAST-MODIFIED:20190104T014151Z
UID:1819-1556647200-1556654400@www.lifecyclesteam.org
SUMMARY:Ride – East Donegal Twp. Riverfront Park\, north of Marietta
DESCRIPTION:
URL:https://www.lifecyclesteam.org/events/ride-east-donegal-twp-riverfront-park-north-of-marietta-38/
LOCATION:East Donegal Twp. Riverfront Park\, 551 Vinegar Ferry Road\, Marietta\, PA\, 17547\, United States
END:VEVENT
BEGIN:VEVENT
DTSTART;TZID=America/New_York:20190429T180000
DTEND;TZID=America/New_York:20190429T200000
DTSTAMP:20260422T025530
CREATED:20190404T003220Z
LAST-MODIFIED:20190404T003220Z
UID:2014-1556560800-1556568000@www.lifecyclesteam.org
SUMMARY:Ride – Girls Team in Lititz
DESCRIPTION:
URL:https://www.lifecyclesteam.org/events/ride-girls-team-in-lititz-2/
LOCATION:Furniture4U\, 243 S. Broad Street\, Lititz\, PA\, 17543\, United States
END:VEVENT
BEGIN:VEVENT
DTSTART;TZID=America/New_York:20190427T073000
DTEND;TZID=America/New_York:20190427T140000
DTSTAMP:20260422T025530
CREATED:20190104T013415Z
LAST-MODIFIED:20190104T013645Z
UID:1807-1556350200-1556373600@www.lifecyclesteam.org
SUMMARY:Amish Farmland Ride
DESCRIPTION:Saturday rides are invitational based on ride ability.  Caravan from Community Fellowship Church to Emmanuel Methodist Church. \nThis ride begins and ends at Emmanuel Methodist Church in Brownstown\, touring eastern Lancaster County’s beautiful Amish farms and countryside.
URL:https://www.lifecyclesteam.org/events/amish-farmland-ride-2/
LOCATION:Community Fellowship Church\, 200 Bethel Dr.\, Lancaster\, PA\, 17601\, United States
END:VEVENT
BEGIN:VEVENT
DTSTART;TZID=America/New_York:20190425T180000
DTEND;TZID=America/New_York:20190425T200000
DTSTAMP:20260422T025530
CREATED:20190104T021527Z
LAST-MODIFIED:20190104T021527Z
UID:1898-1556215200-1556222400@www.lifecyclesteam.org
SUMMARY:Ride – New Holland\, meets at Garden Spot Village
DESCRIPTION:
URL:https://www.lifecyclesteam.org/events/ride-new-holland-meets-at-garden-spot-village-16/
LOCATION:New Holland Community Memorial Park\, 400 Jackson Street\, New Holland\, PA\, 17557\, United States
END:VEVENT
BEGIN:VEVENT
DTSTART;TZID=America/New_York:20190425T180000
DTEND;TZID=America/New_York:20190425T200000
DTSTAMP:20260422T025530
CREATED:20190104T015641Z
LAST-MODIFIED:20190104T015641Z
UID:1856-1556215200-1556222400@www.lifecyclesteam.org
SUMMARY:Ride – Amos Herr Park\, Landisville
DESCRIPTION:
URL:https://www.lifecyclesteam.org/events/ride-amos-herr-park-landisville-36/
LOCATION:Amos Herr Park\, 1700 Nissley Road\, Landisville\, 17538
END:VEVENT
BEGIN:VEVENT
DTSTART;TZID=America/New_York:20190423T180000
DTEND;TZID=America/New_York:20190423T200000
DTSTAMP:20260422T025530
CREATED:20190104T014116Z
LAST-MODIFIED:20190104T014116Z
UID:1817-1556042400-1556049600@www.lifecyclesteam.org
SUMMARY:Ride – East Donegal Twp. Riverfront Park\, north of Marietta
DESCRIPTION:
URL:https://www.lifecyclesteam.org/events/ride-east-donegal-twp-riverfront-park-north-of-marietta-37/
LOCATION:East Donegal Twp. Riverfront Park\, 551 Vinegar Ferry Road\, Marietta\, PA\, 17547\, United States
END:VEVENT
BEGIN:VEVENT
DTSTART;TZID=America/New_York:20190422T180000
DTEND;TZID=America/New_York:20190422T200000
DTSTAMP:20260422T025530
CREATED:20190404T003119Z
LAST-MODIFIED:20190404T003119Z
UID:2012-1555956000-1555963200@www.lifecyclesteam.org
SUMMARY:Ride – Girls Team in Lititz
DESCRIPTION:
URL:https://www.lifecyclesteam.org/events/ride-girls-team-in-lititz/
LOCATION:Furniture4U\, 243 S. Broad Street\, Lititz\, PA\, 17543\, United States
END:VEVENT
END:VCALENDAR