BEGIN:VCALENDAR
VERSION:2.0
PRODID:-// - ECPv6.15.13.1//NONSGML v1.0//EN
CALSCALE:GREGORIAN
METHOD:PUBLISH
X-ORIGINAL-URL:https://www.lifecyclesteam.org
X-WR-CALDESC:Events for 
REFRESH-INTERVAL;VALUE=DURATION:PT1H
X-Robots-Tag:noindex
X-PUBLISHED-TTL:PT1H
BEGIN:VTIMEZONE
TZID:America/New_York
BEGIN:DAYLIGHT
TZOFFSETFROM:-0500
TZOFFSETTO:-0400
TZNAME:EDT
DTSTART:20170312T070000
END:DAYLIGHT
BEGIN:STANDARD
TZOFFSETFROM:-0400
TZOFFSETTO:-0500
TZNAME:EST
DTSTART:20171105T060000
END:STANDARD
BEGIN:DAYLIGHT
TZOFFSETFROM:-0500
TZOFFSETTO:-0400
TZNAME:EDT
DTSTART:20180311T070000
END:DAYLIGHT
BEGIN:STANDARD
TZOFFSETFROM:-0400
TZOFFSETTO:-0500
TZNAME:EST
DTSTART:20181104T060000
END:STANDARD
BEGIN:DAYLIGHT
TZOFFSETFROM:-0500
TZOFFSETTO:-0400
TZNAME:EDT
DTSTART:20190310T070000
END:DAYLIGHT
BEGIN:STANDARD
TZOFFSETFROM:-0400
TZOFFSETTO:-0500
TZNAME:EST
DTSTART:20191103T060000
END:STANDARD
END:VTIMEZONE
BEGIN:VEVENT
DTSTART;TZID=America/New_York:20180630T080000
DTEND;TZID=America/New_York:20180630T170000
DTSTAMP:20260422T202125
CREATED:20170920T194311Z
LAST-MODIFIED:20180116T211546Z
UID:1154-1530345600-1530378000@www.lifecyclesteam.org
SUMMARY:Mount Gretna Ride
DESCRIPTION:Event rides are invitational based on each rider’s ability\, the ride distance\, and the terrain of the ride.
URL:https://www.lifecyclesteam.org/events/york-heritage-rail-trail-ride/
LOCATION:PA
END:VEVENT
BEGIN:VEVENT
DTSTART;TZID=America/New_York:20180628T180000
DTEND;TZID=America/New_York:20180628T200000
DTSTAMP:20260422T202125
CREATED:20170920T200953Z
LAST-MODIFIED:20180116T211453Z
UID:1193-1530208800-1530216000@www.lifecyclesteam.org
SUMMARY:Ride – Amos Herr Park\, Landisville
DESCRIPTION:
URL:https://www.lifecyclesteam.org/events/ride-amos-herr-park-landisville-28/
LOCATION:Amos Herr Park\, 1700 Nissley Road\, Landisville\, 17538
END:VEVENT
BEGIN:VEVENT
DTSTART;TZID=America/New_York:20180627T180000
DTEND;TZID=America/New_York:20180627T200000
DTSTAMP:20260422T202125
CREATED:20180405T225337Z
LAST-MODIFIED:20180405T225337Z
UID:1677-1530122400-1530129600@www.lifecyclesteam.org
SUMMARY:Ride - New Holland\, meets at Garden Spot Village
DESCRIPTION:
URL:https://www.lifecyclesteam.org/events/ride-new-holland-meets-at-garden-spot-village-8/
LOCATION:New Holland Community Memorial Park\, 400 Jackson Street\, New Holland\, PA\, 17557\, United States
END:VEVENT
BEGIN:VEVENT
DTSTART;TZID=America/New_York:20180626T180000
DTEND;TZID=America/New_York:20180626T200000
DTSTAMP:20260422T202125
CREATED:20170920T184940Z
LAST-MODIFIED:20180116T211421Z
UID:1111-1530036000-1530043200@www.lifecyclesteam.org
SUMMARY:Ride – East Donegal Twp. Riverfront Park\, north of Marietta
DESCRIPTION:
URL:https://www.lifecyclesteam.org/events/ride-east-donegal-twp-riverfront-park-north-of-marietta-29/
LOCATION:East Donegal Twp. Riverfront Park\, 551 Vinegar Ferry Road\, Marietta\, PA\, 17547\, United States
END:VEVENT
BEGIN:VEVENT
DTSTART;TZID=America/New_York:20180621T180000
DTEND;TZID=America/New_York:20180621T200000
DTSTAMP:20260422T202125
CREATED:20170920T200851Z
LAST-MODIFIED:20180116T211346Z
UID:1191-1529604000-1529611200@www.lifecyclesteam.org
SUMMARY:Ride – Amos Herr Park\, Landisville
DESCRIPTION:
URL:https://www.lifecyclesteam.org/events/ride-amos-herr-park-landisville-27/
LOCATION:Amos Herr Park\, 1700 Nissley Road\, Landisville\, 17538
END:VEVENT
BEGIN:VEVENT
DTSTART;VALUE=DATE:20180620
DTEND;VALUE=DATE:20180621
DTSTAMP:20260422T202125
CREATED:20180405T225843Z
LAST-MODIFIED:20180405T225843Z
UID:1689-1529452800-1529539199@www.lifecyclesteam.org
SUMMARY:No New Holland ride tonight
DESCRIPTION:
URL:https://www.lifecyclesteam.org/events/no-new-holland-ride-tonight/
LOCATION:PA
END:VEVENT
BEGIN:VEVENT
DTSTART;TZID=America/New_York:20180619T180000
DTEND;TZID=America/New_York:20180619T200000
DTSTAMP:20260422T202125
CREATED:20170920T184853Z
LAST-MODIFIED:20180116T211307Z
UID:1109-1529431200-1529438400@www.lifecyclesteam.org
SUMMARY:Ride – East Donegal Twp. Riverfront Park\, north of Marietta
DESCRIPTION:
URL:https://www.lifecyclesteam.org/events/ride-east-donegal-twp-riverfront-park-north-of-marietta-28/
LOCATION:East Donegal Twp. Riverfront Park\, 551 Vinegar Ferry Road\, Marietta\, PA\, 17547\, United States
END:VEVENT
BEGIN:VEVENT
DTSTART;TZID=America/New_York:20180616T100000
DTEND;TZID=America/New_York:20180616T150000
DTSTAMP:20260422T202125
CREATED:20170920T193301Z
LAST-MODIFIED:20180529T173321Z
UID:1151-1529143200-1529161200@www.lifecyclesteam.org
SUMMARY:Columbia\, Sam Lewis\, Jim Macks Loop
DESCRIPTION:Saturday rides are invitational based on each rider’s ability\, the ride distance\, and the terrain of the ride. \nThis ride route begins at the DeRemers house and heads east over the Susquehanna River with a short loop in Columbia and then back across the river to Wrightsville. Next is the climb up Cool Springs Road to Sam Lewis State Park.  From there it is downhill to Jim Macks Ice Cream store on Route 462.  Lunch and ice cream to end the day!
URL:https://www.lifecyclesteam.org/events/columbia-sam-lewis-jim-macks-loop/
LOCATION:PA
END:VEVENT
BEGIN:VEVENT
DTSTART;TZID=America/New_York:20180614T180000
DTEND;TZID=America/New_York:20180614T200000
DTSTAMP:20260422T202125
CREATED:20170920T200811Z
LAST-MODIFIED:20180116T211153Z
UID:1189-1528999200-1529006400@www.lifecyclesteam.org
SUMMARY:Ride – Amos Herr Park\, Landisville
DESCRIPTION:
URL:https://www.lifecyclesteam.org/events/ride-amos-herr-park-landisville-26/
LOCATION:Amos Herr Park\, 1700 Nissley Road\, Landisville\, 17538
END:VEVENT
BEGIN:VEVENT
DTSTART;TZID=America/New_York:20180613T180000
DTEND;TZID=America/New_York:20180613T200000
DTSTAMP:20260422T202125
CREATED:20180405T211920Z
LAST-MODIFIED:20180405T211920Z
UID:1666-1528912800-1528920000@www.lifecyclesteam.org
SUMMARY:Ride - New Holland\, meets at Garden Spot Village
DESCRIPTION:
URL:https://www.lifecyclesteam.org/events/ride-new-holland-meets-at-garden-spot-village-7/
LOCATION:New Holland Community Memorial Park\, 400 Jackson Street\, New Holland\, PA\, 17557\, United States
END:VEVENT
BEGIN:VEVENT
DTSTART;TZID=America/New_York:20180612T180000
DTEND;TZID=America/New_York:20180612T200000
DTSTAMP:20260422T202125
CREATED:20170920T184806Z
LAST-MODIFIED:20180116T211122Z
UID:1107-1528826400-1528833600@www.lifecyclesteam.org
SUMMARY:Ride – East Donegal Twp. Riverfront Park\, north of Marietta
DESCRIPTION:
URL:https://www.lifecyclesteam.org/events/ride-east-donegal-twp-riverfront-park-north-of-marietta-27/
LOCATION:PA
END:VEVENT
BEGIN:VEVENT
DTSTART;TZID=America/New_York:20180607T180000
DTEND;TZID=America/New_York:20180607T200000
DTSTAMP:20260422T202125
CREATED:20170920T200732Z
LAST-MODIFIED:20180116T211047Z
UID:1187-1528394400-1528401600@www.lifecyclesteam.org
SUMMARY:Ride – Amos Herr Park\, Landisville
DESCRIPTION:
URL:https://www.lifecyclesteam.org/events/ride-amos-herr-park-landisville-25/
LOCATION:Amos Herr Park\, 1700 Nissley Road\, Landisville\, 17538
END:VEVENT
BEGIN:VEVENT
DTSTART;TZID=America/New_York:20180606T180000
DTEND;TZID=America/New_York:20180606T200000
DTSTAMP:20260422T202125
CREATED:20180405T211626Z
LAST-MODIFIED:20180405T211626Z
UID:1664-1528308000-1528315200@www.lifecyclesteam.org
SUMMARY:Ride - New Holland\, meets at Garden Spot Village
DESCRIPTION:
URL:https://www.lifecyclesteam.org/events/ride-new-holland-meets-at-garden-spot-village-6/
LOCATION:New Holland Community Memorial Park\, 400 Jackson Street\, New Holland\, PA\, 17557\, United States
END:VEVENT
BEGIN:VEVENT
DTSTART;TZID=America/New_York:20180605T180000
DTEND;TZID=America/New_York:20180605T200000
DTSTAMP:20260422T202125
CREATED:20170920T184639Z
LAST-MODIFIED:20180116T211014Z
UID:1105-1528221600-1528228800@www.lifecyclesteam.org
SUMMARY:Ride – East Donegal Twp. Riverfront Park\, north of Marietta
DESCRIPTION:
URL:https://www.lifecyclesteam.org/events/ride-east-donegal-twp-riverfront-park-north-of-marietta-26/
LOCATION:East Donegal Twp. Riverfront Park\, 551 Vinegar Ferry Road\, Marietta\, PA\, 17547\, United States
END:VEVENT
BEGIN:VEVENT
DTSTART;TZID=America/New_York:20180602T080000
DTEND;TZID=America/New_York:20180602T130000
DTSTAMP:20260422T202125
CREATED:20170920T192648Z
LAST-MODIFIED:20180529T173232Z
UID:1149-1527926400-1527944400@www.lifecyclesteam.org
SUMMARY:SCHEDULE CHANGE -- Pedal to Preserve Ride
DESCRIPTION:2 meet up options: \n7:00 at Community Fellowship Church or 7:30 at Garden Spot Village \nPedal to Preserve 2018 \nCelebrate farmland preservation with Lancaster Farmland Trust by riding in our Pedal to Preserve 2018. This is a charitable\, fundraising event. With distances of 6\, 20\, and 51 miles\, these three leisure biking routes provide scenic views of more than 75 family-owned\, preserved farms in the heart of beautiful Amish country in Lancaster County\, Pennsylvania. For families\, casual riders\, and experienced cyclists\, this event offers fun for all ages and abilities! Pedal to Preserve 2018 is a leisure ride. Marked routes\, on-course support vehicles\, coffee\, breakfast snacks\, rest stops\, and lunch are included in your registration. All proceeds benefit the Trust and farmland preservation.
URL:https://www.lifecyclesteam.org/events/car-wash-fundraiser-at-stauffers-of-kissel-hill-on-rohrerstown-road/
LOCATION:New Holland Community Memorial Park\, 400 Jackson Street\, New Holland\, PA\, 17557\, United States
END:VEVENT
BEGIN:VEVENT
DTSTART;TZID=America/New_York:20180531T180000
DTEND;TZID=America/New_York:20180531T200000
DTSTAMP:20260422T202125
CREATED:20170920T200626Z
LAST-MODIFIED:20180531T164152Z
UID:1185-1527789600-1527796800@www.lifecyclesteam.org
SUMMARY:Ride – CANCELLED - rain and more rain and then lightening...
DESCRIPTION:
URL:https://www.lifecyclesteam.org/events/ride-amos-herr-park-landisville-24/
LOCATION:Amos Herr Park\, 1700 Nissley Road\, Landisville\, 17538
END:VEVENT
BEGIN:VEVENT
DTSTART;TZID=America/New_York:20180530T180000
DTEND;TZID=America/New_York:20180530T200000
DTSTAMP:20260422T202125
CREATED:20180405T211420Z
LAST-MODIFIED:20180405T211420Z
UID:1662-1527703200-1527710400@www.lifecyclesteam.org
SUMMARY:Ride - New Holland\, meets at Garden Spot Village
DESCRIPTION:
URL:https://www.lifecyclesteam.org/events/ride-new-holland-meets-at-garden-spot-village-5/
LOCATION:New Holland Community Memorial Park\, 400 Jackson Street\, New Holland\, PA\, 17557\, United States
END:VEVENT
BEGIN:VEVENT
DTSTART;TZID=America/New_York:20180529T180000
DTEND;TZID=America/New_York:20180529T200000
DTSTAMP:20260422T202125
CREATED:20170920T184534Z
LAST-MODIFIED:20180116T205924Z
UID:1103-1527616800-1527624000@www.lifecyclesteam.org
SUMMARY:Ride – East Donegal Twp. Riverfront Park\, north of Marietta
DESCRIPTION:
URL:https://www.lifecyclesteam.org/events/ride-east-donegal-twp-riverfront-park-north-of-marietta-25/
LOCATION:East Donegal Twp. Riverfront Park\, 551 Vinegar Ferry Road\, Marietta\, PA\, 17547\, United States
END:VEVENT
BEGIN:VEVENT
DTSTART;TZID=America/New_York:20180524T180000
DTEND;TZID=America/New_York:20180524T200000
DTSTAMP:20260422T202125
CREATED:20170920T200546Z
LAST-MODIFIED:20180116T205849Z
UID:1183-1527184800-1527192000@www.lifecyclesteam.org
SUMMARY:Ride – Amos Herr Park\, Landisville
DESCRIPTION:
URL:https://www.lifecyclesteam.org/events/ride-amos-herr-park-landisville-23/
LOCATION:Amos Herr Park\, 1700 Nissley Road\, Landisville\, 17538
END:VEVENT
BEGIN:VEVENT
DTSTART;TZID=America/New_York:20180523T180000
DTEND;TZID=America/New_York:20180523T200000
DTSTAMP:20260422T202125
CREATED:20180405T211349Z
LAST-MODIFIED:20180405T211349Z
UID:1660-1527098400-1527105600@www.lifecyclesteam.org
SUMMARY:Ride - New Holland\, meets at Garden Spot Village
DESCRIPTION:
URL:https://www.lifecyclesteam.org/events/ride-new-holland-meets-at-garden-spot-village-4/
LOCATION:New Holland Community Memorial Park\, 400 Jackson Street\, New Holland\, PA\, 17557\, United States
END:VEVENT
BEGIN:VEVENT
DTSTART;TZID=America/New_York:20180522T180000
DTEND;TZID=America/New_York:20180522T200000
DTSTAMP:20260422T202125
CREATED:20170920T184445Z
LAST-MODIFIED:20180522T162419Z
UID:1101-1527012000-1527019200@www.lifecyclesteam.org
SUMMARY:Ride – CANCELLED - more rain :-(
DESCRIPTION:
URL:https://www.lifecyclesteam.org/events/ride-east-donegal-twp-riverfront-park-north-of-marietta-24/
LOCATION:East Donegal Twp. Riverfront Park\, 551 Vinegar Ferry Road\, Marietta\, PA\, 17547\, United States
END:VEVENT
BEGIN:VEVENT
DTSTART;TZID=America/New_York:20180517T180000
DTEND;TZID=America/New_York:20180517T200000
DTSTAMP:20260422T202125
CREATED:20170920T200502Z
LAST-MODIFIED:20180517T150412Z
UID:1181-1526580000-1526587200@www.lifecyclesteam.org
SUMMARY:Ride – CANCELLED more rain\, build the ark already :-(
DESCRIPTION:
URL:https://www.lifecyclesteam.org/events/ride-amos-herr-park-landisville-22/
LOCATION:Amos Herr Park\, 1700 Nissley Road\, Landisville\, 17538
END:VEVENT
BEGIN:VEVENT
DTSTART;TZID=America/New_York:20180516T180000
DTEND;TZID=America/New_York:20180516T200000
DTSTAMP:20260422T202125
CREATED:20180405T211316Z
LAST-MODIFIED:20180516T195553Z
UID:1658-1526493600-1526500800@www.lifecyclesteam.org
SUMMARY:Ride - Cancelled due to rain  :-(
DESCRIPTION:
URL:https://www.lifecyclesteam.org/events/ride-new-holland-meets-at-garden-spot-village-3/
LOCATION:New Holland Community Memorial Park\, 400 Jackson Street\, New Holland\, PA\, 17557\, United States
END:VEVENT
BEGIN:VEVENT
DTSTART;TZID=America/New_York:20180515T180000
DTEND;TZID=America/New_York:20180515T200000
DTSTAMP:20260422T202125
CREATED:20170920T184359Z
LAST-MODIFIED:20180515T162355Z
UID:1099-1526407200-1526414400@www.lifecyclesteam.org
SUMMARY:Ride – CANCELLED - due to severe thunderstorms
DESCRIPTION:
URL:https://www.lifecyclesteam.org/events/ride-east-donegal-twp-riverfront-park-north-of-marietta-23/
LOCATION:East Donegal Twp. Riverfront Park\, 551 Vinegar Ferry Road\, Marietta\, PA\, 17547\, United States
END:VEVENT
BEGIN:VEVENT
DTSTART;TZID=America/New_York:20180512T130000
DTEND;TZID=America/New_York:20180512T160000
DTSTAMP:20260422T202125
CREATED:20180405T204725Z
LAST-MODIFIED:20180405T204725Z
UID:1646-1526130000-1526140800@www.lifecyclesteam.org
SUMMARY:Mural Painting at Columbia River Park
DESCRIPTION:A unique opportunity for teens\, parents\, and leaders to help paint a large mural that will beautify an older building near the Susquehanna River in Columbia\, PA. The 200 foot long mural was drawn by a professional artist and is broken down into manageable pieces for volunteers to paint. You don’t need to be an artist – come help create a work of beauty alongside others!
URL:https://www.lifecyclesteam.org/events/mural-painting-at-columbia-river-park/
LOCATION:Columbia River Park\, 41 Walnut Street\, Columbia\, PA\, 17512\, United States
END:VEVENT
BEGIN:VEVENT
DTSTART;TZID=America/New_York:20180512T090000
DTEND;TZID=America/New_York:20180512T120000
DTSTAMP:20260422T202125
CREATED:20180404T205211Z
LAST-MODIFIED:20180405T202748Z
UID:1635-1526115600-1526126400@www.lifecyclesteam.org
SUMMARY:Runway 5K - LIFECYCLES
DESCRIPTION:This is what the sponsors of the race have to say: \nWe’re excited to bring back the Runway 5k in conjunction with the Thru-It-All bicycling team. Please join us this year for a fun\, unique 5k run! Run 3.1 miles on Smoketown Airport’s runway! Each loop around the runway is a flat and fast 1 mile. Come out and get a PR!\nAll proceeds from this race will support LifeCycles. LIFECYCLES is an organization that exists to build young men of character. LIFECYCLES wraps mentoring\, spiritual development\, and life skills development in the adventure of a Christ-centered bicycle touring experience for urban teens. \nQuestions? Contact juliehorst@comcast.net
URL:https://www.lifecyclesteam.org/events/runway-5k-lifecycles/
LOCATION:Smoketown Airport\, 311 Airport Drive #7\, Smoketown\, PA\, 17576\, United States
END:VEVENT
BEGIN:VEVENT
DTSTART;TZID=America/New_York:20180510T180000
DTEND;TZID=America/New_York:20180510T200000
DTSTAMP:20260422T202125
CREATED:20170920T200427Z
LAST-MODIFIED:20180507T021019Z
UID:1179-1525975200-1525982400@www.lifecyclesteam.org
SUMMARY:This week's rides are cancelled while we undergo an insurance review by the LIFECYCLES board of directors. We hope to resume rides next week!
DESCRIPTION:
URL:https://www.lifecyclesteam.org/events/ride-amos-herr-park-landisville-21/
LOCATION:Clipper Stadium\, 650 North Prince Street\, Lancaster\, PA\, 17603\, United States
END:VEVENT
BEGIN:VEVENT
DTSTART;TZID=America/New_York:20180509T180000
DTEND;TZID=America/New_York:20180509T200000
DTSTAMP:20260422T202125
CREATED:20180405T211212Z
LAST-MODIFIED:20180507T020916Z
UID:1656-1525888800-1525896000@www.lifecyclesteam.org
SUMMARY:This week's rides are cancelled while we undergo an insurance review by the LIFECYCLES board of directors. We hope to resume rides next week!
DESCRIPTION:
URL:https://www.lifecyclesteam.org/events/ride-new-holland-meets-at-garden-spot-village-2/
LOCATION:New Holland Community Memorial Park\, 400 Jackson Street\, New Holland\, PA\, 17557\, United States
END:VEVENT
BEGIN:VEVENT
DTSTART;TZID=America/New_York:20180508T180000
DTEND;TZID=America/New_York:20180508T200000
DTSTAMP:20260422T202125
CREATED:20170920T184311Z
LAST-MODIFIED:20180507T020816Z
UID:1097-1525802400-1525809600@www.lifecyclesteam.org
SUMMARY:This week's rides are cancelled while we undergo an insurance review by the LIFECYCLES board of directors. We hope to resume rides next week!
DESCRIPTION:
URL:https://www.lifecyclesteam.org/events/ride-east-donegal-twp-riverfront-park-north-of-marietta-22/
LOCATION:East Donegal Twp. Riverfront Park\, 551 Vinegar Ferry Road\, Marietta\, PA\, 17547\, United States
END:VEVENT
BEGIN:VEVENT
DTSTART;TZID=America/New_York:20180505T090000
DTEND;TZID=America/New_York:20180505T130000
DTSTAMP:20260422T202125
CREATED:20170920T191310Z
LAST-MODIFIED:20180504T214642Z
UID:1143-1525510800-1525525200@www.lifecyclesteam.org
SUMMARY:LIFECYCLES Family/Community Ride Day
DESCRIPTION:This day is an opportunity for friends\, families\, and the community to join us for a ride on the Northwest Rail Trail north of Marietta. All ages are welcome. Feel free to ride a bike\, push a stroller\, walk or jog on the trail as we show you what a typical weeknight ride looks like for the teens and leaders of LIFECYCLES. We invite you to join us for lunch following the morning’s activities! \n 
URL:https://www.lifecyclesteam.org/events/event-ride-sunrise-rotary-club-ride-for-literacy/
LOCATION:East Donegal Twp. Riverfront Park\, 551 Vinegar Ferry Road\, Marietta\, PA\, 17547\, United States
END:VEVENT
END:VCALENDAR