BEGIN:VCALENDAR
VERSION:2.0
PRODID:-// - ECPv6.15.13.1//NONSGML v1.0//EN
CALSCALE:GREGORIAN
METHOD:PUBLISH
X-ORIGINAL-URL:https://www.lifecyclesteam.org
X-WR-CALDESC:Events for 
REFRESH-INTERVAL;VALUE=DURATION:PT1H
X-Robots-Tag:noindex
X-PUBLISHED-TTL:PT1H
BEGIN:VTIMEZONE
TZID:America/New_York
BEGIN:DAYLIGHT
TZOFFSETFROM:-0500
TZOFFSETTO:-0400
TZNAME:EDT
DTSTART:20170312T070000
END:DAYLIGHT
BEGIN:STANDARD
TZOFFSETFROM:-0400
TZOFFSETTO:-0500
TZNAME:EST
DTSTART:20171105T060000
END:STANDARD
BEGIN:DAYLIGHT
TZOFFSETFROM:-0500
TZOFFSETTO:-0400
TZNAME:EDT
DTSTART:20180311T070000
END:DAYLIGHT
BEGIN:STANDARD
TZOFFSETFROM:-0400
TZOFFSETTO:-0500
TZNAME:EST
DTSTART:20181104T060000
END:STANDARD
BEGIN:DAYLIGHT
TZOFFSETFROM:-0500
TZOFFSETTO:-0400
TZNAME:EDT
DTSTART:20190310T070000
END:DAYLIGHT
BEGIN:STANDARD
TZOFFSETFROM:-0400
TZOFFSETTO:-0500
TZNAME:EST
DTSTART:20191103T060000
END:STANDARD
END:VTIMEZONE
BEGIN:VEVENT
DTSTART;TZID=America/New_York:20180821T180000
DTEND;TZID=America/New_York:20180821T200000
DTSTAMP:20260422T231911
CREATED:20170920T190604Z
LAST-MODIFIED:20180821T220627Z
UID:1135-1534874400-1534881600@www.lifecyclesteam.org
SUMMARY:CANCELLED DUE TO INCLEMENT WEATHER    Ride – East Donegal Twp. Riverfront Park\, north of Marietta
DESCRIPTION:
URL:https://www.lifecyclesteam.org/events/ride-east-donegal-twp-riverfront-park-north-of-marietta-33/
LOCATION:East Donegal Twp. Riverfront Park\, 551 Vinegar Ferry Road\, Marietta\, PA\, 17547\, United States
END:VEVENT
BEGIN:VEVENT
DTSTART;TZID=America/New_York:20180819T070000
DTEND;TZID=America/New_York:20180819T120000
DTSTAMP:20260422T231911
CREATED:20170920T194609Z
LAST-MODIFIED:20180116T212745Z
UID:1156-1534662000-1534680000@www.lifecyclesteam.org
SUMMARY:Event Ride - Lancaster Bicycle Club "Covered Bridge Classic"
DESCRIPTION:Event rides are invitational based on each rider’s ability\, the ride distance\, and the terrain of the ride.
URL:https://www.lifecyclesteam.org/events/event-ride-lancaster-bicycle-club-covered-bridge-classic/
LOCATION:HACC – Lancaster Campus\, 1641 Old Philadelphia Pike\, Lancaster\, PA\, 17602\, United States
END:VEVENT
BEGIN:VEVENT
DTSTART;TZID=America/New_York:20180816T180000
DTEND;TZID=America/New_York:20180816T200000
DTSTAMP:20260422T231911
CREATED:20170920T201213Z
LAST-MODIFIED:20180116T212700Z
UID:1197-1534442400-1534449600@www.lifecyclesteam.org
SUMMARY:Ride – Amos Herr Park\, Landisville
DESCRIPTION:
URL:https://www.lifecyclesteam.org/events/ride-amos-herr-park-landisville-30/
LOCATION:Amos Herr Park\, 1700 Nissley Road\, Landisville\, 17538
END:VEVENT
BEGIN:VEVENT
DTSTART;TZID=America/New_York:20180815T180000
DTEND;TZID=America/New_York:20180815T200000
DTSTAMP:20260422T231911
CREATED:20180405T225451Z
LAST-MODIFIED:20180405T225451Z
UID:1681-1534356000-1534363200@www.lifecyclesteam.org
SUMMARY:Ride - New Holland\, meets at Garden Spot Village
DESCRIPTION:
URL:https://www.lifecyclesteam.org/events/ride-new-holland-meets-at-garden-spot-village-10/
LOCATION:New Holland Community Memorial Park\, 400 Jackson Street\, New Holland\, PA\, 17557\, United States
END:VEVENT
BEGIN:VEVENT
DTSTART;TZID=America/New_York:20180814T180000
DTEND;TZID=America/New_York:20180814T200000
DTSTAMP:20260422T231911
CREATED:20170920T190524Z
LAST-MODIFIED:20180116T213255Z
UID:1133-1534269600-1534276800@www.lifecyclesteam.org
SUMMARY:Ride – East Donegal Twp. Riverfront Park\, north of Marietta
DESCRIPTION:
URL:https://www.lifecyclesteam.org/events/ride-east-donegal-twp-riverfront-park-north-of-marietta-32/
LOCATION:East Donegal Twp. Riverfront Park\, 551 Vinegar Ferry Road\, Marietta\, PA\, 17547\, United States
END:VEVENT
BEGIN:VEVENT
DTSTART;TZID=America/New_York:20180809T180000
DTEND;TZID=America/New_York:20180809T200000
DTSTAMP:20260422T231911
CREATED:20170920T190438Z
LAST-MODIFIED:20180504T215203Z
UID:1131-1533837600-1533844800@www.lifecyclesteam.org
SUMMARY:Summer Celebration Picnic
DESCRIPTION:Lancaster Burger Company is catering this event.
URL:https://www.lifecyclesteam.org/events/summer-celebration-picnic-2/
LOCATION:Amos Herr Park\, 1700 Nissley Road\, Landisville\, 17538
END:VEVENT
BEGIN:VEVENT
DTSTART;VALUE=DATE:20180808
DTEND;VALUE=DATE:20180809
DTSTAMP:20260422T231911
CREATED:20180405T230049Z
LAST-MODIFIED:20180405T230049Z
UID:1697-1533686400-1533772799@www.lifecyclesteam.org
SUMMARY:No New Holland ride tonight
DESCRIPTION:
URL:https://www.lifecyclesteam.org/events/no-new-holland-ride-tonight-5/
LOCATION:PA
END:VEVENT
BEGIN:VEVENT
DTSTART;VALUE=DATE:20180807
DTEND;VALUE=DATE:20180808
DTSTAMP:20260422T231911
CREATED:20180405T230117Z
LAST-MODIFIED:20180405T230117Z
UID:1699-1533600000-1533686399@www.lifecyclesteam.org
SUMMARY:No Marietta ride tonight
DESCRIPTION:
URL:https://www.lifecyclesteam.org/events/no-marietta-ride-tonight/
LOCATION:PA
END:VEVENT
BEGIN:VEVENT
DTSTART;VALUE=DATE:20180729
DTEND;VALUE=DATE:20180805
DTSTAMP:20260422T231911
CREATED:20170920T190145Z
LAST-MODIFIED:20180405T211824Z
UID:1125-1532822400-1533427199@www.lifecyclesteam.org
SUMMARY:Laurel Highlands Summer Challenge Ride
DESCRIPTION:Departs from Community Fellowship Church parking lot.
URL:https://www.lifecyclesteam.org/events/laurel-highlands-summer-challenge-ride/
LOCATION:White Sulphur Springs Retreat Center\, 4500 Milligans Cove Road\, Manns Choice\, PA\, 15550\, United States
END:VEVENT
BEGIN:VEVENT
DTSTART;VALUE=DATE:20180726
DTEND;VALUE=DATE:20180727
DTSTAMP:20260422T231911
CREATED:20170920T190346Z
LAST-MODIFIED:20180116T212246Z
UID:1129-1532563200-1532649599@www.lifecyclesteam.org
SUMMARY:No ride tonight - prepping for the Summer Challenge Ride
DESCRIPTION:
URL:https://www.lifecyclesteam.org/events/no-ride-tonight-prepping-for-the-summer-challenge-ride/
LOCATION:PA
END:VEVENT
BEGIN:VEVENT
DTSTART;TZID=America/New_York:20180725T180000
DTEND;TZID=America/New_York:20180725T200000
DTSTAMP:20260422T231911
CREATED:20180405T225414Z
LAST-MODIFIED:20180405T225414Z
UID:1679-1532541600-1532548800@www.lifecyclesteam.org
SUMMARY:Ride - New Holland\, meets at Garden Spot Village
DESCRIPTION:
URL:https://www.lifecyclesteam.org/events/ride-new-holland-meets-at-garden-spot-village-9/
LOCATION:New Holland Community Memorial Park\, 400 Jackson Street\, New Holland\, PA\, 17557\, United States
END:VEVENT
BEGIN:VEVENT
DTSTART;TZID=America/New_York:20180724T180000
DTEND;TZID=America/New_York:20180724T200000
DTSTAMP:20260422T231911
CREATED:20170920T185603Z
LAST-MODIFIED:20180724T125158Z
UID:1123-1532455200-1532462400@www.lifecyclesteam.org
SUMMARY:CANCELLED DUE TO RAIN AND FLOODING
DESCRIPTION:
URL:https://www.lifecyclesteam.org/events/ride-east-donegal-twp-riverfront-park-north-of-marietta-31/
LOCATION:East Donegal Twp. Riverfront Park\, 551 Vinegar Ferry Road\, Marietta\, PA\, 17547\, United States
END:VEVENT
BEGIN:VEVENT
DTSTART;TZID=America/New_York:20180719T180000
DTEND;TZID=America/New_York:20180719T200000
DTSTAMP:20260422T231911
CREATED:20170920T201047Z
LAST-MODIFIED:20180116T212125Z
UID:1195-1532023200-1532030400@www.lifecyclesteam.org
SUMMARY:Ride – Amos Herr Park\, Landisville
DESCRIPTION:
URL:https://www.lifecyclesteam.org/events/ride-amos-herr-park-landisville-29/
LOCATION:Amos Herr Park\, 1700 Nissley Road\, Landisville\, 17538
END:VEVENT
BEGIN:VEVENT
DTSTART;VALUE=DATE:20180718
DTEND;VALUE=DATE:20180719
DTSTAMP:20260422T231911
CREATED:20180405T230022Z
LAST-MODIFIED:20180405T230022Z
UID:1695-1531872000-1531958399@www.lifecyclesteam.org
SUMMARY:No New Holland ride tonight
DESCRIPTION:
URL:https://www.lifecyclesteam.org/events/no-new-holland-ride-tonight-4/
LOCATION:PA
END:VEVENT
BEGIN:VEVENT
DTSTART;VALUE=DATE:20180712
DTEND;VALUE=DATE:20180718
DTSTAMP:20260422T231911
CREATED:20170920T185259Z
LAST-MODIFIED:20180504T215016Z
UID:1117-1531353600-1531871999@www.lifecyclesteam.org
SUMMARY:GAP / C&O Canal Invitational Ride
DESCRIPTION:Departs Thursday from Community Fellowship Church and returns there the following Tuesday
URL:https://www.lifecyclesteam.org/events/gap-co-canal-invitational-ride/
LOCATION:PA
END:VEVENT
BEGIN:VEVENT
DTSTART;VALUE=DATE:20180711
DTEND;VALUE=DATE:20180712
DTSTAMP:20260422T231911
CREATED:20180405T225959Z
LAST-MODIFIED:20180405T225959Z
UID:1693-1531267200-1531353599@www.lifecyclesteam.org
SUMMARY:No New Holland ride tonight
DESCRIPTION:
URL:https://www.lifecyclesteam.org/events/no-new-holland-ride-tonight-3/
LOCATION:PA
END:VEVENT
BEGIN:VEVENT
DTSTART;TZID=America/New_York:20180710T180000
DTEND;TZID=America/New_York:20180710T200000
DTSTAMP:20260422T231911
CREATED:20170920T185122Z
LAST-MODIFIED:20180116T212008Z
UID:1115-1531245600-1531252800@www.lifecyclesteam.org
SUMMARY:Ride – East Donegal Twp. Riverfront Park\, north of Marietta
DESCRIPTION:
URL:https://www.lifecyclesteam.org/events/ride-east-donegal-twp-riverfront-park-north-of-marietta-30/
LOCATION:East Donegal Twp. Riverfront Park\, 551 Vinegar Ferry Road\, Marietta\, PA\, 17547\, United States
END:VEVENT
BEGIN:VEVENT
DTSTART;VALUE=DATE:20180705
DTEND;VALUE=DATE:20180706
DTSTAMP:20260422T231911
CREATED:20170920T185458Z
LAST-MODIFIED:20180116T211918Z
UID:1121-1530748800-1530835199@www.lifecyclesteam.org
SUMMARY:NO RIDE DUE TO JULY 4TH HOLIDAY
DESCRIPTION:
URL:https://www.lifecyclesteam.org/events/no-ride-due-to-july-4th-holiday-2/
LOCATION:PA
END:VEVENT
BEGIN:VEVENT
DTSTART;VALUE=DATE:20180704
DTEND;VALUE=DATE:20180705
DTSTAMP:20260422T231911
CREATED:20180405T225922Z
LAST-MODIFIED:20180405T225922Z
UID:1691-1530662400-1530748799@www.lifecyclesteam.org
SUMMARY:No New Holland ride tonight
DESCRIPTION:
URL:https://www.lifecyclesteam.org/events/no-new-holland-ride-tonight-2/
LOCATION:PA
END:VEVENT
BEGIN:VEVENT
DTSTART;VALUE=DATE:20180704
DTEND;VALUE=DATE:20180705
DTSTAMP:20260422T231911
CREATED:20170920T185412Z
LAST-MODIFIED:20180116T211825Z
UID:1119-1530662400-1530748799@www.lifecyclesteam.org
SUMMARY:Happy 4th of July!
DESCRIPTION:
URL:https://www.lifecyclesteam.org/events/happy-4th-of-july/
LOCATION:PA
END:VEVENT
BEGIN:VEVENT
DTSTART;VALUE=DATE:20180703
DTEND;VALUE=DATE:20180704
DTSTAMP:20260422T231911
CREATED:20170920T185029Z
LAST-MODIFIED:20180116T211750Z
UID:1113-1530576000-1530662399@www.lifecyclesteam.org
SUMMARY:NO RIDE DUE TO JULY 4TH HOLIDAY
DESCRIPTION:
URL:https://www.lifecyclesteam.org/events/no-ride-due-to-july-4th-holiday/
LOCATION:PA
END:VEVENT
BEGIN:VEVENT
DTSTART;TZID=America/New_York:20180630T080000
DTEND;TZID=America/New_York:20180630T170000
DTSTAMP:20260422T231911
CREATED:20170920T194311Z
LAST-MODIFIED:20180116T211546Z
UID:1154-1530345600-1530378000@www.lifecyclesteam.org
SUMMARY:Mount Gretna Ride
DESCRIPTION:Event rides are invitational based on each rider’s ability\, the ride distance\, and the terrain of the ride.
URL:https://www.lifecyclesteam.org/events/york-heritage-rail-trail-ride/
LOCATION:PA
END:VEVENT
BEGIN:VEVENT
DTSTART;TZID=America/New_York:20180628T180000
DTEND;TZID=America/New_York:20180628T200000
DTSTAMP:20260422T231911
CREATED:20170920T200953Z
LAST-MODIFIED:20180116T211453Z
UID:1193-1530208800-1530216000@www.lifecyclesteam.org
SUMMARY:Ride – Amos Herr Park\, Landisville
DESCRIPTION:
URL:https://www.lifecyclesteam.org/events/ride-amos-herr-park-landisville-28/
LOCATION:Amos Herr Park\, 1700 Nissley Road\, Landisville\, 17538
END:VEVENT
BEGIN:VEVENT
DTSTART;TZID=America/New_York:20180627T180000
DTEND;TZID=America/New_York:20180627T200000
DTSTAMP:20260422T231911
CREATED:20180405T225337Z
LAST-MODIFIED:20180405T225337Z
UID:1677-1530122400-1530129600@www.lifecyclesteam.org
SUMMARY:Ride - New Holland\, meets at Garden Spot Village
DESCRIPTION:
URL:https://www.lifecyclesteam.org/events/ride-new-holland-meets-at-garden-spot-village-8/
LOCATION:New Holland Community Memorial Park\, 400 Jackson Street\, New Holland\, PA\, 17557\, United States
END:VEVENT
BEGIN:VEVENT
DTSTART;TZID=America/New_York:20180626T180000
DTEND;TZID=America/New_York:20180626T200000
DTSTAMP:20260422T231911
CREATED:20170920T184940Z
LAST-MODIFIED:20180116T211421Z
UID:1111-1530036000-1530043200@www.lifecyclesteam.org
SUMMARY:Ride – East Donegal Twp. Riverfront Park\, north of Marietta
DESCRIPTION:
URL:https://www.lifecyclesteam.org/events/ride-east-donegal-twp-riverfront-park-north-of-marietta-29/
LOCATION:East Donegal Twp. Riverfront Park\, 551 Vinegar Ferry Road\, Marietta\, PA\, 17547\, United States
END:VEVENT
BEGIN:VEVENT
DTSTART;TZID=America/New_York:20180621T180000
DTEND;TZID=America/New_York:20180621T200000
DTSTAMP:20260422T231911
CREATED:20170920T200851Z
LAST-MODIFIED:20180116T211346Z
UID:1191-1529604000-1529611200@www.lifecyclesteam.org
SUMMARY:Ride – Amos Herr Park\, Landisville
DESCRIPTION:
URL:https://www.lifecyclesteam.org/events/ride-amos-herr-park-landisville-27/
LOCATION:Amos Herr Park\, 1700 Nissley Road\, Landisville\, 17538
END:VEVENT
BEGIN:VEVENT
DTSTART;VALUE=DATE:20180620
DTEND;VALUE=DATE:20180621
DTSTAMP:20260422T231911
CREATED:20180405T225843Z
LAST-MODIFIED:20180405T225843Z
UID:1689-1529452800-1529539199@www.lifecyclesteam.org
SUMMARY:No New Holland ride tonight
DESCRIPTION:
URL:https://www.lifecyclesteam.org/events/no-new-holland-ride-tonight/
LOCATION:PA
END:VEVENT
BEGIN:VEVENT
DTSTART;TZID=America/New_York:20180619T180000
DTEND;TZID=America/New_York:20180619T200000
DTSTAMP:20260422T231911
CREATED:20170920T184853Z
LAST-MODIFIED:20180116T211307Z
UID:1109-1529431200-1529438400@www.lifecyclesteam.org
SUMMARY:Ride – East Donegal Twp. Riverfront Park\, north of Marietta
DESCRIPTION:
URL:https://www.lifecyclesteam.org/events/ride-east-donegal-twp-riverfront-park-north-of-marietta-28/
LOCATION:East Donegal Twp. Riverfront Park\, 551 Vinegar Ferry Road\, Marietta\, PA\, 17547\, United States
END:VEVENT
BEGIN:VEVENT
DTSTART;TZID=America/New_York:20180616T100000
DTEND;TZID=America/New_York:20180616T150000
DTSTAMP:20260422T231911
CREATED:20170920T193301Z
LAST-MODIFIED:20180529T173321Z
UID:1151-1529143200-1529161200@www.lifecyclesteam.org
SUMMARY:Columbia\, Sam Lewis\, Jim Macks Loop
DESCRIPTION:Saturday rides are invitational based on each rider’s ability\, the ride distance\, and the terrain of the ride. \nThis ride route begins at the DeRemers house and heads east over the Susquehanna River with a short loop in Columbia and then back across the river to Wrightsville. Next is the climb up Cool Springs Road to Sam Lewis State Park.  From there it is downhill to Jim Macks Ice Cream store on Route 462.  Lunch and ice cream to end the day!
URL:https://www.lifecyclesteam.org/events/columbia-sam-lewis-jim-macks-loop/
LOCATION:PA
END:VEVENT
BEGIN:VEVENT
DTSTART;TZID=America/New_York:20180614T180000
DTEND;TZID=America/New_York:20180614T200000
DTSTAMP:20260422T231911
CREATED:20170920T200811Z
LAST-MODIFIED:20180116T211153Z
UID:1189-1528999200-1529006400@www.lifecyclesteam.org
SUMMARY:Ride – Amos Herr Park\, Landisville
DESCRIPTION:
URL:https://www.lifecyclesteam.org/events/ride-amos-herr-park-landisville-26/
LOCATION:Amos Herr Park\, 1700 Nissley Road\, Landisville\, 17538
END:VEVENT
END:VCALENDAR