BEGIN:VCALENDAR
VERSION:2.0
PRODID:-// - ECPv6.15.13.1//NONSGML v1.0//EN
CALSCALE:GREGORIAN
METHOD:PUBLISH
X-ORIGINAL-URL:https://www.lifecyclesteam.org
X-WR-CALDESC:Events for 
REFRESH-INTERVAL;VALUE=DURATION:PT1H
X-Robots-Tag:noindex
X-PUBLISHED-TTL:PT1H
BEGIN:VTIMEZONE
TZID:America/New_York
BEGIN:DAYLIGHT
TZOFFSETFROM:-0500
TZOFFSETTO:-0400
TZNAME:EDT
DTSTART:20160313T070000
END:DAYLIGHT
BEGIN:STANDARD
TZOFFSETFROM:-0400
TZOFFSETTO:-0500
TZNAME:EST
DTSTART:20161106T060000
END:STANDARD
BEGIN:DAYLIGHT
TZOFFSETFROM:-0500
TZOFFSETTO:-0400
TZNAME:EDT
DTSTART:20170312T070000
END:DAYLIGHT
BEGIN:STANDARD
TZOFFSETFROM:-0400
TZOFFSETTO:-0500
TZNAME:EST
DTSTART:20171105T060000
END:STANDARD
BEGIN:DAYLIGHT
TZOFFSETFROM:-0500
TZOFFSETTO:-0400
TZNAME:EDT
DTSTART:20180311T070000
END:DAYLIGHT
BEGIN:STANDARD
TZOFFSETFROM:-0400
TZOFFSETTO:-0500
TZNAME:EST
DTSTART:20181104T060000
END:STANDARD
BEGIN:DAYLIGHT
TZOFFSETFROM:-0500
TZOFFSETTO:-0400
TZNAME:EDT
DTSTART:20190310T070000
END:DAYLIGHT
BEGIN:STANDARD
TZOFFSETFROM:-0400
TZOFFSETTO:-0500
TZNAME:EST
DTSTART:20191103T060000
END:STANDARD
END:VTIMEZONE
BEGIN:VEVENT
DTSTART;TZID=America/New_York:20180503T180000
DTEND;TZID=America/New_York:20180503T200000
DTSTAMP:20260423T021732
CREATED:20170920T200344Z
LAST-MODIFIED:20180116T205311Z
UID:1177-1525370400-1525377600@www.lifecyclesteam.org
SUMMARY:Ride – Amos Herr Park\, Landisville
DESCRIPTION:
URL:https://www.lifecyclesteam.org/events/ride-amos-herr-park-landisville-20/
LOCATION:Amos Herr Park\, 1700 Nissley Road\, Landisville\, 17538
END:VEVENT
BEGIN:VEVENT
DTSTART;TZID=America/New_York:20180502T180000
DTEND;TZID=America/New_York:20180502T200000
DTSTAMP:20260423T021732
CREATED:20180405T210810Z
LAST-MODIFIED:20180405T210810Z
UID:1654-1525284000-1525291200@www.lifecyclesteam.org
SUMMARY:Ride - New Holland\, meets at Garden Spot VIllage
DESCRIPTION:
URL:https://www.lifecyclesteam.org/events/ride-new-holland-meets-at-garden-spot-village/
LOCATION:New Holland Community Memorial Park\, 400 Jackson Street\, New Holland\, PA\, 17557\, United States
END:VEVENT
BEGIN:VEVENT
DTSTART;TZID=America/New_York:20180502T180000
DTEND;TZID=America/New_York:20180502T193000
DTSTAMP:20260423T021732
CREATED:20170920T020809Z
LAST-MODIFIED:20180424T164126Z
UID:1069-1525284000-1525289400@www.lifecyclesteam.org
SUMMARY:LIFECYCLES Leaders Meeting -- CANCELLED
DESCRIPTION:
URL:https://www.lifecyclesteam.org/events/lifecycles-leaders-meeting-6/
LOCATION:Community Fellowship Church\, 200 Bethel Dr.\, Lancaster\, PA\, 17601\, United States
END:VEVENT
BEGIN:VEVENT
DTSTART;TZID=America/New_York:20180501T180000
DTEND;TZID=America/New_York:20180501T200000
DTSTAMP:20260423T021732
CREATED:20170920T184229Z
LAST-MODIFIED:20180116T205123Z
UID:1095-1525197600-1525204800@www.lifecyclesteam.org
SUMMARY:Ride – East Donegal Twp. Riverfront Park\, north of Marietta
DESCRIPTION:
URL:https://www.lifecyclesteam.org/events/ride-east-donegal-twp-riverfront-park-north-of-marietta-21/
LOCATION:East Donegal Twp. Riverfront Park\, 551 Vinegar Ferry Road\, Marietta\, PA\, 17547\, United States
END:VEVENT
BEGIN:VEVENT
DTSTART;TZID=America/New_York:20180428T080000
DTEND;TZID=America/New_York:20180428T170000
DTSTAMP:20260423T021732
CREATED:20170920T190836Z
LAST-MODIFIED:20180116T205046Z
UID:1141-1524902400-1524934800@www.lifecyclesteam.org
SUMMARY:Amish Farmland Ride
DESCRIPTION:Saturday rides are invitational based on each rider’s ability\, the ride distance\, and the terrain of the ride.
URL:https://www.lifecyclesteam.org/events/amish-farmland-ride/
LOCATION:Landis Valley Museum\, 2451 Kissel Hill Road\, Lancaster\, 17601\, United States
END:VEVENT
BEGIN:VEVENT
DTSTART;TZID=America/New_York:20180426T180000
DTEND;TZID=America/New_York:20180426T200000
DTSTAMP:20260423T021732
CREATED:20170920T200252Z
LAST-MODIFIED:20180116T205015Z
UID:1175-1524765600-1524772800@www.lifecyclesteam.org
SUMMARY:Ride – Amos Herr Park\, Landisville
DESCRIPTION:
URL:https://www.lifecyclesteam.org/events/ride-amos-herr-park-landisville-19/
LOCATION:Amos Herr Park\, 1700 Nissley Road\, Landisville\, 17538
END:VEVENT
BEGIN:VEVENT
DTSTART;TZID=America/New_York:20180425T180000
DTEND;TZID=America/New_York:20180425T200000
DTSTAMP:20260423T021732
CREATED:20180405T205842Z
LAST-MODIFIED:20180405T210330Z
UID:1649-1524679200-1524686400@www.lifecyclesteam.org
SUMMARY:New Holland rides start!  New night\, new location\, same LIFECYCLES!
DESCRIPTION:Do you live on the eastern side of Lancaster County? Do you like to ride bikes? Do you want to impact teens through an established bicycle mentoring program? We have good news for you!  Starting today LIFECYCLES has a new team riding in New Holland on Wednesday evenings.  Come join us!
URL:https://www.lifecyclesteam.org/events/new-holland-rides-start-new-night-new-location-same-lifecycles/
LOCATION:New Holland Community Memorial Park\, 400 Jackson Street\, New Holland\, PA\, 17557\, United States
END:VEVENT
BEGIN:VEVENT
DTSTART;TZID=America/New_York:20180424T180000
DTEND;TZID=America/New_York:20180424T200000
DTSTAMP:20260423T021732
CREATED:20170920T184045Z
LAST-MODIFIED:20180116T204829Z
UID:1093-1524592800-1524600000@www.lifecyclesteam.org
SUMMARY:Ride – East Donegal Twp. Riverfront Park\, north of Marietta
DESCRIPTION:
URL:https://www.lifecyclesteam.org/events/ride-east-donegal-twp-riverfront-park-north-of-marietta-20/
LOCATION:East Donegal Twp. Riverfront Park\, 551 Vinegar Ferry Road\, Marietta\, PA\, 17547\, United States
END:VEVENT
BEGIN:VEVENT
DTSTART;TZID=America/New_York:20180419T180000
DTEND;TZID=America/New_York:20180419T200000
DTSTAMP:20260423T021732
CREATED:20170920T200202Z
LAST-MODIFIED:20180417T231602Z
UID:1173-1524160800-1524168000@www.lifecyclesteam.org
SUMMARY:Ride – CANCELLED due to winter returning :-(
DESCRIPTION:
URL:https://www.lifecyclesteam.org/events/ride-amos-herr-park-landisville-18/
LOCATION:Amos Herr Park\, 1700 Nissley Road\, Landisville\, 17538
END:VEVENT
BEGIN:VEVENT
DTSTART;TZID=America/New_York:20180417T180000
DTEND;TZID=America/New_York:20180417T200000
DTSTAMP:20260423T021732
CREATED:20170920T183915Z
LAST-MODIFIED:20180416T205751Z
UID:1091-1523988000-1523995200@www.lifecyclesteam.org
SUMMARY:Ride – CANCELLED due to winter returning  :-(
DESCRIPTION:
URL:https://www.lifecyclesteam.org/events/ride-east-donegal-twp-riverfront-park-north-of-marietta-19/
LOCATION:East Donegal Twp. Riverfront Park\, 551 Vinegar Ferry Road\, Marietta\, PA\, 17547\, United States
END:VEVENT
BEGIN:VEVENT
DTSTART;TZID=America/New_York:20180414T130000
DTEND;TZID=America/New_York:20180414T160000
DTSTAMP:20260423T021732
CREATED:20180405T204537Z
LAST-MODIFIED:20180405T204833Z
UID:1643-1523710800-1523721600@www.lifecyclesteam.org
SUMMARY:Mural Painting at Columbia River Park
DESCRIPTION:A unique opportunity for teens\, parents\, and leaders to help paint a large mural that will beautify an older building near the Susquehanna River in Columbia\, PA.  The 200 foot long mural was drawn by a professional artist and is broken down into manageable pieces for volunteers to paint.  You don’t need to be an artist – come help create a work of beauty alongside others!
URL:https://www.lifecyclesteam.org/events/columbia-mural-painting-event/
LOCATION:Columbia River Park\, 41 Walnut Street\, Columbia\, PA\, 17512\, United States
END:VEVENT
BEGIN:VEVENT
DTSTART;TZID=America/New_York:20180412T180000
DTEND;TZID=America/New_York:20180412T200000
DTSTAMP:20260423T021732
CREATED:20170920T200122Z
LAST-MODIFIED:20180116T204703Z
UID:1171-1523556000-1523563200@www.lifecyclesteam.org
SUMMARY:First ride of the season! – Amos Herr Park\, Landisville
DESCRIPTION:
URL:https://www.lifecyclesteam.org/events/ride-amos-herr-park-landisville-8/
LOCATION:Amos Herr Park\, 1700 Nissley Road\, Landisville\, 17538
END:VEVENT
BEGIN:VEVENT
DTSTART;TZID=America/New_York:20180404T193000
DTEND;TZID=America/New_York:20180404T203000
DTSTAMP:20260423T021732
CREATED:20170920T020719Z
LAST-MODIFIED:20180116T204633Z
UID:1067-1522870200-1522873800@www.lifecyclesteam.org
SUMMARY:Parents Meeting
DESCRIPTION:Informational meeting for parents of LIFECYCLES riders.  Learn about our rides – twice weekly training rides\, longer Saturday rides\, event rides\, and our weeklong Summer Challenge Ride.  Meet the director and some of our leaders\, ask questions\, get to know us!
URL:https://www.lifecyclesteam.org/events/parents-meeting/
LOCATION:Community Fellowship Church\, 200 Bethel Dr.\, Lancaster\, PA\, 17601\, United States
END:VEVENT
BEGIN:VEVENT
DTSTART;TZID=America/New_York:20180404T180000
DTEND;TZID=America/New_York:20180404T193000
DTSTAMP:20260423T021732
CREATED:20170920T020633Z
LAST-MODIFIED:20180116T204552Z
UID:1065-1522864800-1522870200@www.lifecyclesteam.org
SUMMARY:LIFECYCLES Leaders Meeting
DESCRIPTION:
URL:https://www.lifecyclesteam.org/events/lifecycles-leaders-meeting-5/
LOCATION:Community Fellowship Church\, 200 Bethel Dr.\, Lancaster\, PA\, 17601\, United States
END:VEVENT
BEGIN:VEVENT
DTSTART;TZID=America/New_York:20180320T183000
DTEND;TZID=America/New_York:20180320T200000
DTSTAMP:20260423T021732
CREATED:20180213T143653Z
LAST-MODIFIED:20180213T143744Z
UID:1607-1521570600-1521576000@www.lifecyclesteam.org
SUMMARY:Winter Indoor Program at REYS - FINAL NIGHT
DESCRIPTION:Learn bicycle maintenance this winter so you can be more confident in basic repairs and adjustments to your bicycle for our next ride season. Join us for maintenance lessons\, game time (basketball and dodge ball) and a hot meal.
URL:https://www.lifecyclesteam.org/events/winter-indoor-program-final-night/
LOCATION:Rainbow’s End Youth Services  (REYS)\, 105 Fairview Street\, Mount Joy\, PA\, 17552\, United States
END:VEVENT
BEGIN:VEVENT
DTSTART;TZID=America/New_York:20180313T183000
DTEND;TZID=America/New_York:20180313T200000
DTSTAMP:20260423T021732
CREATED:20170920T022602Z
LAST-MODIFIED:20180213T143845Z
UID:1087-1520965800-1520971200@www.lifecyclesteam.org
SUMMARY:Winter Indoor Program at REYS
DESCRIPTION:Learn bicycle maintenance this winter so you can be more confident in basic repairs and adjustments to your bicycle for our next ride season.  Join us for maintenance lessons\, game time (basketball and dodge ball) and a hot meal.
URL:https://www.lifecyclesteam.org/events/winter-indoor-program-at-reys-final-night/
LOCATION:Rainbow’s End Youth Services  (REYS)\, 105 Fairview Street\, Mount Joy\, PA\, 17552\, United States
END:VEVENT
BEGIN:VEVENT
DTSTART;TZID=America/New_York:20180306T183000
DTEND;TZID=America/New_York:20180306T200000
DTSTAMP:20260423T021732
CREATED:20170920T022408Z
LAST-MODIFIED:20180213T144028Z
UID:1085-1520361000-1520366400@www.lifecyclesteam.org
SUMMARY:CANCELLED - Rescheduled for March 20th
DESCRIPTION:Learn bicycle maintenance this winter so you can be more confident in basic repairs and adjustments to your bicycle for our next ride season.  Join us for maintenance lessons\, game time (basketball and dodge ball) and a hot meal.
URL:https://www.lifecyclesteam.org/events/winter-indoor-program-at-reys-5/
LOCATION:Rainbow’s End Youth Services  (REYS)\, 105 Fairview Street\, Mount Joy\, PA\, 17552\, United States
END:VEVENT
BEGIN:VEVENT
DTSTART;TZID=America/New_York:20180301T180000
DTEND;TZID=America/New_York:20180301T193000
DTSTAMP:20260423T021732
CREATED:20170920T020507Z
LAST-MODIFIED:20180116T204325Z
UID:1063-1519927200-1519932600@www.lifecyclesteam.org
SUMMARY:LIFECYCLES Leaders Meeting
DESCRIPTION:
URL:https://www.lifecyclesteam.org/events/lifecycles-leaders-meeting-4/
LOCATION:Community Fellowship Church\, 200 Bethel Dr.\, Lancaster\, PA\, 17601\, United States
END:VEVENT
BEGIN:VEVENT
DTSTART;TZID=America/New_York:20180227T183000
DTEND;TZID=America/New_York:20180227T200000
DTSTAMP:20260423T021732
CREATED:20170920T022313Z
LAST-MODIFIED:20180124T213739Z
UID:1083-1519756200-1519761600@www.lifecyclesteam.org
SUMMARY:Winter Indoor Program at REYS
DESCRIPTION:Learn bicycle maintenance this winter so you can be more confident in basic repairs and adjustments to your bicycle for our next ride season.  Join us for maintenance lessons\, game time (basketball and dodge ball) and a hot meal.
URL:https://www.lifecyclesteam.org/events/winter-indoor-program-at-reys-4/
LOCATION:Rainbow’s End Youth Services  (REYS)\, 105 Fairview Street\, Mount Joy\, PA\, 17552\, United States
END:VEVENT
BEGIN:VEVENT
DTSTART;VALUE=DATE:20180220
DTEND;VALUE=DATE:20180221
DTSTAMP:20260423T021732
CREATED:20170920T022216Z
LAST-MODIFIED:20180116T203654Z
UID:1081-1519084800-1519171199@www.lifecyclesteam.org
SUMMARY:NO LIFECYCLES TONIGHT
DESCRIPTION:
URL:https://www.lifecyclesteam.org/events/no-lifecycles-tonight-2/
LOCATION:PA
END:VEVENT
BEGIN:VEVENT
DTSTART;TZID=America/New_York:20180213T183000
DTEND;TZID=America/New_York:20180213T200000
DTSTAMP:20260423T021732
CREATED:20170920T022140Z
LAST-MODIFIED:20180124T213619Z
UID:1079-1518546600-1518552000@www.lifecyclesteam.org
SUMMARY:Winter Indoor Program at REYS
DESCRIPTION:Learn bicycle maintenance this winter so you can be more confident in basic repairs and adjustments to your bicycle for our next ride season.  Join us for maintenance lessons\, game time (basketball and dodge ball) and a hot meal.
URL:https://www.lifecyclesteam.org/events/winter-indoor-program-at-reys-3/
LOCATION:Rainbow’s End Youth Services  (REYS)\, 105 Fairview Street\, Mount Joy\, PA\, 17552\, United States
END:VEVENT
BEGIN:VEVENT
DTSTART;TZID=America/New_York:20180206T183000
DTEND;TZID=America/New_York:20180206T200000
DTSTAMP:20260423T021732
CREATED:20170920T022025Z
LAST-MODIFIED:20180124T213536Z
UID:1077-1517941800-1517947200@www.lifecyclesteam.org
SUMMARY:Winter Indoor Program at REYS
DESCRIPTION:Learn bicycle maintenance this winter so you can be more confident in basic repairs and adjustments to your bicycle for our next ride season.  Join us for maintenance lessons\, game time (basketball and dodge ball) and a hot meal.
URL:https://www.lifecyclesteam.org/events/winter-indoor-program-at-reys-2/
LOCATION:Rainbow’s End Youth Services  (REYS)\, 105 Fairview Street\, Mount Joy\, PA\, 17552\, United States
END:VEVENT
BEGIN:VEVENT
DTSTART;TZID=America/New_York:20180130T183000
DTEND;TZID=America/New_York:20180130T200000
DTSTAMP:20260423T021732
CREATED:20170920T021811Z
LAST-MODIFIED:20180124T213455Z
UID:1074-1517337000-1517342400@www.lifecyclesteam.org
SUMMARY:Winter Indoor Program begins at REYS
DESCRIPTION:Learn bicycle maintenance this winter so you can be more confident in basic repairs and adjustments to your bicycle for our next ride season.  Join us for maintenance lessons\, game time (basketball and dodge ball) and a hot meal.
URL:https://www.lifecyclesteam.org/events/winter-indoor-program-at-reys/
LOCATION:Rainbow’s End Youth Services  (REYS)\, 105 Fairview Street\, Mount Joy\, PA\, 17552\, United States
END:VEVENT
BEGIN:VEVENT
DTSTART;TZID=America/New_York:20180125T180000
DTEND;TZID=America/New_York:20180125T193000
DTSTAMP:20260423T021732
CREATED:20170920T020350Z
LAST-MODIFIED:20180116T203238Z
UID:1061-1516903200-1516908600@www.lifecyclesteam.org
SUMMARY:LIFECYCLES Leaders Meeting
DESCRIPTION:
URL:https://www.lifecyclesteam.org/events/lifecycles-leaders-meeting-3/
LOCATION:Community Fellowship Church\, 200 Bethel Dr.\, Lancaster\, PA\, 17601\, United States
END:VEVENT
BEGIN:VEVENT
DTSTART;VALUE=DATE:20180117
DTEND;VALUE=DATE:20180118
DTSTAMP:20260423T021732
CREATED:20180116T220418Z
LAST-MODIFIED:20180116T220509Z
UID:1595-1516147200-1516233599@www.lifecyclesteam.org
SUMMARY:No leader meeting this night - new date is January 25th
DESCRIPTION:
URL:https://www.lifecyclesteam.org/events/no-leader-meeting-this-night-new-date-is-january-25th/
LOCATION:PA
END:VEVENT
BEGIN:VEVENT
DTSTART;TZID=America/New_York:20171209T040000
DTEND;TZID=America/New_York:20171209T110000
DTSTAMP:20260423T021732
CREATED:20170920T202849Z
LAST-MODIFIED:20170920T203019Z
UID:1207-1512792000-1512817200@www.lifecyclesteam.org
SUMMARY:Gifts That Give Hope - Lancaster's Alternative Gift Fair
DESCRIPTION:LIFECYCLES is one of 30 nonprofits represented at Gifts That Give Hope.  Please come out and support the many wonderful organizations participating in the gift fair this year. \nGTGH – “We feature alternative gifts that support the work of nonprofit organizations right here in Lancaster and those that work all over the world as well as fair trade gifts and social enterprise items in our one day marketplace. \nTo find out more about this event check out their website: \nhttp://www.giftsthatgivehope.org/lancaster \n 
URL:https://www.lifecyclesteam.org/events/gifts-that-give-hope-lancasters-alternative-gift-fair/
LOCATION:Lancaster Farm and Home Center\, 1383 Arcadia Road\, Lancaster\, PA\, 17601\, United States
END:VEVENT
BEGIN:VEVENT
DTSTART;TZID=America/New_York:20171119T083000
DTEND;TZID=America/New_York:20171119T103000
DTSTAMP:20260423T021733
CREATED:20161216T071755Z
LAST-MODIFIED:20170920T020152Z
UID:830-1511080200-1511087400@www.lifecyclesteam.org
SUMMARY:LIFECYCLES End of Year Celebration
DESCRIPTION:Join us as we recap the 2017 season of LIFECYCLES!  We invite you to fellowship with the many teens (and their families) and adults that make up the LIFECYCLES family.
URL:https://www.lifecyclesteam.org/events/lifecycles-christmas-celebration/
LOCATION:Community Fellowship Church\, 200 Bethel Dr.\, Lancaster\, PA\, 17601\, United States
END:VEVENT
BEGIN:VEVENT
DTSTART;TZID=America/New_York:20171107T133000
DTEND;TZID=America/New_York:20171107T150000
DTSTAMP:20260423T021733
CREATED:20170919T210116Z
LAST-MODIFIED:20170919T210116Z
UID:1046-1510061400-1510066800@www.lifecyclesteam.org
SUMMARY:Indoor Fall Program at REYS - last one until 2018!
DESCRIPTION:Learn bicycle maintenance this fall so you can be more confident in basic repairs and adjustments to your bicycle for our next ride season.  Join us for maintenance lessons\, game time (basketball and dodge ball) and a hot meal.
URL:https://www.lifecyclesteam.org/events/indoor-fall-program-at-reys-last-one-until-2018/
LOCATION:Rainbow’s End Youth Services  (REYS)\, 105 Fairview Street\, Mount Joy\, PA\, 17552\, United States
END:VEVENT
BEGIN:VEVENT
DTSTART;TZID=America/New_York:20171104T040000
DTEND;TZID=America/New_York:20171104T130000
DTSTAMP:20260423T021733
CREATED:20161216T071529Z
LAST-MODIFIED:20170922T160547Z
UID:826-1509768000-1509800400@www.lifecyclesteam.org
SUMMARY:LIFECYCLES Ride - Fall Classic on the York Heritage Rail Trail
DESCRIPTION:Saturday rides are invitational based on each rider’s ability\, the ride distance\, and the terrain of the ride.
URL:https://www.lifecyclesteam.org/events/lifecycles-ride-fall-classic-on-the-york-heritage-rail-trail/
LOCATION:PA
END:VEVENT
BEGIN:VEVENT
DTSTART;TZID=America/New_York:20171031T143000
DTEND;TZID=America/New_York:20171031T160000
DTSTAMP:20260423T021733
CREATED:20170919T205848Z
LAST-MODIFIED:20170919T205848Z
UID:1044-1509460200-1509465600@www.lifecyclesteam.org
SUMMARY:Indoor Fall Program at REYS
DESCRIPTION:Learn bicycle maintenance this fall so you can be more confident in basic repairs and adjustments to your bicycle for our next ride season.  Join us for maintenance lessons\, game time (basketball and dodge ball) and a hot meal.
URL:https://www.lifecyclesteam.org/events/indoor-fall-program-at-reys-4/
LOCATION:Rainbow’s End Youth Services  (REYS)\, 105 Fairview Street\, Mount Joy\, PA\, 17552\, United States
END:VEVENT
END:VCALENDAR