BEGIN:VCALENDAR
VERSION:2.0
PRODID:-// - ECPv6.15.13.1//NONSGML v1.0//EN
CALSCALE:GREGORIAN
METHOD:PUBLISH
X-ORIGINAL-URL:https://www.lifecyclesteam.org
X-WR-CALDESC:Events for 
REFRESH-INTERVAL;VALUE=DURATION:PT1H
X-Robots-Tag:noindex
X-PUBLISHED-TTL:PT1H
BEGIN:VTIMEZONE
TZID:America/New_York
BEGIN:DAYLIGHT
TZOFFSETFROM:-0500
TZOFFSETTO:-0400
TZNAME:EDT
DTSTART:20160313T070000
END:DAYLIGHT
BEGIN:STANDARD
TZOFFSETFROM:-0400
TZOFFSETTO:-0500
TZNAME:EST
DTSTART:20161106T060000
END:STANDARD
BEGIN:DAYLIGHT
TZOFFSETFROM:-0500
TZOFFSETTO:-0400
TZNAME:EDT
DTSTART:20170312T070000
END:DAYLIGHT
BEGIN:STANDARD
TZOFFSETFROM:-0400
TZOFFSETTO:-0500
TZNAME:EST
DTSTART:20171105T060000
END:STANDARD
BEGIN:DAYLIGHT
TZOFFSETFROM:-0500
TZOFFSETTO:-0400
TZNAME:EDT
DTSTART:20180311T070000
END:DAYLIGHT
BEGIN:STANDARD
TZOFFSETFROM:-0400
TZOFFSETTO:-0500
TZNAME:EST
DTSTART:20181104T060000
END:STANDARD
END:VTIMEZONE
BEGIN:VEVENT
DTSTART;TZID=America/New_York:20171028T040000
DTEND;TZID=America/New_York:20171028T130000
DTSTAMP:20260423T072641
CREATED:20161216T071327Z
LAST-MODIFIED:20170922T160706Z
UID:822-1509163200-1509195600@www.lifecyclesteam.org
SUMMARY:LIFECYCLES Ride - Gettysburg Ride
DESCRIPTION:Saturday rides are invitational based on each rider’s ability\, the ride distance\, and the terrain of the ride.
URL:https://www.lifecyclesteam.org/events/lifecycles-ride-gettysburg-ride/
END:VEVENT
BEGIN:VEVENT
DTSTART;TZID=America/New_York:20171025T140000
DTEND;TZID=America/New_York:20171025T150000
DTSTAMP:20260423T072641
CREATED:20170919T210537Z
LAST-MODIFIED:20170919T210537Z
UID:1054-1508940000-1508943600@www.lifecyclesteam.org
SUMMARY:LIFECYCLES Leaders Meeting
DESCRIPTION:Meet at Community Fellowship Church
URL:https://www.lifecyclesteam.org/events/lifecycles-leaders-meeting-2/
LOCATION:Community Fellowship Church\, 200 Bethel Dr.\, Lancaster\, PA\, 17601\, United States
END:VEVENT
BEGIN:VEVENT
DTSTART;TZID=America/New_York:20171024T143000
DTEND;TZID=America/New_York:20171024T160000
DTSTAMP:20260423T072641
CREATED:20170919T205744Z
LAST-MODIFIED:20170919T205744Z
UID:1042-1508855400-1508860800@www.lifecyclesteam.org
SUMMARY:Indoor Fall Program at REYS
DESCRIPTION:Learn bicycle maintenance this fall so you can be more confident in basic repairs and adjustments to your bicycle for our next ride season.  Join us for maintenance lessons\, game time (basketball and dodge ball) and a hot meal.
URL:https://www.lifecyclesteam.org/events/indoor-fall-program-at-reys-3/
LOCATION:Rainbow’s End Youth Services  (REYS)\, 105 Fairview Street\, Mount Joy\, PA\, 17552\, United States
END:VEVENT
BEGIN:VEVENT
DTSTART;VALUE=DATE:20171016
DTEND;VALUE=DATE:20171018
DTSTAMP:20260423T072641
CREATED:20170919T205634Z
LAST-MODIFIED:20170919T205634Z
UID:1040-1508184000-1508270399@www.lifecyclesteam.org
SUMMARY:NO LIFECYCLES TONIGHT
DESCRIPTION:
URL:https://www.lifecyclesteam.org/events/no-lifecycles-tonight/
END:VEVENT
BEGIN:VEVENT
DTSTART;TZID=America/New_York:20171014T040000
DTEND;TZID=America/New_York:20171014T130000
DTSTAMP:20260423T072641
CREATED:20161216T071429Z
LAST-MODIFIED:20170922T160633Z
UID:824-1507953600-1507986000@www.lifecyclesteam.org
SUMMARY:Event ride - Seagull Century Ride
DESCRIPTION:Event rides are invitational based on each rider’s ability\, the ride distance\, and the terrain of the ride.
URL:https://www.lifecyclesteam.org/events/event-seagull-century-ride/
END:VEVENT
BEGIN:VEVENT
DTSTART;TZID=America/New_York:20171010T143000
DTEND;TZID=America/New_York:20171010T160000
DTSTAMP:20260423T072641
CREATED:20170919T205540Z
LAST-MODIFIED:20170919T205540Z
UID:1038-1507645800-1507651200@www.lifecyclesteam.org
SUMMARY:Indoor Fall Program at REYS
DESCRIPTION:Learn bicycle maintenance this fall so you can be more confident in basic repairs and adjustments to your bicycle for our next ride season.  Join us for maintenance lessons\, game time (basketball and dodge ball) and a hot meal.
URL:https://www.lifecyclesteam.org/events/indoor-fall-program-at-reys-2/
LOCATION:Laser Dome\, 2050 Auction Road\, Manheim\, PA\, 17545\, United States
END:VEVENT
BEGIN:VEVENT
DTSTART;TZID=America/New_York:20171003T143000
DTEND;TZID=America/New_York:20171003T160000
DTSTAMP:20260423T072641
CREATED:20170919T205304Z
LAST-MODIFIED:20170919T205444Z
UID:1035-1507041000-1507046400@www.lifecyclesteam.org
SUMMARY:Indoor Fall Program at REYS
DESCRIPTION:Learn bicycle maintenance this fall so you can be more confident in basic repairs and adjustments to your bicycle for our next ride season.  Join us for maintenance lessons\, game time (basketball and dodge ball) and a hot meal.
URL:https://www.lifecyclesteam.org/events/indoor-fall-program-at-reys/
LOCATION:Rainbow’s End Youth Services  (REYS)\, 105 Fairview Street\, Mount Joy\, PA\, 17552\, United States
END:VEVENT
BEGIN:VEVENT
DTSTART;TZID=America/New_York:20170927T140000
DTEND;TZID=America/New_York:20170927T150000
DTSTAMP:20260423T072641
CREATED:20170919T210424Z
LAST-MODIFIED:20170919T210424Z
UID:1052-1506520800-1506524400@www.lifecyclesteam.org
SUMMARY:LIFECYCLES Leaders Meeting
DESCRIPTION:Meet at Community Fellowship Church
URL:https://www.lifecyclesteam.org/events/lifecycles-leaders-meeting/
LOCATION:Community Fellowship Church\, 200 Bethel Dr.\, Lancaster\, PA\, 17601\, United States
END:VEVENT
BEGIN:VEVENT
DTSTART;TZID=America/New_York:20170926T143000
DTEND;TZID=America/New_York:20170926T160000
DTSTAMP:20260423T072641
CREATED:20170919T204949Z
LAST-MODIFIED:20170919T205131Z
UID:1032-1506436200-1506441600@www.lifecyclesteam.org
SUMMARY:Indoor Fall Program begins at REYS
DESCRIPTION:Learn bicycle maintenance this fall so you can be more confident in basic repairs and adjustments to your bicycle for our next ride season.  Join us for maintenance lessons\, game time (basketball and dodge ball) and a hot meal.
URL:https://www.lifecyclesteam.org/events/fall-indoor-program/
LOCATION:Rainbow’s End Youth Services  (REYS)\, 105 Fairview Street\, Mount Joy\, PA\, 17552\, United States
END:VEVENT
BEGIN:VEVENT
DTSTART;TZID=America/New_York:20170910T030000
DTEND;TZID=America/New_York:20170910T090000
DTSTAMP:20260423T072641
CREATED:20161216T071223Z
LAST-MODIFIED:20170104T221430Z
UID:820-1505012400-1505034000@www.lifecyclesteam.org
SUMMARY:Event ride - Hempfield Foundation's RIde for Education
DESCRIPTION:
URL:https://www.lifecyclesteam.org/events/event-hempfield-foundations-ride-for-education/
END:VEVENT
BEGIN:VEVENT
DTSTART;TZID=America/New_York:20170905T140000
DTEND;TZID=America/New_York:20170905T160000
DTSTAMP:20260423T072641
CREATED:20170725T013415Z
LAST-MODIFIED:20170920T190257Z
UID:1024-1504620000-1504627200@www.lifecyclesteam.org
SUMMARY:Ride cancelled due to rain – East Donegal Twp. Riverfront Park\, north of Marietta
DESCRIPTION:
URL:https://www.lifecyclesteam.org/events/ride-east-donegal-twp-riverfront-park-north-of-marietta-9/
LOCATION:East Donegal Twp. Riverfront Park\, 551 Vinegar Ferry Road\, Marietta\, PA\, 17547\, United States
END:VEVENT
BEGIN:VEVENT
DTSTART;TZID=America/New_York:20170831T040000
DTEND;TZID=America/New_York:20170831T130000
DTSTAMP:20260423T072641
CREATED:20170104T222649Z
LAST-MODIFIED:20170104T222649Z
UID:915-1504152000-1504184400@www.lifecyclesteam.org
SUMMARY:Ride - Amos Herr Park\, Landisville
DESCRIPTION:
URL:https://www.lifecyclesteam.org/events/ride-amos-herr-park-landisville-17/
END:VEVENT
BEGIN:VEVENT
DTSTART;TZID=America/New_York:20170829T140000
DTEND;TZID=America/New_York:20170829T160000
DTSTAMP:20260423T072641
CREATED:20170104T222301Z
LAST-MODIFIED:20170829T194153Z
UID:913-1504015200-1504022400@www.lifecyclesteam.org
SUMMARY:CANCELLED DUE TO RAIN     Ride – East Donegal Twp. Riverfront Park\, north of Marietta
DESCRIPTION:
URL:https://www.lifecyclesteam.org/events/ride-east-donegal-twp-riverfront-park-north-of-marietta-7/
LOCATION:Amos Herr Park\, 1700 Nissley Road\, Landisville\, 17538
END:VEVENT
BEGIN:VEVENT
DTSTART;TZID=America/New_York:20170824T140000
DTEND;TZID=America/New_York:20170824T160000
DTSTAMP:20260423T072641
CREATED:20170104T215444Z
LAST-MODIFIED:20170104T215444Z
UID:883-1503583200-1503590400@www.lifecyclesteam.org
SUMMARY:Ride - Amos Herr Park\, Landisville
DESCRIPTION:
URL:https://www.lifecyclesteam.org/events/ride-amos-herr-park-landisville-16/
LOCATION:Amos Herr Park\, 1700 Nissley Road\, Landisville\, 17538
END:VEVENT
BEGIN:VEVENT
DTSTART;TZID=America/New_York:20170822T140000
DTEND;TZID=America/New_York:20170822T160000
DTSTAMP:20260423T072641
CREATED:20170104T220909Z
LAST-MODIFIED:20170104T220909Z
UID:905-1503410400-1503417600@www.lifecyclesteam.org
SUMMARY:Ride – East Donegal Twp. Riverfront Park\, north of Marietta
DESCRIPTION:
URL:https://www.lifecyclesteam.org/events/ride-east-donegal-twp-riverfront-park-north-of-marietta-18/
LOCATION:East Donegal Twp. Riverfront Park\, 551 Vinegar Ferry Road\, Marietta\, PA\, 17547\, United States
END:VEVENT
BEGIN:VEVENT
DTSTART;TZID=America/New_York:20170820T030000
DTEND;TZID=America/New_York:20170820T090000
DTSTAMP:20260423T072641
CREATED:20161216T071109Z
LAST-MODIFIED:20170104T221443Z
UID:818-1503198000-1503219600@www.lifecyclesteam.org
SUMMARY:Event ride - Lancaster Bike Club's Covered Bridge Ride
DESCRIPTION:Event
URL:https://www.lifecyclesteam.org/events/event-lancaster-bike-clubs-covered-bridge-ride/
END:VEVENT
BEGIN:VEVENT
DTSTART;TZID=America/New_York:20170817T140000
DTEND;TZID=America/New_York:20170817T160000
DTSTAMP:20260423T072641
CREATED:20170104T215143Z
LAST-MODIFIED:20170104T215143Z
UID:879-1502978400-1502985600@www.lifecyclesteam.org
SUMMARY:Ride - Amos Herr Park\, Landisville
DESCRIPTION:
URL:https://www.lifecyclesteam.org/events/ride-amos-herr-park-landisville-15/
LOCATION:Amos Herr Park\, 1700 Nissley Road\, Landisville\, 17538
END:VEVENT
BEGIN:VEVENT
DTSTART;TZID=America/New_York:20170815T140000
DTEND;TZID=America/New_York:20170815T160000
DTSTAMP:20260423T072641
CREATED:20170104T220820Z
LAST-MODIFIED:20170104T220820Z
UID:903-1502805600-1502812800@www.lifecyclesteam.org
SUMMARY:Ride – East Donegal Twp. Riverfront Park\, north of Marietta
DESCRIPTION:
URL:https://www.lifecyclesteam.org/events/ride-east-donegal-twp-riverfront-park-north-of-marietta-17/
LOCATION:East Donegal Twp. Riverfront Park\, 551 Vinegar Ferry Road\, Marietta\, PA\, 17547\, United States
END:VEVENT
BEGIN:VEVENT
DTSTART;TZID=America/New_York:20170810T140000
DTEND;TZID=America/New_York:20170810T160000
DTSTAMP:20260423T072641
CREATED:20170104T215252Z
LAST-MODIFIED:20170719T211021Z
UID:881-1502373600-1502380800@www.lifecyclesteam.org
SUMMARY:Summer Celebration Picnic
DESCRIPTION:For all active LIFECYCLES riders\, leaders and their families.  Come join us for a night of good food\, fellowship\, and fun at Amos Herr Park in Landisville.
URL:https://www.lifecyclesteam.org/events/pool-party-location-tbd/
LOCATION:Amos Herr Park\, 1700 Nissley Road\, Landisville\, 17538
END:VEVENT
BEGIN:VEVENT
DTSTART;VALUE=DATE:20170728
DTEND;VALUE=DATE:20170806
DTSTAMP:20260423T072641
CREATED:20170201T195316Z
LAST-MODIFIED:20170201T195316Z
UID:948-1501272000-1501963199@www.lifecyclesteam.org
SUMMARY:Summer Challenge Ride to NH and Maine
DESCRIPTION:
URL:https://www.lifecyclesteam.org/events/summer-challenge-ride-to-nh-and-maine/
END:VEVENT
BEGIN:VEVENT
DTSTART;TZID=America/New_York:20170725T140000
DTEND;TZID=America/New_York:20170725T160000
DTSTAMP:20260423T072641
CREATED:20170104T220721Z
LAST-MODIFIED:20170104T220721Z
UID:901-1500991200-1500998400@www.lifecyclesteam.org
SUMMARY:Ride – East Donegal Twp. Riverfront Park\, north of Marietta
DESCRIPTION:
URL:https://www.lifecyclesteam.org/events/ride-east-donegal-twp-riverfront-park-north-of-marietta-16/
LOCATION:East Donegal Twp. Riverfront Park\, 551 Vinegar Ferry Road\, Marietta\, PA\, 17547\, United States
END:VEVENT
BEGIN:VEVENT
DTSTART;TZID=America/New_York:20170720T140000
DTEND;TZID=America/New_York:20170720T160000
DTSTAMP:20260423T072641
CREATED:20170104T215027Z
LAST-MODIFIED:20170104T215027Z
UID:877-1500559200-1500566400@www.lifecyclesteam.org
SUMMARY:Ride - Amos Herr Park\, Landisville
DESCRIPTION:
URL:https://www.lifecyclesteam.org/events/ride-amos-herr-park-landisville-14/
LOCATION:Amos Herr Park\, 1700 Nissley Road\, Landisville\, 17538
END:VEVENT
BEGIN:VEVENT
DTSTART;TZID=America/New_York:20170718T140000
DTEND;TZID=America/New_York:20170718T160000
DTSTAMP:20260423T072641
CREATED:20170104T220642Z
LAST-MODIFIED:20170104T220642Z
UID:899-1500386400-1500393600@www.lifecyclesteam.org
SUMMARY:Ride – East Donegal Twp. Riverfront Park\, north of Marietta
DESCRIPTION:
URL:https://www.lifecyclesteam.org/events/ride-east-donegal-twp-riverfront-park-north-of-marietta-15/
LOCATION:East Donegal Twp. Riverfront Park\, 551 Vinegar Ferry Road\, Marietta\, PA\, 17547\, United States
END:VEVENT
BEGIN:VEVENT
DTSTART;TZID=America/New_York:20170715T040000
DTEND;TZID=America/New_York:20170715T100000
DTSTAMP:20260423T072641
CREATED:20170620T025737Z
LAST-MODIFIED:20170620T210116Z
UID:1014-1500091200-1500112800@www.lifecyclesteam.org
SUMMARY:Car Wash Fundraiser
DESCRIPTION:
URL:https://www.lifecyclesteam.org/events/car-wash-fundraiser/
LOCATION:Stauffers of Kissel HIll\, 301 Rohrerstown Road\, Lancaster\, PA\, 17603\, United States
END:VEVENT
BEGIN:VEVENT
DTSTART;TZID=America/New_York:20170713T140000
DTEND;TZID=America/New_York:20170713T160000
DTSTAMP:20260423T072641
CREATED:20170104T214838Z
LAST-MODIFIED:20170104T214838Z
UID:875-1499954400-1499961600@www.lifecyclesteam.org
SUMMARY:Ride - Amos Herr Park\, Landisville
DESCRIPTION:
URL:https://www.lifecyclesteam.org/events/ride-amos-herr-park-landisville-13/
LOCATION:Amos Herr Park\, 1700 Nissley Road\, Landisville\, 17538
END:VEVENT
BEGIN:VEVENT
DTSTART;TZID=America/New_York:20170711T140000
DTEND;TZID=America/New_York:20170711T160000
DTSTAMP:20260423T072641
CREATED:20170104T220602Z
LAST-MODIFIED:20170104T220602Z
UID:897-1499781600-1499788800@www.lifecyclesteam.org
SUMMARY:Ride – East Donegal Twp. Riverfront Park\, north of Marietta
DESCRIPTION:
URL:https://www.lifecyclesteam.org/events/ride-east-donegal-twp-riverfront-park-north-of-marietta-14/
LOCATION:East Donegal Twp. Riverfront Park\, 551 Vinegar Ferry Road\, Marietta\, PA\, 17547\, United States
END:VEVENT
BEGIN:VEVENT
DTSTART;TZID=America/New_York:20170706T140000
DTEND;TZID=America/New_York:20170706T160000
DTSTAMP:20260423T072641
CREATED:20170104T214337Z
LAST-MODIFIED:20170104T214337Z
UID:873-1499349600-1499356800@www.lifecyclesteam.org
SUMMARY:Ride - Amos Herr Park\, Landisville
DESCRIPTION:
URL:https://www.lifecyclesteam.org/events/ride-amos-herr-park-landisville-12/
LOCATION:Amos Herr Park\, 1700 Nissley Road\, Landisville\, 17538
END:VEVENT
BEGIN:VEVENT
DTSTART;VALUE=DATE:20170703
DTEND;VALUE=DATE:20170705
DTSTAMP:20260423T072641
CREATED:20161216T070124Z
LAST-MODIFIED:20161216T070124Z
UID:805-1499112000-1499198399@www.lifecyclesteam.org
SUMMARY:NO RIDE - 4th of July Holiday
DESCRIPTION:
URL:https://www.lifecyclesteam.org/events/no-ride-4th-of-july-holiday/
END:VEVENT
BEGIN:VEVENT
DTSTART;TZID=America/New_York:20170629T140000
DTEND;TZID=America/New_York:20170629T160000
DTSTAMP:20260423T072641
CREATED:20170104T214114Z
LAST-MODIFIED:20170104T214114Z
UID:871-1498744800-1498752000@www.lifecyclesteam.org
SUMMARY:Ride - Amos Herr Park\, Landisville
DESCRIPTION:
URL:https://www.lifecyclesteam.org/events/ride-amos-herr-park-landisville-11/
LOCATION:Amos Herr Park\, 1700 Nissley Road\, Landisville\, 17538
END:VEVENT
BEGIN:VEVENT
DTSTART;TZID=America/New_York:20170627T140000
DTEND;TZID=America/New_York:20170627T160000
DTSTAMP:20260423T072641
CREATED:20170104T220409Z
LAST-MODIFIED:20170104T220409Z
UID:893-1498572000-1498579200@www.lifecyclesteam.org
SUMMARY:Ride – East Donegal Twp. Riverfront Park\, north of Marietta
DESCRIPTION:
URL:https://www.lifecyclesteam.org/events/ride-east-donegal-twp-riverfront-park-north-of-marietta-13/
LOCATION:East Donegal Twp. Riverfront Park\, 551 Vinegar Ferry Road\, Marietta\, PA\, 17547\, United States
END:VEVENT
END:VCALENDAR