BEGIN:VCALENDAR
VERSION:2.0
PRODID:-// - ECPv6.15.13.1//NONSGML v1.0//EN
CALSCALE:GREGORIAN
METHOD:PUBLISH
X-ORIGINAL-URL:https://www.lifecyclesteam.org
X-WR-CALDESC:Events for 
REFRESH-INTERVAL;VALUE=DURATION:PT1H
X-Robots-Tag:noindex
X-PUBLISHED-TTL:PT1H
BEGIN:VTIMEZONE
TZID:America/New_York
BEGIN:DAYLIGHT
TZOFFSETFROM:-0500
TZOFFSETTO:-0400
TZNAME:EDT
DTSTART:20150308T070000
END:DAYLIGHT
BEGIN:STANDARD
TZOFFSETFROM:-0400
TZOFFSETTO:-0500
TZNAME:EST
DTSTART:20151101T060000
END:STANDARD
BEGIN:DAYLIGHT
TZOFFSETFROM:-0500
TZOFFSETTO:-0400
TZNAME:EDT
DTSTART:20160313T070000
END:DAYLIGHT
BEGIN:STANDARD
TZOFFSETFROM:-0400
TZOFFSETTO:-0500
TZNAME:EST
DTSTART:20161106T060000
END:STANDARD
BEGIN:DAYLIGHT
TZOFFSETFROM:-0500
TZOFFSETTO:-0400
TZNAME:EDT
DTSTART:20170312T070000
END:DAYLIGHT
BEGIN:STANDARD
TZOFFSETFROM:-0400
TZOFFSETTO:-0500
TZNAME:EST
DTSTART:20171105T060000
END:STANDARD
BEGIN:DAYLIGHT
TZOFFSETFROM:-0500
TZOFFSETTO:-0400
TZNAME:EDT
DTSTART:20180311T070000
END:DAYLIGHT
BEGIN:STANDARD
TZOFFSETFROM:-0400
TZOFFSETTO:-0500
TZNAME:EST
DTSTART:20181104T060000
END:STANDARD
END:VTIMEZONE
BEGIN:VEVENT
DTSTART;TZID=America/New_York:20170429T040000
DTEND;TZID=America/New_York:20170422T130000
DTSTAMP:20260425T111125
CREATED:20161216T015149Z
LAST-MODIFIED:20170205T042122Z
UID:774-1493438400-1492866000@www.lifecyclesteam.org
SUMMARY:LIFECYCLES RIDE - York County Heritage Rail Trail Ride
DESCRIPTION:Meet at Community Fellowship Church and travel to York College to begin the ride on the York County Heritage Rail Trail
URL:https://www.lifecyclesteam.org/events/york-county-heritage-rail-trail-ride/
LOCATION:Community Fellowship Church\, 200 Bethel Dr.\, Lancaster\, PA\, 17601\, United States
END:VEVENT
BEGIN:VEVENT
DTSTART;TZID=America/New_York:20170427T140000
DTEND;TZID=America/New_York:20170427T160000
DTSTAMP:20260425T111125
CREATED:20170104T211229Z
LAST-MODIFIED:20170104T211229Z
UID:849-1493301600-1493308800@www.lifecyclesteam.org
SUMMARY:Ride - Amos Herr Park\, Landisville
DESCRIPTION:
URL:https://www.lifecyclesteam.org/events/ride-amos-herr-park-landisville-3/
LOCATION:Amos Herr Park\, 1700 Nissley Road\, Landisville\, 17538
END:VEVENT
BEGIN:VEVENT
DTSTART;TZID=America/New_York:20170425T140000
DTEND;TZID=America/New_York:20170425T160000
DTSTAMP:20260425T111125
CREATED:20161216T014611Z
LAST-MODIFIED:20170425T062410Z
UID:770-1493128800-1493136000@www.lifecyclesteam.org
SUMMARY:Ride - East Donegal Twp. Riverfront Park\, north of Marietta -- CANCELLED DUE TO WEATHER
DESCRIPTION:
URL:https://www.lifecyclesteam.org/events/ride-east-donegal-twp-riverfront-park-north-of-marietta/
LOCATION:East Donegal Twp. Riverfront Park\, 551 Vinegar Ferry Road\, Marietta\, PA\, 17547\, United States
END:VEVENT
BEGIN:VEVENT
DTSTART;TZID=America/New_York:20170420T140000
DTEND;TZID=America/New_York:20170420T160000
DTSTAMP:20260425T111125
CREATED:20170104T210718Z
LAST-MODIFIED:20170421T213031Z
UID:845-1492696800-1492704000@www.lifecyclesteam.org
SUMMARY:Ride - Amos Herr Park\, Landisville  -- CANCELLED DUE TO WEATHER
DESCRIPTION:
URL:https://www.lifecyclesteam.org/events/ride-amos-herr-park-landisville/
LOCATION:Amos Herr Park\, 1700 Nissley Road\, Landisville\, 17538
END:VEVENT
BEGIN:VEVENT
DTSTART;TZID=America/New_York:20170418T140000
DTEND;TZID=America/New_York:20170418T160000
DTSTAMP:20260425T111125
CREATED:20161216T014227Z
LAST-MODIFIED:20161216T014445Z
UID:765-1492524000-1492531200@www.lifecyclesteam.org
SUMMARY:Ride - East Donegal Twp. Riverfront Park\, north of Marietta
DESCRIPTION:
URL:https://www.lifecyclesteam.org/events/ride-marietta/
LOCATION:East Donegal Twp. Riverfront Park\, 551 Vinegar Ferry Road\, Marietta\, PA\, 17547\, United States
END:VEVENT
BEGIN:VEVENT
DTSTART;TZID=America/New_York:20170413T140000
DTEND;TZID=America/New_York:20170413T160000
DTSTAMP:20260425T111125
CREATED:20170104T210814Z
LAST-MODIFIED:20170104T210814Z
UID:847-1492092000-1492099200@www.lifecyclesteam.org
SUMMARY:Ride - Amos Herr Park\, Landisville
DESCRIPTION:
URL:https://www.lifecyclesteam.org/events/ride-amos-herr-park-landisville-2/
LOCATION:Amos Herr Park\, 1700 Nissley Road\, Landisville\, 17538
END:VEVENT
BEGIN:VEVENT
DTSTART;TZID=America/New_York:20170411T140000
DTEND;TZID=America/New_York:20170411T160000
DTSTAMP:20260425T111125
CREATED:20161216T013746Z
LAST-MODIFIED:20161216T014345Z
UID:762-1491919200-1491926400@www.lifecyclesteam.org
SUMMARY:First ride of the season!!  East Donegal Twp. Riverfront Park\, north of Marietta
DESCRIPTION:
URL:https://www.lifecyclesteam.org/events/first-ride-of-the-season-east-donegal-riverfront-park/
LOCATION:East Donegal Twp. Riverfront Park\, 551 Vinegar Ferry Road\, Marietta\, PA\, 17547\, United States
END:VEVENT
BEGIN:VEVENT
DTSTART;TZID=America/New_York:20170329T143000
DTEND;TZID=America/New_York:20170329T160000
DTSTAMP:20260425T111125
CREATED:20161216T012506Z
LAST-MODIFIED:20170104T210332Z
UID:756-1490797800-1490803200@www.lifecyclesteam.org
SUMMARY:Gym Night at REYS - LAST gym night of the season
DESCRIPTION:
URL:https://www.lifecyclesteam.org/events/gym-night-at-reys-last-one-for-this-winter/
LOCATION:Rainbow’s End Youth Services  (REYS)\, 105 Fairview Street\, Mount Joy\, PA\, 17552\, United States
END:VEVENT
BEGIN:VEVENT
DTSTART;TZID=America/New_York:20170322T143000
DTEND;TZID=America/New_York:20170322T160000
DTSTAMP:20260425T111125
CREATED:20161216T012352Z
LAST-MODIFIED:20161216T012352Z
UID:754-1490193000-1490198400@www.lifecyclesteam.org
SUMMARY:Gym Night at REYS
DESCRIPTION:
URL:https://www.lifecyclesteam.org/events/gym-night-at-reys-6/
LOCATION:Rainbow’s End Youth Services  (REYS)\, 105 Fairview Street\, Mount Joy\, PA\, 17552\, United States
END:VEVENT
BEGIN:VEVENT
DTSTART;TZID=America/New_York:20170315T143000
DTEND;TZID=America/New_York:20170315T160000
DTSTAMP:20260425T111125
CREATED:20161216T012301Z
LAST-MODIFIED:20161216T012301Z
UID:752-1489588200-1489593600@www.lifecyclesteam.org
SUMMARY:Gym Night at REYS
DESCRIPTION:
URL:https://www.lifecyclesteam.org/events/gym-night-at-reys-5/
LOCATION:Rainbow’s End Youth Services  (REYS)\, 105 Fairview Street\, Mount Joy\, PA\, 17552\, United States
END:VEVENT
BEGIN:VEVENT
DTSTART;TZID=America/New_York:20170308T133000
DTEND;TZID=America/New_York:20170308T150000
DTSTAMP:20260425T111125
CREATED:20161216T012018Z
LAST-MODIFIED:20161216T012018Z
UID:749-1488979800-1488985200@www.lifecyclesteam.org
SUMMARY:Gym Night at REYS
DESCRIPTION:
URL:https://www.lifecyclesteam.org/events/gym-night-at-reys-4/
LOCATION:Rainbow’s End Youth Services  (REYS)\, 105 Fairview Street\, Mount Joy\, PA\, 17552\, United States
END:VEVENT
BEGIN:VEVENT
DTSTART;TZID=America/New_York:20170301T133000
DTEND;TZID=America/New_York:20170301T150000
DTSTAMP:20260425T111125
CREATED:20161216T011834Z
LAST-MODIFIED:20161216T011834Z
UID:745-1488375000-1488380400@www.lifecyclesteam.org
SUMMARY:Gym Night at REYS
DESCRIPTION:
URL:https://www.lifecyclesteam.org/events/gym-night-at-reys-3/
LOCATION:Rainbow’s End Youth Services  (REYS)\, 105 Fairview Street\, Mount Joy\, PA\, 17552\, United States
END:VEVENT
BEGIN:VEVENT
DTSTART;TZID=America/New_York:20170222T133000
DTEND;TZID=America/New_York:20170222T150000
DTSTAMP:20260425T111125
CREATED:20161216T011243Z
LAST-MODIFIED:20161216T011316Z
UID:742-1487770200-1487775600@www.lifecyclesteam.org
SUMMARY:Gym Night - different location for this night only - Victory Church
DESCRIPTION:
URL:https://www.lifecyclesteam.org/events/gym-night-different-location-for-this-night-only-victory-church/
LOCATION:Victory Church Greenfield Campus\, 1827 Freedom Road\, Lancaster\, PA\, 17601\, United States
END:VEVENT
BEGIN:VEVENT
DTSTART;TZID=America/New_York:20170216T140000
DTEND;TZID=America/New_York:20170216T153000
DTSTAMP:20260425T111125
CREATED:20170104T212144Z
LAST-MODIFIED:20170104T212144Z
UID:859-1487253600-1487259000@www.lifecyclesteam.org
SUMMARY:Leader meeting
DESCRIPTION:
URL:https://www.lifecyclesteam.org/events/leader-meeting-2/
LOCATION:DeRemer Home\, 6224 Hauser School Road\, York\, PA\, 17406\, United States
END:VEVENT
BEGIN:VEVENT
DTSTART;TZID=America/New_York:20170215T133000
DTEND;TZID=America/New_York:20170215T150000
DTSTAMP:20260425T111125
CREATED:20161216T010525Z
LAST-MODIFIED:20161216T010525Z
UID:738-1487165400-1487170800@www.lifecyclesteam.org
SUMMARY:Gym Night at REYS
DESCRIPTION:
URL:https://www.lifecyclesteam.org/events/gym-night-at-reys-2/
END:VEVENT
BEGIN:VEVENT
DTSTART;TZID=America/New_York:20170208T133000
DTEND;TZID=America/New_York:20170208T150000
DTSTAMP:20260425T111125
CREATED:20161216T010445Z
LAST-MODIFIED:20161216T010445Z
UID:736-1486560600-1486566000@www.lifecyclesteam.org
SUMMARY:Gym Night at REYS
DESCRIPTION:
URL:https://www.lifecyclesteam.org/events/gym-night-at-reys/
LOCATION:Rainbow’s End Youth Services  (REYS)\, 105 Fairview Street\, Mount Joy\, PA\, 17552\, United States
END:VEVENT
BEGIN:VEVENT
DTSTART;TZID=America/New_York:20170204T050000
DTEND;TZID=America/New_York:20170204T070000
DTSTAMP:20260425T111125
CREATED:20161216T010659Z
LAST-MODIFIED:20161216T010659Z
UID:740-1486184400-1486191600@www.lifecyclesteam.org
SUMMARY:Sky Zone - time to be determined
DESCRIPTION:
URL:https://www.lifecyclesteam.org/events/sky-zone-time-to-be-determined/
LOCATION:Sky Zone\, 1701 Hempstead Road\, Lancaster\, 17601\, United States
END:VEVENT
BEGIN:VEVENT
DTSTART;TZID=America/New_York:20170201T133000
DTEND;TZID=America/New_York:20170201T150000
DTSTAMP:20260425T111125
CREATED:20161216T010306Z
LAST-MODIFIED:20161216T010306Z
UID:734-1485955800-1485961200@www.lifecyclesteam.org
SUMMARY:Gym Night at Rainbow's End Youth Services
DESCRIPTION:
URL:https://www.lifecyclesteam.org/events/gym-night-at-rainbows-end-youth-services/
LOCATION:Rainbow’s End Youth Services  (REYS)\, 105 Fairview Street\, Mount Joy\, PA\, 17552\, United States
END:VEVENT
BEGIN:VEVENT
DTSTART;TZID=America/New_York:20170104T140000
DTEND;TZID=America/New_York:20170104T153000
DTSTAMP:20260425T111125
CREATED:20170104T210105Z
LAST-MODIFIED:20170104T210105Z
UID:840-1483538400-1483543800@www.lifecyclesteam.org
SUMMARY:Leader meeting
DESCRIPTION:
URL:https://www.lifecyclesteam.org/events/leader-meeting/
LOCATION:DeRemer Home\, 6224 Hauser School Road\, York\, PA\, 17406\, United States
END:VEVENT
BEGIN:VEVENT
DTSTART;TZID=America/New_York:20161204T090000
DTEND;TZID=America/New_York:20161204T110000
DTSTAMP:20260425T111125
CREATED:20160926T002034Z
LAST-MODIFIED:20160926T002034Z
UID:664-1480842000-1480849200@www.lifecyclesteam.org
SUMMARY:Christmas Party and End of Year Celebration
DESCRIPTION:
URL:https://www.lifecyclesteam.org/events/christmas-party-and-end-of-year-celebration/
LOCATION:Community Fellowship Church\, 200 Bethel Dr.\, Lancaster\, PA\, 17601\, United States
ORGANIZER;CN="LIFECYCLES":MAILTO:director@lifecyclesteam.org
END:VEVENT
BEGIN:VEVENT
DTSTART;TZID=America/New_York:20161116T133000
DTEND;TZID=America/New_York:20161116T150000
DTSTAMP:20260425T111125
CREATED:20160926T001236Z
LAST-MODIFIED:20160926T001236Z
UID:657-1479303000-1479308400@www.lifecyclesteam.org
SUMMARY:GYM NIGHT
DESCRIPTION:
URL:https://www.lifecyclesteam.org/events/gym-night-7/
LOCATION:Rainbow’s End Youth Services  (REYS)\, 105 Fairview Street\, Mount Joy\, PA\, 17552\, United States
ORGANIZER;CN="LIFECYCLES":MAILTO:director@lifecyclesteam.org
END:VEVENT
BEGIN:VEVENT
DTSTART;TZID=America/New_York:20161109T133000
DTEND;TZID=America/New_York:20161109T150000
DTSTAMP:20260425T111125
CREATED:20160926T001157Z
LAST-MODIFIED:20160926T001157Z
UID:655-1478698200-1478703600@www.lifecyclesteam.org
SUMMARY:GYM NIGHT
DESCRIPTION:
URL:https://www.lifecyclesteam.org/events/gym-night-6/
LOCATION:Rainbow’s End Youth Services  (REYS)\, 105 Fairview Street\, Mount Joy\, PA\, 17552\, United States
ORGANIZER;CN="LIFECYCLES":MAILTO:director@lifecyclesteam.org
END:VEVENT
BEGIN:VEVENT
DTSTART;TZID=America/New_York:20161102T143000
DTEND;TZID=America/New_York:20161102T160000
DTSTAMP:20260425T111125
CREATED:20160926T001018Z
LAST-MODIFIED:20160926T001018Z
UID:653-1478097000-1478102400@www.lifecyclesteam.org
SUMMARY:GYM NIGHT
DESCRIPTION:
URL:https://www.lifecyclesteam.org/events/gym-night-5/
LOCATION:Rainbow’s End Youth Services  (REYS)\, 105 Fairview Street\, Mount Joy\, PA\, 17552\, United States
ORGANIZER;CN="LIFECYCLES":MAILTO:director@lifecyclesteam.org
END:VEVENT
BEGIN:VEVENT
DTSTART;TZID=America/New_York:20161029T040000
DTEND;TZID=America/New_York:20161029T130000
DTSTAMP:20260425T111125
CREATED:20160826T225901Z
LAST-MODIFIED:20160826T225901Z
UID:626-1477713600-1477746000@www.lifecyclesteam.org
SUMMARY:Ride day -- destination TBD
DESCRIPTION:
URL:https://www.lifecyclesteam.org/events/ride-day-destination-tbd-2/
END:VEVENT
BEGIN:VEVENT
DTSTART;TZID=America/New_York:20161026T143000
DTEND;TZID=America/New_York:20161026T160000
DTSTAMP:20260425T111125
CREATED:20160926T000424Z
LAST-MODIFIED:20160926T001637Z
UID:643-1477492200-1477497600@www.lifecyclesteam.org
SUMMARY:GYM NIGHT
DESCRIPTION:
URL:https://www.lifecyclesteam.org/events/gym-night/
LOCATION:Rainbow’s End Youth Services  (REYS)\, 105 Fairview Street\, Mount Joy\, PA\, 17552\, United States
ORGANIZER;CN="LIFECYCLES":MAILTO:director@lifecyclesteam.org
END:VEVENT
BEGIN:VEVENT
DTSTART;TZID=America/New_York:20161019T143000
DTEND;TZID=America/New_York:20161019T160000
DTSTAMP:20260425T111125
CREATED:20160926T000913Z
LAST-MODIFIED:20160926T000913Z
UID:651-1476887400-1476892800@www.lifecyclesteam.org
SUMMARY:GYM NIGHT
DESCRIPTION:
URL:https://www.lifecyclesteam.org/events/gym-night-4/
LOCATION:Rainbow’s End Youth Services  (REYS)\, 105 Fairview Street\, Mount Joy\, PA\, 17552\, United States
END:VEVENT
BEGIN:VEVENT
DTSTART;TZID=America/New_York:20161012T143000
DTEND;TZID=America/New_York:20161012T160000
DTSTAMP:20260425T111125
CREATED:20160926T000706Z
LAST-MODIFIED:20160926T000706Z
UID:647-1476282600-1476288000@www.lifecyclesteam.org
SUMMARY:GYM NIGHT
DESCRIPTION:
URL:https://www.lifecyclesteam.org/events/gym-night-2/
LOCATION:Rainbow’s End Youth Services  (REYS)\, 105 Fairview Street\, Mount Joy\, PA\, 17552\, United States
END:VEVENT
BEGIN:VEVENT
DTSTART;TZID=America/New_York:20161007T130000
DTEND;TZID=America/New_York:20161008T170000
DTSTAMP:20260425T111125
CREATED:20160209T214841Z
LAST-MODIFIED:20160209T214841Z
UID:553-1475845200-1475946000@www.lifecyclesteam.org
SUMMARY:Ride:  Seagull Century\, Salisbury\, MD
DESCRIPTION:
URL:https://www.lifecyclesteam.org/events/ride-seagull-century-salisbury-md/
LOCATION:Community Fellowship Church\, 200 Bethel Dr.\, Lancaster\, PA\, 17601\, United States
ORGANIZER;CN="LIFECYCLES":MAILTO:director@lifecyclesteam.org
END:VEVENT
BEGIN:VEVENT
DTSTART;TZID=America/New_York:20161005T143000
DTEND;TZID=America/New_York:20161005T160000
DTSTAMP:20260425T111125
CREATED:20160926T001844Z
LAST-MODIFIED:20160926T001844Z
UID:661-1475677800-1475683200@www.lifecyclesteam.org
SUMMARY:GYM NIGHT
DESCRIPTION:
URL:https://www.lifecyclesteam.org/events/gym-night-3/
LOCATION:Rainbow’s End Youth Services  (REYS)\, 105 Fairview Street\, Mount Joy\, PA\, 17552\, United States
ORGANIZER;CN="LIFECYCLES":MAILTO:director@lifecyclesteam.org
END:VEVENT
BEGIN:VEVENT
DTSTART;TZID=America/New_York:20160927T140000
DTEND;TZID=America/New_York:20160927T160000
DTSTAMP:20260425T111125
CREATED:20160209T214120Z
LAST-MODIFIED:20160902T221715Z
UID:546-1474984800-1474992000@www.lifecyclesteam.org
SUMMARY:Last ride of the season  RIDE:  Marietta Riverfront Park
DESCRIPTION:
URL:https://www.lifecyclesteam.org/events/ride-millersville-freedom-park-20/
LOCATION:East Donegal Twp. Riverfront Park\, 551 Vinegar Ferry Road\, Marietta\, PA\, 17547\, United States
ORGANIZER;CN="LIFECYCLES":MAILTO:director@lifecyclesteam.org
END:VEVENT
END:VCALENDAR