BEGIN:VCALENDAR
VERSION:2.0
PRODID:-// - ECPv6.15.13.1//NONSGML v1.0//EN
CALSCALE:GREGORIAN
METHOD:PUBLISH
X-ORIGINAL-URL:https://www.lifecyclesteam.org
X-WR-CALDESC:Events for 
REFRESH-INTERVAL;VALUE=DURATION:PT1H
X-Robots-Tag:noindex
X-PUBLISHED-TTL:PT1H
BEGIN:VTIMEZONE
TZID:America/New_York
BEGIN:DAYLIGHT
TZOFFSETFROM:-0500
TZOFFSETTO:-0400
TZNAME:EDT
DTSTART:20150308T070000
END:DAYLIGHT
BEGIN:STANDARD
TZOFFSETFROM:-0400
TZOFFSETTO:-0500
TZNAME:EST
DTSTART:20151101T060000
END:STANDARD
BEGIN:DAYLIGHT
TZOFFSETFROM:-0500
TZOFFSETTO:-0400
TZNAME:EDT
DTSTART:20160313T070000
END:DAYLIGHT
BEGIN:STANDARD
TZOFFSETFROM:-0400
TZOFFSETTO:-0500
TZNAME:EST
DTSTART:20161106T060000
END:STANDARD
BEGIN:DAYLIGHT
TZOFFSETFROM:-0500
TZOFFSETTO:-0400
TZNAME:EDT
DTSTART:20170312T070000
END:DAYLIGHT
BEGIN:STANDARD
TZOFFSETFROM:-0400
TZOFFSETTO:-0500
TZNAME:EST
DTSTART:20171105T060000
END:STANDARD
END:VTIMEZONE
BEGIN:VEVENT
DTSTART;TZID=America/New_York:20160920T140000
DTEND;TZID=America/New_York:20160920T160000
DTSTAMP:20260424T044004
CREATED:20160209T214035Z
LAST-MODIFIED:20160523T172609Z
UID:545-1474380000-1474387200@www.lifecyclesteam.org
SUMMARY:Location change!!  RIDE:  Marietta Riverfront Park
DESCRIPTION:
URL:https://www.lifecyclesteam.org/events/ride-millersville-freedom-park-19/
LOCATION:East Donegal Twp. Riverfront Park\, 551 Vinegar Ferry Road\, Marietta\, PA\, 17547\, United States
ORGANIZER;CN="LIFECYCLES":MAILTO:director@lifecyclesteam.org
END:VEVENT
BEGIN:VEVENT
DTSTART;TZID=America/New_York:20160915T140000
DTEND;TZID=America/New_York:20160915T160000
DTSTAMP:20260424T044004
CREATED:20160209T214438Z
LAST-MODIFIED:20160523T174124Z
UID:549-1473948000-1473955200@www.lifecyclesteam.org
SUMMARY:New Location!!  Ride:  Amos Herr Park in Landisville
DESCRIPTION:
URL:https://www.lifecyclesteam.org/events/ride-marietta-riverfront-park-19/
LOCATION:Amos Herr Park\, 1700 Nissley Road\, Landisville\, 17538
ORGANIZER;CN="LIFECYCLES":MAILTO:director@lifecyclesteam.org
END:VEVENT
BEGIN:VEVENT
DTSTART;TZID=America/New_York:20160913T140000
DTEND;TZID=America/New_York:20160913T160000
DTSTAMP:20260424T044004
CREATED:20160209T213932Z
LAST-MODIFIED:20160523T172735Z
UID:544-1473775200-1473782400@www.lifecyclesteam.org
SUMMARY:Location change!!  RIDE:  Marietta Riverfront Park
DESCRIPTION:
URL:https://www.lifecyclesteam.org/events/ride-millersville-freedom-park-18/
LOCATION:East Donegal Twp. Riverfront Park\, 551 Vinegar Ferry Road\, Marietta\, PA\, 17547\, United States
ORGANIZER;CN="LIFECYCLES":MAILTO:director@lifecyclesteam.org
END:VEVENT
BEGIN:VEVENT
DTSTART;VALUE=DATE:20160910
DTEND;VALUE=DATE:20160912
DTSTAMP:20260424T044004
CREATED:20160209T214258Z
LAST-MODIFIED:20160209T214258Z
UID:547-1473537600-1473623999@www.lifecyclesteam.org
SUMMARY:RIDE:  Ride for Education\, Lancaster County
DESCRIPTION:
URL:https://www.lifecyclesteam.org/events/ride-ride-for-education-lancaster-county/
LOCATION:Community Fellowship Church\, 200 Bethel Dr.\, Lancaster\, PA\, 17601\, United States
ORGANIZER;CN="LIFECYCLES":MAILTO:director@lifecyclesteam.org
END:VEVENT
BEGIN:VEVENT
DTSTART;TZID=America/New_York:20160908T140000
DTEND;TZID=America/New_York:20160908T160000
DTSTAMP:20260424T044004
CREATED:20160209T214350Z
LAST-MODIFIED:20160209T214350Z
UID:548-1473343200-1473350400@www.lifecyclesteam.org
SUMMARY:RIDE:  Marietta RIverfront Park
DESCRIPTION:
URL:https://www.lifecyclesteam.org/events/ride-marietta-riverfront-park-18/
LOCATION:East Donegal Twp. Riverfront Park\, 551 Vinegar Ferry Road\, Marietta\, PA\, 17547\, United States
ORGANIZER;CN="LIFECYCLES":MAILTO:director@lifecyclesteam.org
END:VEVENT
BEGIN:VEVENT
DTSTART;TZID=America/New_York:20160906T140000
DTEND;TZID=America/New_York:20160906T160000
DTSTAMP:20260424T044004
CREATED:20160209T213822Z
LAST-MODIFIED:20160523T172812Z
UID:543-1473170400-1473177600@www.lifecyclesteam.org
SUMMARY:Location change!!  RIDE:  Marietta Riverfront Park
DESCRIPTION:
URL:https://www.lifecyclesteam.org/events/ride-millersville-freedom-park-17/
LOCATION:East Donegal Twp. Riverfront Park\, 551 Vinegar Ferry Road\, Marietta\, PA\, 17547\, United States
ORGANIZER;CN="LIFECYCLES":MAILTO:director@lifecyclesteam.org
END:VEVENT
BEGIN:VEVENT
DTSTART;VALUE=DATE:20160821
DTEND;VALUE=DATE:20160905
DTSTAMP:20260424T044004
CREATED:20160313T030446Z
LAST-MODIFIED:20160313T030446Z
UID:582-1471809600-1473019199@www.lifecyclesteam.org
SUMMARY:No rides these 2 weeks as we transition back to school
DESCRIPTION:
URL:https://www.lifecyclesteam.org/events/no-rides-these-2-weeks-as-we-transition-back-to-school/
LOCATION:PA
END:VEVENT
BEGIN:VEVENT
DTSTART;VALUE=DATE:20160820
DTEND;VALUE=DATE:20160822
DTSTAMP:20260424T044004
CREATED:20160209T021531Z
LAST-MODIFIED:20160209T021531Z
UID:542-1471723200-1471809599@www.lifecyclesteam.org
SUMMARY:RIDE:  Lancaster County Covered Bridge Ride
DESCRIPTION:
URL:https://www.lifecyclesteam.org/events/ride-lancaster-county-covered-bridge-ride-2/
LOCATION:Community Fellowship Church\, 200 Bethel Dr.\, Lancaster\, PA\, 17601\, United States
ORGANIZER;CN="LIFECYCLES":MAILTO:director@lifecyclesteam.org
END:VEVENT
BEGIN:VEVENT
DTSTART;TZID=America/New_York:20160818T140000
DTEND;TZID=America/New_York:20160818T163000
DTSTAMP:20260424T044004
CREATED:20160209T020906Z
LAST-MODIFIED:20160523T174014Z
UID:539-1471528800-1471537800@www.lifecyclesteam.org
SUMMARY:Location change!!  Ride:  Amos Herr Park in Landisville
DESCRIPTION:
URL:https://www.lifecyclesteam.org/events/ride-marietta-riverfront-park-16/
LOCATION:Amos Herr Park\, 1700 Nissley Road\, Landisville\, 17538
ORGANIZER;CN="LIFECYCLES":MAILTO:director@lifecyclesteam.org
END:VEVENT
BEGIN:VEVENT
DTSTART;TZID=America/New_York:20160816T140000
DTEND;TZID=America/New_York:20160816T163000
DTSTAMP:20260424T044004
CREATED:20160209T021001Z
LAST-MODIFIED:20160816T220810Z
UID:540-1471356000-1471365000@www.lifecyclesteam.org
SUMMARY:Ride cancelled due to heat index
DESCRIPTION:
URL:https://www.lifecyclesteam.org/events/ride-marietta-riverfront-park-17/
LOCATION:East Donegal Twp. Riverfront Park\, 551 Vinegar Ferry Road\, Marietta\, PA\, 17547\, United States
ORGANIZER;CN="LIFECYCLES":MAILTO:director@lifecyclesteam.org
END:VEVENT
BEGIN:VEVENT
DTSTART;TZID=America/New_York:20160809T140000
DTEND;TZID=America/New_York:20160809T170000
DTSTAMP:20260424T044004
CREATED:20160209T020724Z
LAST-MODIFIED:20160523T174441Z
UID:538-1470751200-1470762000@www.lifecyclesteam.org
SUMMARY:Summer Celebration Picnic
DESCRIPTION:
URL:https://www.lifecyclesteam.org/events/summer-celebration-picnic/
LOCATION:Garman Home\, 2440 Butter Road\, Lancaster\, PA\, 17601
ORGANIZER;CN="LIFECYCLES":MAILTO:director@lifecyclesteam.org
END:VEVENT
BEGIN:VEVENT
DTSTART;VALUE=DATE:20160729
DTEND;VALUE=DATE:20160808
DTSTAMP:20260424T044004
CREATED:20160209T015522Z
LAST-MODIFIED:20160209T021614Z
UID:530-1469822400-1470599999@www.lifecyclesteam.org
SUMMARY:Summer Ride #2 - long ride
DESCRIPTION:
URL:https://www.lifecyclesteam.org/events/summer-ride-2-long-ride/
LOCATION:Community Fellowship Church\, 200 Bethel Dr.\, Lancaster\, PA\, 17601\, United States
ORGANIZER;CN="LIFECYCLES":MAILTO:director@lifecyclesteam.org
END:VEVENT
BEGIN:VEVENT
DTSTART;VALUE=DATE:20160727
DTEND;VALUE=DATE:20160729
DTSTAMP:20260424T044004
CREATED:20160523T173808Z
LAST-MODIFIED:20160523T173855Z
UID:618-1469649600-1469735999@www.lifecyclesteam.org
SUMMARY:No ride - prepping for Summer Ride #2\, departing in 2 days!
DESCRIPTION:
URL:https://www.lifecyclesteam.org/events/no-ride-prepping-for-challenge-ride-departing-in-2-days/
LOCATION:PA
END:VEVENT
BEGIN:VEVENT
DTSTART;TZID=America/New_York:20160726T140000
DTEND;TZID=America/New_York:20160726T163000
DTSTAMP:20260424T044004
CREATED:20160209T020215Z
LAST-MODIFIED:20160523T171726Z
UID:534-1469541600-1469550600@www.lifecyclesteam.org
SUMMARY:Location change!!  RIDE:  Marietta Riverfront Park
DESCRIPTION:
URL:https://www.lifecyclesteam.org/events/ride-millersville-freedom-park-16/
LOCATION:East Donegal Twp. Riverfront Park\, 551 Vinegar Ferry Road\, Marietta\, PA\, 17547\, United States
ORGANIZER;CN="LIFECYCLES":MAILTO:director@lifecyclesteam.org
END:VEVENT
BEGIN:VEVENT
DTSTART;VALUE=DATE:20160715
DTEND;VALUE=DATE:20160724
DTSTAMP:20260424T044004
CREATED:20160209T015855Z
LAST-MODIFIED:20160209T015855Z
UID:531-1468612800-1469303999@www.lifecyclesteam.org
SUMMARY:No LIFECYCLES activities this week
DESCRIPTION:LIFECYCLES director’s vacation is this week therefore no rides from the 16th-23rd.
URL:https://www.lifecyclesteam.org/events/no-lifecycles-activities-this-week/
LOCATION:PA
ORGANIZER;CN="LIFECYCLES":MAILTO:director@lifecyclesteam.org
END:VEVENT
BEGIN:VEVENT
DTSTART;TZID=America/New_York:20160714T140000
DTEND;TZID=America/New_York:20160714T163000
DTSTAMP:20260424T044004
CREATED:20160209T020347Z
LAST-MODIFIED:20160523T173651Z
UID:536-1468504800-1468513800@www.lifecyclesteam.org
SUMMARY:New Location!! Ride:  Amos Herr Park in Landisville
DESCRIPTION:
URL:https://www.lifecyclesteam.org/events/ride-marietta-riverfront-park-15/
LOCATION:Amos Herr Park\, 1700 Nissley Road\, Landisville\, 17538
ORGANIZER;CN="LIFECYCLES":MAILTO:director@lifecyclesteam.org
END:VEVENT
BEGIN:VEVENT
DTSTART;TZID=America/New_York:20160712T140000
DTEND;TZID=America/New_York:20160712T163000
DTSTAMP:20260424T044004
CREATED:20160209T020132Z
LAST-MODIFIED:20160523T172047Z
UID:533-1468332000-1468341000@www.lifecyclesteam.org
SUMMARY:Location change!!  RIDE:  Marietta Riverfront Park
DESCRIPTION:
URL:https://www.lifecyclesteam.org/events/ride-millersville-freedom-park-15/
LOCATION:East Donegal Twp. Riverfront Park\, 551 Vinegar Ferry Road\, Marietta\, PA\, 17547\, United States
ORGANIZER;CN="LIFECYCLES":MAILTO:director@lifecyclesteam.org
END:VEVENT
BEGIN:VEVENT
DTSTART;VALUE=DATE:20160707
DTEND;VALUE=DATE:20160711
DTSTAMP:20260424T044004
CREATED:20160209T014830Z
LAST-MODIFIED:20160209T021701Z
UID:528-1467921600-1468180799@www.lifecyclesteam.org
SUMMARY:Summer Ride #1 - short ride
DESCRIPTION:
URL:https://www.lifecyclesteam.org/events/summer-ride-1-short-ride/
LOCATION:Community Fellowship Church\, 200 Bethel Dr.\, Lancaster\, PA\, 17601\, United States
ORGANIZER;CN="LIFECYCLES":MAILTO:director@lifecyclesteam.org
END:VEVENT
BEGIN:VEVENT
DTSTART;TZID=America/New_York:20160707T140000
DTEND;TZID=America/New_York:20160707T163000
DTSTAMP:20260424T044004
CREATED:20160209T020303Z
LAST-MODIFIED:20160523T173601Z
UID:535-1467900000-1467909000@www.lifecyclesteam.org
SUMMARY:New Location!! Ride:  Amos Herr Park in Landisville
DESCRIPTION:
URL:https://www.lifecyclesteam.org/events/ride-marietta-riverfront-park-14/
LOCATION:Amos Herr Park\, 1700 Nissley Road\, Landisville\, 17538
ORGANIZER;CN="LIFECYCLES":MAILTO:director@lifecyclesteam.org
END:VEVENT
BEGIN:VEVENT
DTSTART;TZID=America/New_York:20160705T140000
DTEND;TZID=America/New_York:20160705T163000
DTSTAMP:20260424T044004
CREATED:20160209T020043Z
LAST-MODIFIED:20160523T171946Z
UID:532-1467727200-1467736200@www.lifecyclesteam.org
SUMMARY:Location change!!  RIDE:  Marietta Riverfront Park
DESCRIPTION:
URL:https://www.lifecyclesteam.org/events/ride-millersville-freedom-park-14/
LOCATION:East Donegal Twp. Riverfront Park\, 551 Vinegar Ferry Road\, Marietta\, PA\, 17547\, United States
ORGANIZER;CN="LIFECYCLES":MAILTO:director@lifecyclesteam.org
END:VEVENT
BEGIN:VEVENT
DTSTART;TZID=America/New_York:20160630T140000
DTEND;TZID=America/New_York:20160630T163000
DTSTAMP:20260424T044004
CREATED:20160209T012435Z
LAST-MODIFIED:20160523T173450Z
UID:519-1467295200-1467304200@www.lifecyclesteam.org
SUMMARY:New Location!! Ride:  Amos Herr Park in Landisville
DESCRIPTION:
URL:https://www.lifecyclesteam.org/events/ride-marietta-riverfront-park-13/
LOCATION:Amos Herr Park\, 1700 Nissley Road\, Landisville\, 17538
ORGANIZER;CN="LIFECYCLES":MAILTO:director@lifecyclesteam.org
END:VEVENT
BEGIN:VEVENT
DTSTART;TZID=America/New_York:20160628T140000
DTEND;TZID=America/New_York:20160628T153000
DTSTAMP:20260424T044004
CREATED:20160209T012931Z
LAST-MODIFIED:20160629T004754Z
UID:523-1467122400-1467127800@www.lifecyclesteam.org
SUMMARY:RIDE CANCELLED DUE TO SEVERE WEATHER
DESCRIPTION:
URL:https://www.lifecyclesteam.org/events/ride-millersville-freedom-park-13/
LOCATION:East Donegal Twp. Riverfront Park\, 551 Vinegar Ferry Road\, Marietta\, PA\, 17547\, United States
ORGANIZER;CN="LIFECYCLES":MAILTO:director@lifecyclesteam.org
END:VEVENT
BEGIN:VEVENT
DTSTART;TZID=America/New_York:20160623T140000
DTEND;TZID=America/New_York:20160623T163000
DTSTAMP:20260424T044004
CREATED:20160209T012349Z
LAST-MODIFIED:20160523T173411Z
UID:518-1466690400-1466699400@www.lifecyclesteam.org
SUMMARY:New Location!! Ride:  Amos Herr Park in Landisville
DESCRIPTION:
URL:https://www.lifecyclesteam.org/events/ride-marietta-riverfront-park-12/
LOCATION:Amos Herr Park\, 1700 Nissley Road\, Landisville\, 17538
ORGANIZER;CN="LIFECYCLES":MAILTO:director@lifecyclesteam.org
END:VEVENT
BEGIN:VEVENT
DTSTART;TZID=America/New_York:20160621T140000
DTEND;TZID=America/New_York:20160621T163000
DTSTAMP:20260424T044004
CREATED:20160209T012841Z
LAST-MODIFIED:20160523T171826Z
UID:522-1466517600-1466526600@www.lifecyclesteam.org
SUMMARY:Location change!!  RIDE:  Marietta Riverfront Park
DESCRIPTION:
URL:https://www.lifecyclesteam.org/events/ride-millersville-freedom-park-12/
LOCATION:East Donegal Twp. Riverfront Park\, 551 Vinegar Ferry Road\, Marietta\, PA\, 17547\, United States
ORGANIZER;CN="LIFECYCLES":MAILTO:director@lifecyclesteam.org
END:VEVENT
BEGIN:VEVENT
DTSTART;TZID=America/New_York:20160618T040000
DTEND;TZID=America/New_York:20160618T130000
DTSTAMP:20260424T044004
CREATED:20160209T014141Z
LAST-MODIFIED:20160523T173525Z
UID:527-1466222400-1466254800@www.lifecyclesteam.org
SUMMARY:RIDE:  Cycle the Solstice Ride\, York County
DESCRIPTION:
URL:https://www.lifecyclesteam.org/events/ride-summer-solstice-ride-york-county/
LOCATION:Community Fellowship Church\, 200 Bethel Dr.\, Lancaster\, PA\, 17601\, United States
ORGANIZER;CN="LIFECYCLES":MAILTO:director@lifecyclesteam.org
END:VEVENT
BEGIN:VEVENT
DTSTART;TZID=America/New_York:20160616T140000
DTEND;TZID=America/New_York:20160616T163000
DTSTAMP:20260424T044004
CREATED:20160209T012303Z
LAST-MODIFIED:20160616T214551Z
UID:517-1466085600-1466094600@www.lifecyclesteam.org
SUMMARY:RIDE CANCELLED DUE TO RAIN
DESCRIPTION:RIDE CANCELLED DUE TO RAIN
URL:https://www.lifecyclesteam.org/events/ride-marietta-riverfront-park-11/
LOCATION:Amos Herr Park\, 1700 Nissley Road\, Landisville\, 17538
ORGANIZER;CN="LIFECYCLES":MAILTO:director@lifecyclesteam.org
END:VEVENT
BEGIN:VEVENT
DTSTART;TZID=America/New_York:20160614T140000
DTEND;TZID=America/New_York:20160614T163000
DTSTAMP:20260424T044004
CREATED:20160209T012710Z
LAST-MODIFIED:20160523T171539Z
UID:521-1465912800-1465921800@www.lifecyclesteam.org
SUMMARY:Location change!!  RIDE:  Marietta Riverfront Park
DESCRIPTION:
URL:https://www.lifecyclesteam.org/events/ride-millersville-freedom-park-11/
LOCATION:East Donegal Twp. Riverfront Park\, 551 Vinegar Ferry Road\, Marietta\, PA\, 17547\, United States
ORGANIZER;CN="LIFECYCLES":MAILTO:director@lifecyclesteam.org
END:VEVENT
BEGIN:VEVENT
DTSTART;TZID=America/New_York:20160609T140000
DTEND;TZID=America/New_York:20160609T163000
DTSTAMP:20260424T044004
CREATED:20160209T012219Z
LAST-MODIFIED:20160209T012219Z
UID:516-1465480800-1465489800@www.lifecyclesteam.org
SUMMARY:RIDE:  Marietta RIverfront Park
DESCRIPTION:
URL:https://www.lifecyclesteam.org/events/ride-marietta-riverfront-park-10/
LOCATION:East Donegal Twp. Riverfront Park\, 551 Vinegar Ferry Road\, Marietta\, PA\, 17547\, United States
ORGANIZER;CN="LIFECYCLES":MAILTO:director@lifecyclesteam.org
END:VEVENT
BEGIN:VEVENT
DTSTART;TZID=America/New_York:20160607T140000
DTEND;TZID=America/New_York:20160607T163000
DTSTAMP:20260424T044004
CREATED:20160209T012543Z
LAST-MODIFIED:20160523T171445Z
UID:520-1465308000-1465317000@www.lifecyclesteam.org
SUMMARY:Location change!!  RIDE:  Marietta Riverfront Park
DESCRIPTION:
URL:https://www.lifecyclesteam.org/events/ride-millersville-freedom-park-10/
LOCATION:East Donegal Twp. Riverfront Park\, 551 Vinegar Ferry Road\, Marietta\, PA\, 17547\, United States
ORGANIZER;CN="LIFECYCLES":MAILTO:director@lifecyclesteam.org
END:VEVENT
BEGIN:VEVENT
DTSTART;TZID=America/New_York:20160604T040000
DTEND;TZID=America/New_York:20160604T120000
DTSTAMP:20260424T044004
CREATED:20160209T013947Z
LAST-MODIFIED:20160502T172851Z
UID:526-1465012800-1465041600@www.lifecyclesteam.org
SUMMARY:RIDE:  TBD
DESCRIPTION:
URL:https://www.lifecyclesteam.org/events/ride-york-rail-trail-to-hunt-valley-md/
LOCATION:Community Fellowship Church\, 200 Bethel Dr.\, Lancaster\, PA\, 17601\, United States
END:VEVENT
END:VCALENDAR