BEGIN:VCALENDAR
VERSION:2.0
PRODID:-// - ECPv6.15.13.1//NONSGML v1.0//EN
CALSCALE:GREGORIAN
METHOD:PUBLISH
X-ORIGINAL-URL:https://www.lifecyclesteam.org
X-WR-CALDESC:Events for 
REFRESH-INTERVAL;VALUE=DURATION:PT1H
X-Robots-Tag:noindex
X-PUBLISHED-TTL:PT1H
BEGIN:VTIMEZONE
TZID:America/New_York
BEGIN:DAYLIGHT
TZOFFSETFROM:-0500
TZOFFSETTO:-0400
TZNAME:EDT
DTSTART:20150308T070000
END:DAYLIGHT
BEGIN:STANDARD
TZOFFSETFROM:-0400
TZOFFSETTO:-0500
TZNAME:EST
DTSTART:20151101T060000
END:STANDARD
BEGIN:DAYLIGHT
TZOFFSETFROM:-0500
TZOFFSETTO:-0400
TZNAME:EDT
DTSTART:20160313T070000
END:DAYLIGHT
BEGIN:STANDARD
TZOFFSETFROM:-0400
TZOFFSETTO:-0500
TZNAME:EST
DTSTART:20161106T060000
END:STANDARD
BEGIN:DAYLIGHT
TZOFFSETFROM:-0500
TZOFFSETTO:-0400
TZNAME:EDT
DTSTART:20170312T070000
END:DAYLIGHT
BEGIN:STANDARD
TZOFFSETFROM:-0400
TZOFFSETTO:-0500
TZNAME:EST
DTSTART:20171105T060000
END:STANDARD
END:VTIMEZONE
BEGIN:VEVENT
DTSTART;TZID=America/New_York:20160505T140000
DTEND;TZID=America/New_York:20160505T163000
DTSTAMP:20260424T104123
CREATED:20160209T000645Z
LAST-MODIFIED:20160209T000645Z
UID:492-1462456800-1462465800@www.lifecyclesteam.org
SUMMARY:RIDE:  Marietta Riverfront Park
DESCRIPTION:
URL:https://www.lifecyclesteam.org/events/ride-marietta-riverfront-park-2/
LOCATION:East Donegal Twp. Riverfront Park\, 551 Vinegar Ferry Road\, Marietta\, PA\, 17547\, United States
ORGANIZER;CN="LIFECYCLES":MAILTO:director@lifecyclesteam.org
END:VEVENT
BEGIN:VEVENT
DTSTART;TZID=America/New_York:20160503T140000
DTEND;TZID=America/New_York:20160503T163000
DTSTAMP:20260424T104123
CREATED:20160209T000500Z
LAST-MODIFIED:20160209T003821Z
UID:491-1462284000-1462293000@www.lifecyclesteam.org
SUMMARY:RIDE:  Millersville Freedom Park
DESCRIPTION:
URL:https://www.lifecyclesteam.org/events/ride-millersville-freedom-park-2/
LOCATION:Freedom Memorial Park\, Millersville\, PA\, 17551\, United States
ORGANIZER;CN="LIFECYCLES":MAILTO:director@lifecyclesteam.org
END:VEVENT
BEGIN:VEVENT
DTSTART;TZID=America/New_York:20160501T060000
DTEND;TZID=America/New_York:20160501T130000
DTSTAMP:20260424T104123
CREATED:20160209T001208Z
LAST-MODIFIED:20160209T001231Z
UID:493-1462082400-1462107600@www.lifecyclesteam.org
SUMMARY:Lancaster Barnstormers Service Opportunity
DESCRIPTION:
URL:https://www.lifecyclesteam.org/events/lancaster-barnstormers/
LOCATION:Clipper Stadium\, 650 North Prince Street\, Lancaster\, PA\, 17603\, United States
END:VEVENT
BEGIN:VEVENT
DTSTART;TZID=America/New_York:20160430T040000
DTEND;TZID=America/New_York:20160430T140000
DTSTAMP:20260424T104123
CREATED:20160208T090803Z
LAST-MODIFIED:20160208T090803Z
UID:470-1461988800-1462024800@www.lifecyclesteam.org
SUMMARY:RIDE:  Lancaster to Philadelphia
DESCRIPTION:
URL:https://www.lifecyclesteam.org/events/ride-lancaster-to-philadelphia/
LOCATION:Community Fellowship Church\, 200 Bethel Dr.\, Lancaster\, PA\, 17601\, United States
ORGANIZER;CN="LIFECYCLES":MAILTO:director@lifecyclesteam.org
END:VEVENT
BEGIN:VEVENT
DTSTART;TZID=America/New_York:20160428T140000
DTEND;TZID=America/New_York:20160428T160000
DTSTAMP:20260424T104123
CREATED:20160209T005743Z
LAST-MODIFIED:20160429T000434Z
UID:507-1461852000-1461859200@www.lifecyclesteam.org
SUMMARY:RIDE:  Marietta Riverfront Park  --  Cancelled due to weather
DESCRIPTION:
URL:https://www.lifecyclesteam.org/events/ride-marietta-riverfront-park-5/
LOCATION:East Donegal Twp. Riverfront Park\, 551 Vinegar Ferry Road\, Marietta\, PA\, 17547\, United States
ORGANIZER;CN="LIFECYCLES":MAILTO:director@lifecyclesteam.org
END:VEVENT
BEGIN:VEVENT
DTSTART;TZID=America/New_York:20160426T140000
DTEND;TZID=America/New_York:20160426T160000
DTSTAMP:20260424T104123
CREATED:20160209T005503Z
LAST-MODIFIED:20160209T005503Z
UID:504-1461679200-1461686400@www.lifecyclesteam.org
SUMMARY:RIDE:  Millersville Freedom Park
DESCRIPTION:
URL:https://www.lifecyclesteam.org/events/ride-millersville-freedom-park-5/
LOCATION:Freedom Memorial Park\, Millersville\, PA\, 17551\, United States
ORGANIZER;CN="LIFECYCLES":MAILTO:director@lifecyclesteam.org
END:VEVENT
BEGIN:VEVENT
DTSTART;TZID=America/New_York:20160421T140000
DTEND;TZID=America/New_York:20160421T160000
DTSTAMP:20260424T104123
CREATED:20160209T005659Z
LAST-MODIFIED:20160209T005659Z
UID:506-1461247200-1461254400@www.lifecyclesteam.org
SUMMARY:RIDE:  Marietta Riverfront Park
DESCRIPTION:
URL:https://www.lifecyclesteam.org/events/ride-marietta-riverfront-park-4/
LOCATION:East Donegal Twp. Riverfront Park\, 551 Vinegar Ferry Road\, Marietta\, PA\, 17547\, United States
ORGANIZER;CN="LIFECYCLES":MAILTO:director@lifecyclesteam.org
END:VEVENT
BEGIN:VEVENT
DTSTART;TZID=America/New_York:20160419T140000
DTEND;TZID=America/New_York:20160419T160000
DTSTAMP:20260424T104123
CREATED:20160209T005413Z
LAST-MODIFIED:20160209T005413Z
UID:503-1461074400-1461081600@www.lifecyclesteam.org
SUMMARY:RIDE:  Millersville Freedom Park
DESCRIPTION:
URL:https://www.lifecyclesteam.org/events/ride-millersville-freedom-park-4/
LOCATION:Freedom Memorial Park\, Millersville\, PA\, 17551\, United States
ORGANIZER;CN="LIFECYCLES":MAILTO:director@lifecyclesteam.org
END:VEVENT
BEGIN:VEVENT
DTSTART;TZID=America/New_York:20160416T040000
DTEND;TZID=America/New_York:20160416T120000
DTSTAMP:20260424T104123
CREATED:20160208T083122Z
LAST-MODIFIED:20160209T215129Z
UID:466-1460779200-1460808000@www.lifecyclesteam.org
SUMMARY:Gettysburg Battlefield Tour
DESCRIPTION:This is a walking/driving tour\, not a bicycling trip.
URL:https://www.lifecyclesteam.org/events/ride/
LOCATION:Community Fellowship Church\, 200 Bethel Dr.\, Lancaster\, PA\, 17601\, United States
ORGANIZER;CN="LIFECYCLES":MAILTO:director@lifecyclesteam.org
END:VEVENT
BEGIN:VEVENT
DTSTART;TZID=America/New_York:20160414T140000
DTEND;TZID=America/New_York:20160414T160000
DTSTAMP:20260424T104123
CREATED:20160209T005616Z
LAST-MODIFIED:20160209T005616Z
UID:505-1460642400-1460649600@www.lifecyclesteam.org
SUMMARY:RIDE:  Marietta RIverfront Park
DESCRIPTION:
URL:https://www.lifecyclesteam.org/events/ride-marietta-riverfront-park-3/
LOCATION:East Donegal Twp. Riverfront Park\, 551 Vinegar Ferry Road\, Marietta\, PA\, 17547\, United States
ORGANIZER;CN="LIFECYCLES":MAILTO:director@lifecyclesteam.org
END:VEVENT
BEGIN:VEVENT
DTSTART;TZID=America/New_York:20160412T140000
DTEND;TZID=America/New_York:20160412T160000
DTSTAMP:20260424T104123
CREATED:20160209T005240Z
LAST-MODIFIED:20160209T005240Z
UID:502-1460469600-1460476800@www.lifecyclesteam.org
SUMMARY:RIDE:  Millersville Freedom Park
DESCRIPTION:
URL:https://www.lifecyclesteam.org/events/ride-millersville-freedom-park-3/
LOCATION:Freedom Memorial Park\, Millersville\, PA\, 17551\, United States
ORGANIZER;CN="LIFECYCLES":MAILTO:director@lifecyclesteam.org
END:VEVENT
BEGIN:VEVENT
DTSTART;TZID=America/New_York:20160407T140000
DTEND;TZID=America/New_York:20160407T160000
DTSTAMP:20260424T104123
CREATED:20160209T000210Z
LAST-MODIFIED:20160407T020202Z
UID:490-1460037600-1460044800@www.lifecyclesteam.org
SUMMARY:RIDE:  Marietta Riverfront Park  -  1st ride of the season!  CANCELLED DUE TO WEATHER
DESCRIPTION:
URL:https://www.lifecyclesteam.org/events/ride-marietta-riverfront-park/
LOCATION:East Donegal Twp. Riverfront Park\, 551 Vinegar Ferry Road\, Marietta\, PA\, 17547\, United States
ORGANIZER;CN="LIFECYCLES":MAILTO:director@lifecyclesteam.org
END:VEVENT
BEGIN:VEVENT
DTSTART;TZID=America/New_York:20160331T140000
DTEND;TZID=America/New_York:20160331T130000
DTSTAMP:20260424T104123
CREATED:20160209T004710Z
LAST-MODIFIED:20160209T004710Z
UID:500-1459432800-1459429200@www.lifecyclesteam.org
SUMMARY:YMCA Workout
DESCRIPTION:
URL:https://www.lifecyclesteam.org/events/ymca-workout-14/
LOCATION:Lancaster-Strasburg YMCA\, 265 Harrisburg Ave.\, Lancaster\, PA\, 17603\, United States
ORGANIZER;CN="LIFECYCLES":MAILTO:director@lifecyclesteam.org
END:VEVENT
BEGIN:VEVENT
DTSTART;TZID=America/New_York:20160329T140000
DTEND;TZID=America/New_York:20160329T160000
DTSTAMP:20260424T104123
CREATED:20160209T004641Z
LAST-MODIFIED:20160209T004641Z
UID:499-1459260000-1459267200@www.lifecyclesteam.org
SUMMARY:YMCA Workout
DESCRIPTION:
URL:https://www.lifecyclesteam.org/events/ymca-workout-13/
LOCATION:Lancaster-Strasburg YMCA\, 265 Harrisburg Ave.\, Lancaster\, PA\, 17603\, United States
ORGANIZER;CN="LIFECYCLES":MAILTO:director@lifecyclesteam.org
END:VEVENT
BEGIN:VEVENT
DTSTART;TZID=America/New_York:20160324T140000
DTEND;TZID=America/New_York:20160324T160000
DTSTAMP:20260424T104123
CREATED:20160209T004532Z
LAST-MODIFIED:20160209T004532Z
UID:498-1458828000-1458835200@www.lifecyclesteam.org
SUMMARY:YMCA Workout
DESCRIPTION:
URL:https://www.lifecyclesteam.org/events/ymca-workout-12/
LOCATION:Lancaster-Strasburg YMCA\, 265 Harrisburg Ave.\, Lancaster\, PA\, 17603\, United States
ORGANIZER;CN="LIFECYCLES":MAILTO:director@lifecyclesteam.org
END:VEVENT
BEGIN:VEVENT
DTSTART;TZID=America/New_York:20160322T140000
DTEND;TZID=America/New_York:20160322T160000
DTSTAMP:20260424T104123
CREATED:20160209T004404Z
LAST-MODIFIED:20160209T004404Z
UID:497-1458655200-1458662400@www.lifecyclesteam.org
SUMMARY:YMCA Workout
DESCRIPTION:
URL:https://www.lifecyclesteam.org/events/ymca-workout-11/
LOCATION:Lancaster-Strasburg YMCA\, 265 Harrisburg Ave.\, Lancaster\, PA\, 17603\, United States
ORGANIZER;CN="LIFECYCLES":MAILTO:director@lifecyclesteam.org
END:VEVENT
BEGIN:VEVENT
DTSTART;TZID=America/New_York:20160317T140000
DTEND;TZID=America/New_York:20160317T160000
DTSTAMP:20260424T104123
CREATED:20160209T004316Z
LAST-MODIFIED:20160209T004316Z
UID:496-1458223200-1458230400@www.lifecyclesteam.org
SUMMARY:YMCA Workout
DESCRIPTION:Workout
URL:https://www.lifecyclesteam.org/events/ymca-workout-10/
LOCATION:Lancaster-Strasburg YMCA\, 265 Harrisburg Ave.\, Lancaster\, PA\, 17603\, United States
ORGANIZER;CN="LIFECYCLES":MAILTO:director@lifecyclesteam.org
END:VEVENT
BEGIN:VEVENT
DTSTART;TZID=America/New_York:20160315T140000
DTEND;TZID=America/New_York:20160315T160000
DTSTAMP:20260424T104123
CREATED:20160209T004143Z
LAST-MODIFIED:20160209T004143Z
UID:495-1458050400-1458057600@www.lifecyclesteam.org
SUMMARY:YMCA Workout
DESCRIPTION:
URL:https://www.lifecyclesteam.org/events/ymca-workout-9/
LOCATION:Lancaster-Strasburg YMCA\, 265 Harrisburg Ave.\, Lancaster\, PA\, 17603\, United States
ORGANIZER;CN="LIFECYCLES":MAILTO:director@lifecyclesteam.org
END:VEVENT
BEGIN:VEVENT
DTSTART;TZID=America/New_York:20160312T044500
DTEND;TZID=America/New_York:20160312T070000
DTSTAMP:20260424T104123
CREATED:20160208T235318Z
LAST-MODIFIED:20160208T235318Z
UID:486-1457757900-1457766000@www.lifecyclesteam.org
SUMMARY:Sky Zone
DESCRIPTION:
URL:https://www.lifecyclesteam.org/events/sky-zone/
LOCATION:Sky Zone\, 1701 Hempstead Road\, Lancaster\, 17601\, United States
ORGANIZER;CN="LIFECYCLES":MAILTO:director@lifecyclesteam.org
END:VEVENT
BEGIN:VEVENT
DTSTART;TZID=America/New_York:20160310T013000
DTEND;TZID=America/New_York:20160310T150000
DTSTAMP:20260424T104123
CREATED:20160208T234045Z
LAST-MODIFIED:20160208T234045Z
UID:485-1457573400-1457622000@www.lifecyclesteam.org
SUMMARY:YMCA Workout
DESCRIPTION:
URL:https://www.lifecyclesteam.org/events/ymca-workout-8/
LOCATION:Lancaster-Strasburg YMCA\, 265 Harrisburg Ave.\, Lancaster\, PA\, 17603\, United States
ORGANIZER;CN="LIFECYCLES":MAILTO:director@lifecyclesteam.org
END:VEVENT
BEGIN:VEVENT
DTSTART;TZID=America/New_York:20160308T013000
DTEND;TZID=America/New_York:20160308T150000
DTSTAMP:20260424T104123
CREATED:20160208T233925Z
LAST-MODIFIED:20160208T233925Z
UID:484-1457400600-1457449200@www.lifecyclesteam.org
SUMMARY:YMCA Workout
DESCRIPTION:
URL:https://www.lifecyclesteam.org/events/ymca-workout-7/
LOCATION:Lancaster-Strasburg YMCA\, 265 Harrisburg Ave.\, Lancaster\, PA\, 17603\, United States
ORGANIZER;CN="LIFECYCLES":MAILTO:director@lifecyclesteam.org
END:VEVENT
BEGIN:VEVENT
DTSTART;TZID=America/New_York:20160303T133000
DTEND;TZID=America/New_York:20160303T150000
DTSTAMP:20260424T104123
CREATED:20160208T233444Z
LAST-MODIFIED:20160224T225402Z
UID:483-1457011800-1457017200@www.lifecyclesteam.org
SUMMARY:YMCA Workout  -  CANCELLED
DESCRIPTION: 
URL:https://www.lifecyclesteam.org/events/ymca-workout-6/
LOCATION:Lancaster-Strasburg YMCA\, 265 Harrisburg Ave.\, Lancaster\, PA\, 17603\, United States
ORGANIZER;CN="LIFECYCLES":MAILTO:director@lifecyclesteam.org
END:VEVENT
BEGIN:VEVENT
DTSTART;TZID=America/New_York:20160301T133000
DTEND;TZID=America/New_York:20160301T150000
DTSTAMP:20260424T104123
CREATED:20160208T233231Z
LAST-MODIFIED:20160208T233231Z
UID:482-1456839000-1456844400@www.lifecyclesteam.org
SUMMARY:YMCA Workout
DESCRIPTION:
URL:https://www.lifecyclesteam.org/events/ymca-workout-5/
LOCATION:Lancaster-Strasburg YMCA\, 265 Harrisburg Ave.\, Lancaster\, PA\, 17603\, United States
ORGANIZER;CN="LIFECYCLES":MAILTO:director@lifecyclesteam.org
END:VEVENT
BEGIN:VEVENT
DTSTART;TZID=America/New_York:20160225T133000
DTEND;TZID=America/New_York:20160225T150000
DTSTAMP:20260424T104123
CREATED:20160208T232107Z
LAST-MODIFIED:20160224T225323Z
UID:479-1456407000-1456412400@www.lifecyclesteam.org
SUMMARY:YMCA Workout  -  CANCELLED
DESCRIPTION:
URL:https://www.lifecyclesteam.org/events/ymca-workout-4/
LOCATION:Lancaster-Strasburg YMCA\, 265 Harrisburg Ave.\, Lancaster\, PA\, 17603\, United States
ORGANIZER;CN="LIFECYCLES":MAILTO:director@lifecyclesteam.org
END:VEVENT
BEGIN:VEVENT
DTSTART;TZID=America/New_York:20160223T133000
DTEND;TZID=America/New_York:20160223T150000
DTSTAMP:20260424T104123
CREATED:20160208T231954Z
LAST-MODIFIED:20160208T231954Z
UID:478-1456234200-1456239600@www.lifecyclesteam.org
SUMMARY:YMCA Workout
DESCRIPTION:
URL:https://www.lifecyclesteam.org/events/ymca-workout-3/
LOCATION:Lancaster-Strasburg YMCA\, 265 Harrisburg Ave.\, Lancaster\, PA\, 17603\, United States
ORGANIZER;CN="LIFECYCLES":MAILTO:director@lifecyclesteam.org
END:VEVENT
BEGIN:VEVENT
DTSTART;TZID=America/New_York:20160220T074500
DTEND;TZID=America/New_York:20160220T094500
DTSTAMP:20260424T104123
CREATED:20160208T232827Z
LAST-MODIFIED:20160208T232827Z
UID:480-1455954300-1455961500@www.lifecyclesteam.org
SUMMARY:Laser Tag
DESCRIPTION:
URL:https://www.lifecyclesteam.org/events/laser-tag/
LOCATION:Laser Dome\, 2050 Auction Road\, Manheim\, PA\, 17545\, United States
END:VEVENT
BEGIN:VEVENT
DTSTART;TZID=America/New_York:20160218T133000
DTEND;TZID=America/New_York:20160218T150000
DTSTAMP:20260424T104123
CREATED:20160208T231802Z
LAST-MODIFIED:20160208T231802Z
UID:477-1455802200-1455807600@www.lifecyclesteam.org
SUMMARY:YMCA Workout
DESCRIPTION:
URL:https://www.lifecyclesteam.org/events/ymca-workout-2/
LOCATION:Lancaster-Strasburg YMCA\, 265 Harrisburg Ave.\, Lancaster\, PA\, 17603\, United States
ORGANIZER;CN="LIFECYCLES":MAILTO:director@lifecyclesteam.org
END:VEVENT
BEGIN:VEVENT
DTSTART;TZID=America/New_York:20160216T133000
DTEND;TZID=America/New_York:20160216T150000
DTSTAMP:20260424T104123
CREATED:20160208T231632Z
LAST-MODIFIED:20160208T231632Z
UID:476-1455629400-1455634800@www.lifecyclesteam.org
SUMMARY:YMCA Workout
DESCRIPTION:
URL:https://www.lifecyclesteam.org/events/ymca-workout/
LOCATION:Lancaster-Strasburg YMCA\, 265 Harrisburg Ave.\, Lancaster\, PA\, 17603\, United States
ORGANIZER;CN="LIFECYCLES":MAILTO:director@lifecyclesteam.org
END:VEVENT
BEGIN:VEVENT
DTSTART;TZID=America/New_York:20160211T133000
DTEND;TZID=America/New_York:20160211T150000
DTSTAMP:20260424T104123
CREATED:20160208T081425Z
LAST-MODIFIED:20160208T231316Z
UID:465-1455197400-1455202800@www.lifecyclesteam.org
SUMMARY:YMCA Workout
DESCRIPTION:
URL:https://www.lifecyclesteam.org/events/workout-2/
LOCATION:Lancaster-Strasburg YMCA\, 265 Harrisburg Ave.\, Lancaster\, PA\, 17603\, United States
ORGANIZER;CN="LIFECYCLES":MAILTO:director@lifecyclesteam.org
END:VEVENT
BEGIN:VEVENT
DTSTART;TZID=America/New_York:20160209T183000
DTEND;TZID=America/New_York:20160209T200000
DTSTAMP:20260424T104123
CREATED:20160208T075159Z
LAST-MODIFIED:20160209T205459Z
UID:442-1455042600-1455048000@www.lifecyclesteam.org
SUMMARY:YMCA Workout - CANCELLED DUE TO SNOW
DESCRIPTION: 
URL:https://www.lifecyclesteam.org/events/workout/
LOCATION:Lancaster-Strasburg YMCA\, 265 Harrisburg Ave.\, Lancaster\, PA\, 17603\, United States
ORGANIZER;CN="LIFECYCLES":MAILTO:director@lifecyclesteam.org
END:VEVENT
END:VCALENDAR